BEGIN:VCALENDAR
VERSION:2.0
PRODID:-//UM//UM*Events//EN
CALSCALE:GREGORIAN
BEGIN:VTIMEZONE
TZID:America/Detroit
TZURL:http://tzurl.org/zoneinfo/America/Detroit
X-LIC-LOCATION:America/Detroit
BEGIN:DAYLIGHT
TZOFFSETFROM:-0500
TZOFFSETTO:-0400
TZNAME:EDT
DTSTART:20070311T020000
RRULE:FREQ=YEARLY;BYMONTH=3;BYDAY=2SU
END:DAYLIGHT
BEGIN:STANDARD
TZOFFSETFROM:-0400
TZOFFSETTO:-0500
TZNAME:EST
DTSTART:20071104T020000
RRULE:FREQ=YEARLY;BYMONTH=11;BYDAY=1SU
END:STANDARD
END:VTIMEZONE
BEGIN:VEVENT
DTSTAMP:20260421T132504
DTSTART;TZID=America/Detroit:20260623T200000
DTEND;TZID=America/Detroit:20260623T210000
SUMMARY:Livestream / Virtual:Post-Orientation Sessions for First-Generation Students
DESCRIPTION:Are you a first-generation college student\, meaning none of your parents or guardians has completed a 4-year college or university degree? Have you attended your virtual academic advising date? If you’ve answered “yes” to both of these questions\, we are excited to invite you to our upcoming virtual informational sessions for incoming first-generation students!\n\nDuring this session\, you will learn more about the LSA Newnan Academic Advising Center and how advisors can assist you in completing your LSA degree requirements. Newnan advisors will also provide helpful information and advice regarding your first semester (and beyond) in the College of LSA and answer any questions you may have after completing your virtual academic advising session.
UID:147891-21902337@events.umich.edu
URL:https://events.umich.edu/event/147891
CLASS:PUBLIC
STATUS:CONFIRMED
CATEGORIES:Advising,First Generation,First-gen,First-generation,First-generation Students,Newnan,Newnan Academic Advising,Newnan Lsa Academic Advising Center
LOCATION:Off Campus Location
CONTACT:
END:VEVENT
END:VCALENDAR