BEGIN:VCALENDAR
VERSION:2.0
PRODID:-//UM//UM*Events//EN
CALSCALE:GREGORIAN
BEGIN:VTIMEZONE
TZID:America/Detroit
TZURL:http://tzurl.org/zoneinfo/America/Detroit
X-LIC-LOCATION:America/Detroit
BEGIN:DAYLIGHT
TZOFFSETFROM:-0500
TZOFFSETTO:-0400
TZNAME:EDT
DTSTART:20070311T020000
RRULE:FREQ=YEARLY;BYMONTH=3;BYDAY=2SU
END:DAYLIGHT
BEGIN:STANDARD
TZOFFSETFROM:-0400
TZOFFSETTO:-0500
TZNAME:EST
DTSTART:20071104T020000
RRULE:FREQ=YEARLY;BYMONTH=11;BYDAY=1SU
END:STANDARD
END:VTIMEZONE
BEGIN:VEVENT
DTSTAMP:20260423T142805
DTSTART;TZID=America/Detroit:20260501T133000
DTEND;TZID=America/Detroit:20260501T150000
SUMMARY:Ceremony / Service:Earth and Environmental Sciences Graduation Ceremony 2026
DESCRIPTION:The University of Michigan's Department of Earth and Environmental Sciences invites graduates and their guests to a graduation ceremony in honor of the 2025-2026 graduates. Tickets are required for graduates and their guests.\n\nFriday\, May 1\, 2026\n1:30pm - 3:00pm\nMendelssohn Theatre\n\nIn addition to recognizing our graduates\, there will be an address from Earth alum Dr. Andrea Dutton. \n\nDr. Dutton holds the Helen Jupnik Endowed Research Professorship in the Department of Geoscience at the University of Wisconsin-Madison and is also appointed in the UW-Madison Center for Climatic Research. She is a carbonate geochemist and sedimentologist with interests in research questions pertaining to paleoclimate and paleoceanography. Andrea has held leadership positions in PALSEA\, the PAGES Working Group on Quaternary Interglacials\, the NASEM CORES panel\, and the Geological Society of America Geochronology Division. She is a MacArthur Fellow\, a U.S. Fulbright Scholar\, and a Fellow of the Geological Society of America.
UID:147956-21902612@events.umich.edu
URL:https://events.umich.edu/event/147956
CLASS:PUBLIC
STATUS:CONFIRMED
CATEGORIES:Earth And Environmental Sciences
LOCATION:Lydia Mendelssohn Theatre
CONTACT:
END:VEVENT
END:VCALENDAR