BEGIN:VCALENDAR
VERSION:2.0
PRODID:-//UM//UM*Events//EN
CALSCALE:GREGORIAN
BEGIN:VTIMEZONE
TZID:America/Detroit
TZURL:http://tzurl.org/zoneinfo/America/Detroit
X-LIC-LOCATION:America/Detroit
BEGIN:DAYLIGHT
TZOFFSETFROM:-0500
TZOFFSETTO:-0400
TZNAME:EDT
DTSTART:20070311T020000
RRULE:FREQ=YEARLY;BYMONTH=3;BYDAY=2SU
END:DAYLIGHT
BEGIN:STANDARD
TZOFFSETFROM:-0400
TZOFFSETTO:-0500
TZNAME:EST
DTSTART:20071104T020000
RRULE:FREQ=YEARLY;BYMONTH=11;BYDAY=1SU
END:STANDARD
END:VTIMEZONE
BEGIN:VEVENT
DTSTAMP:20260319T192536
DTSTART;TZID=America/Detroit:20260422T150000
DTEND;TZID=America/Detroit:20260422T163000
SUMMARY:Social / Informal Gathering:LGBTea
DESCRIPTION:Sip\, spill\, or just chill—we're taking a break! Bookmark your spot\, close that laptop\, and join us at Spectrum Center for some LGBTea. Relax with some tabletop and Switch games\, activities\, community\, and more. Then leave recharged and ready to take on the rest of your day. Your body and mind will thank you later.\n\n- February 4\, 3:00-4:30 pm\, Spectrum Center\n- March 10\, 12:00-2:00 pm\, Trotter Multicultural Center [LGBTea x CommuniTea]\n- April 22\, 3:00-4:30 pm\, Spectrum Center x GILE x UCC\n\nMORE SPECTRUM CENTER EVENTS\nhttps://spectrumcenter.umich.edu/events
UID:142547-21891142@events.umich.edu
URL:https://events.umich.edu/event/142547
CLASS:PUBLIC
STATUS:CONFIRMED
CATEGORIES:LGBT
LOCATION:Michigan Union - Spectrum Center (3020)
CONTACT:
END:VEVENT
BEGIN:VEVENT
DTSTAMP:20260414T130344
DTSTART;TZID=America/Detroit:20260430T093000
DTEND;TZID=America/Detroit:20260430T110000
SUMMARY:Workshop / Seminar:From Knowledge to Practice: Supporting 2SLGBTQIA+ Students
DESCRIPTION:This new\, 90-minute interactive workshop will explore current data on LGBTQIA2S+ student experiences at U-M and in higher education\, highlight key climate challenges\, and examine evidence-based protective factors that support safety\, belonging\, and mental health. \n\nThrough reflection and discussion\, participants will consider how their roles can contribute to creating more affirming and inclusive environments for LGBTQIA2S+ students across campus.\n\nThis event is intended for faculty and staff\, as well as graduate student instructors and those on a pathway to working in higher education.\n\nMORE SPECTRUM CENTER EVENTS\nhttps://spectrumcenter.umich.edu/events
UID:146974-21899897@events.umich.edu
URL:https://events.umich.edu/event/146974
CLASS:PUBLIC
STATUS:CONFIRMED
CATEGORIES:Staff,Pride Month,LGBTQ Graduate Student,LGBT,Graduate Students,Graduate and Professional Students,Faculty
LOCATION:Michigan Union - Wolverine Room
CONTACT:
END:VEVENT
BEGIN:VEVENT
DTSTAMP:20260409T144221
DTSTART;TZID=America/Detroit:20260906T140000
DTEND;TZID=America/Detroit:20260906T160000
SUMMARY:Fair / Festival:Pride Outside: LGBTQIA2S+ Welcome
DESCRIPTION:A major part of Welcome to Michigan\, Pride Outside is an annual welcome event for new and returning students of all genders and sexualities to celebrate the beginning of fall semester. Join us at Regent's Plaza for lawn games\, a drag show\, shaved ice\, t-shirt giveaways\, resource tables\, and more.\n\nMORE SPECTRUM CENTER EVENTS\nhttps://spectrumcenter.umich.edu/events
UID:142598-21891206@events.umich.edu
URL:https://events.umich.edu/event/142598
CLASS:PUBLIC
STATUS:CONFIRMED
CATEGORIES:Anchor2026,Welcome2026,Welcome to Michigan,Undergraduate Students,Social,Queer Trans Indigenous People of Color-QTIPOC,Prospective Undergraduate Students,Prospective Graduate Students,LGBT,Graduate Students,Graduate and Professional Students,Games,Free
LOCATION:Regents Plaza
CONTACT:
END:VEVENT
BEGIN:VEVENT
DTSTAMP:20260415T143658
DTSTART;TZID=America/Detroit:20261010T170000
DTEND;TZID=America/Detroit:20261010T220000
SUMMARY:Social / Informal Gathering:Spectrum Center 55th Anniversary Kickoff
DESCRIPTION:Save the date for Spectrum Center's 55th Anniversary Kickoff and Belonging Project Launch!\n\nRegistration will be required\, and a registration form will be posted at a later date. Exact event time may shift as details are confirmed.\n\nMORE SPECTRUM CENTER EVENTS\nhttps://spectrumcenter.umich.edu/events
UID:147769-21901950@events.umich.edu
URL:https://events.umich.edu/event/147769
CLASS:PUBLIC
STATUS:CONFIRMED
CATEGORIES:LGBT,LGBTQ History Month
LOCATION:UM Golf Course
CONTACT:
END:VEVENT
END:VCALENDAR