BEGIN:VCALENDAR
VERSION:2.0
PRODID:-//UM//UM*Events//EN
CALSCALE:GREGORIAN
BEGIN:VTIMEZONE
TZID:America/Detroit
TZURL:http://tzurl.org/zoneinfo/America/Detroit
X-LIC-LOCATION:America/Detroit
BEGIN:DAYLIGHT
TZOFFSETFROM:-0500
TZOFFSETTO:-0400
TZNAME:EDT
DTSTART:20070311T020000
RRULE:FREQ=YEARLY;BYMONTH=3;BYDAY=2SU
END:DAYLIGHT
BEGIN:STANDARD
TZOFFSETFROM:-0400
TZOFFSETTO:-0500
TZNAME:EST
DTSTART:20071104T020000
RRULE:FREQ=YEARLY;BYMONTH=11;BYDAY=1SU
END:STANDARD
END:VTIMEZONE
BEGIN:VEVENT
DTSTAMP:20260409T133225
DTSTART;TZID=America/Detroit:20260423T150000
DTEND;TZID=America/Detroit:20260423T163000
SUMMARY:Social / Informal Gathering:Join us on Sant Jordi Day to celebrate Professor Catherine Brown & Professor Ruth Tsoffar!
DESCRIPTION:Join the Department of Comparative Literature and the Residential College on Sant Jordi Day\, \n- April 23rd\,  3-4:30 pm\,\n- In the CompLit main suite (2021 Tisch Hall 435 South State Street)\n\nTo celebrate the careers of\nProfessor Catherine Brown & Professor  Ruth Tsoffar!\n\nWhat better way to honor all they have done for our communities than to share books and roses Barcelona-style? \nThere will be food and drinks\, and former students and colleagues talking about books that Catherine and Ruth helped them fall in love with. \nPlus\, two lucky winners will get a copy of their latest books in a special drawing!\n\nPlease be sure to RSVP by April 15 so we can plan accordingly.\n\nAccording to Catalan legend\, the knight Sant Jordi slew a dragon to save a princess\, and from the dragon's blood sprang a rosebush. He plucked the finest red rose for the princess\, and she\, in turn\, gifted him a book to symbolize 'a rose for love\, and a book forever.' On April 23\, the streets of Barcelona transform into an open-air library and garden. Millions of roses and books are exchanged between friends and colleagues\, turning the entire city into a celebration of chivalry\, storytelling\, and the enduring power of the written word.\n\nWe look forward to celebrating together!
UID:147590-21901315@events.umich.edu
URL:https://events.umich.edu/event/147590
CLASS:PUBLIC
STATUS:CONFIRMED
CATEGORIES:Book Event,Book,Romance Languages And Literatures,Retirement,Reception,Reading,poetry,Complit,comparative literature,Books
LOCATION:Tisch Hall - 2021
CONTACT:
END:VEVENT
BEGIN:VEVENT
DTSTAMP:20260415T141740
DTSTART;TZID=America/Detroit:20260429T160000
DTEND;TZID=America/Detroit:20260429T173000
SUMMARY:Performance:Translation Reading & Open Mic
DESCRIPTION:Join us as we share the translations we’ve worked on this semester in various languages. All are welcome to join the open mic and share their own translations\, translations by other authors\, or any other poetry you love.\n\nFun\, easy\, end-of-semester celebration in the outdoors!\n\nWhat to bring? Please bring translations\, poems\, friends\, picnic blankets\, and folding chairs for your own convenience. Some chairs will be available\, but since this is an outdoor space\, seating will be limited. \n\nWhen? Wednesday\, April 29\, 4PM.\n\nWhere? Location: LRC Courtyard\, geolocation here: https://maps.app.goo.gl/w8fpqDBuk1H3KD797?g_st=ic. Directions: navigate to the intersection of E Washington St. & S. Thayer St. Approach the North Quad buildings via the front plaza\, then proceed under the archway on the left side. There is a staircase leading down into the courtyard.
UID:147771-21901953@events.umich.edu
URL:https://events.umich.edu/event/147771
CLASS:PUBLIC
STATUS:CONFIRMED
CATEGORIES:Open Mic,Korean,Multicultural,Literature,Language,Translation Studies,Romance Languages And Literatures,Spanish Studies,Poetry,Chinese,Comparative Literature,Classical Studies,Italian,Asian Languages And Cultures,Graduate Students,Humanities,Greek
LOCATION:North Quad - &quot;Language Resource Center Courtyard&quot;
CONTACT:
END:VEVENT
BEGIN:VEVENT
DTSTAMP:20260414T134127
DTSTART;TZID=America/Detroit:20260501T170000
DTEND;TZID=America/Detroit:20260501T183000
SUMMARY:Ceremony / Service:The Department of Comparative Literature Graduation and Awards Ceremony
DESCRIPTION:You are invited to\nThe Department of Comparative Literature's Graduation and Awards Ceremony\n\nPlease join us for an evening of celebration as we honor the remarkable achievements of our students. We are so proud to recognize those graduating from and receiving awards in Comparative Literature\, Translation Studies\, and Transcultural Studies.\n\nDate: Friday\, May 1st\, 2026\nTime: 5:00 PM\nLocation: The Michigan League\, Vandenberg Room\n\nWe look forward to seeing you in your business casual best. Light appetizers and refreshments will be served as we celebrate our community's hard work.\nPlease let us know by April 20 if you'll be able to join us and bring a guest\, so we can make all the arrangements to make this event memorable for everyone.\n\nIf there is anything specific we can do to make this event accessible to you\, please contact complit-events-comm@umich.edu Please be aware that advance notice is necessary as some accommodations may require more time for the university to arrange.
UID:147734-21901664@events.umich.edu
URL:https://events.umich.edu/event/147734
CLASS:PUBLIC
STATUS:CONFIRMED
CATEGORIES:Graduation,Complit
LOCATION:Michigan League - Vandenberg Room
CONTACT:
END:VEVENT
END:VCALENDAR