BEGIN:VCALENDAR
VERSION:2.0
PRODID:-//UM//UM*Events//EN
CALSCALE:GREGORIAN
BEGIN:VTIMEZONE
TZID:America/Detroit
TZURL:http://tzurl.org/zoneinfo/America/Detroit
X-LIC-LOCATION:America/Detroit
BEGIN:DAYLIGHT
TZOFFSETFROM:-0500
TZOFFSETTO:-0400
TZNAME:EDT
DTSTART:20070311T020000
RRULE:FREQ=YEARLY;BYMONTH=3;BYDAY=2SU
END:DAYLIGHT
BEGIN:STANDARD
TZOFFSETFROM:-0400
TZOFFSETTO:-0500
TZNAME:EST
DTSTART:20071104T020000
RRULE:FREQ=YEARLY;BYMONTH=11;BYDAY=1SU
END:STANDARD
END:VTIMEZONE
BEGIN:VEVENT
DTSTAMP:20250926T161128
DTSTART;TZID=America/Detroit:20260428T130000
DTEND;TZID=America/Detroit:20260428T150000
SUMMARY:Workshop / Seminar:Courageous Conversations: Learning in Action Lab
DESCRIPTION:Course details and registration are available on the Organizational Learning website.
UID:139952-21892130@events.umich.edu
URL:https://events.umich.edu/event/139952
CLASS:PUBLIC
STATUS:CONFIRMED
CATEGORIES:Self Development,Intergroup Dialogue,Communication
LOCATION:Off Campus Location - Room 2029
CONTACT:
END:VEVENT
BEGIN:VEVENT
DTSTAMP:20250627T143709
DTSTART;TZID=America/Detroit:20260512T090000
DTEND;TZID=America/Detroit:20260512T120000
SUMMARY:Workshop / Seminar:Talent Acquisition Bootcamp
DESCRIPTION:Course details and registration are available on the Organizational Learning website.
UID:136264-21878339@events.umich.edu
URL:https://events.umich.edu/event/136264
CLASS:PUBLIC
STATUS:CONFIRMED
CATEGORIES:Leadership,Webinar,Human Resources
LOCATION:Boyer Building - Boyer Building Conference Room
CONTACT:
END:VEVENT
BEGIN:VEVENT
DTSTAMP:20250910T144920
DTSTART;TZID=America/Detroit:20260513T100000
DTEND;TZID=America/Detroit:20260513T120000
SUMMARY:Workshop / Seminar:Courageous Conversations
DESCRIPTION:Course details and registration are available on the Organizational Learning website.
UID:139191-21892126@events.umich.edu
URL:https://events.umich.edu/event/139191
CLASS:PUBLIC
STATUS:CONFIRMED
CATEGORIES:Professional Development,Self Development,Communication
LOCATION:Off Campus Location
CONTACT:
END:VEVENT
BEGIN:VEVENT
DTSTAMP:20250627T145134
DTSTART;TZID=America/Detroit:20260514T100000
DTEND;TZID=America/Detroit:20260514T120000
SUMMARY:Workshop / Seminar:Communication Styles in the Workplace
DESCRIPTION:Course details and registration are available on the Organizational Learning website.
UID:136267-21878347@events.umich.edu
URL:https://events.umich.edu/event/136267
CLASS:PUBLIC
STATUS:CONFIRMED
CATEGORIES:Communication,Discussion,Workshop
LOCATION:Off Campus Location
CONTACT:
END:VEVENT
BEGIN:VEVENT
DTSTAMP:20250926T163836
DTSTART;TZID=America/Detroit:20260519T080000
DTEND;TZID=America/Detroit:20260519T120000
SUMMARY:Workshop / Seminar:Leadership and Culture: Strategies to Prevent Workplace Issues
DESCRIPTION:Course details and registration are available on the Organizational Learning website.
UID:139960-21886424@events.umich.edu
URL:https://events.umich.edu/event/139960
CLASS:PUBLIC
STATUS:CONFIRMED
CATEGORIES:Culture,Communication,Intergroup Dialogue,Leadership
LOCATION:Off Campus Location - West Ballroom
CONTACT:
END:VEVENT
BEGIN:VEVENT
DTSTAMP:20250804T174005
DTSTART;TZID=America/Detroit:20260519T130000
DTEND;TZID=America/Detroit:20260519T150000
SUMMARY:Workshop / Seminar:Disability Awareness and Inclusion
DESCRIPTION:Disability is an integral part of maintaining a positive organizational culture. It is important to be part of a culture that supports and embraces disability inclusion. This session will cover: \n\n-Background about the Americans with Disabilities Act (ADA) \n-Ways to raise disability awareness and inclusion\n-Best practices for creating and maintaining inclusive working and learning environments\n-Content to dispel ableist myths and misconceptions about disability\n-We will engage in discussions about increasing accessibility and disability inclusion. Discussions will include how to do this at the university\, starting in our own units and departments. \n\nAdditional course details and registration are available on the Organizational Learning website.
UID:136524-21878780@events.umich.edu
URL:https://events.umich.edu/event/136524
CLASS:PUBLIC
STATUS:CONFIRMED
CATEGORIES:Digital Accessibility,Accessibility,Disability,Discussion,Diversity,Inclusion,Neurodiversity,Virtual,Workshop
LOCATION:Off Campus Location
CONTACT:
END:VEVENT
BEGIN:VEVENT
DTSTAMP:20251029T100535
DTSTART;TZID=America/Detroit:20260519T130000
DTEND;TZID=America/Detroit:20260519T150000
SUMMARY:Workshop / Seminar:Disability Awareness and Inclusion
DESCRIPTION:Course details and registration are available on the Organizational Learning website.
UID:141274-21888527@events.umich.edu
URL:https://events.umich.edu/event/141274
CLASS:PUBLIC
STATUS:CONFIRMED
CATEGORIES:Accessibility,Communication,Disability,Inclusion
LOCATION:Off Campus Location
CONTACT:
END:VEVENT
BEGIN:VEVENT
DTSTAMP:20250627T160446
DTSTART;TZID=America/Detroit:20260528T130000
DTEND;TZID=America/Detroit:20260528T150000
SUMMARY:Workshop / Seminar:Giving and Receiving Feedback
DESCRIPTION:Course details and registration are available on the Organizational Learning website.
UID:136269-21878353@events.umich.edu
URL:https://events.umich.edu/event/136269
CLASS:PUBLIC
STATUS:CONFIRMED
CATEGORIES:Professional Development,Communication,Discussion
LOCATION:Off Campus Location
CONTACT:
END:VEVENT
BEGIN:VEVENT
DTSTAMP:20260219T141559
DTSTART;TZID=America/Detroit:20260604T100000
DTEND;TZID=America/Detroit:20260604T120000
SUMMARY:Workshop / Seminar:Practice Behavior-Based Interviewing Using Virtual Reality
DESCRIPTION:Course details and registration are available on the Organizational Learning website.
UID:143106-21897771@events.umich.edu
URL:https://events.umich.edu/event/143106
CLASS:PUBLIC
STATUS:CONFIRMED
CATEGORIES:Communication,Human Resources,Professional Development
LOCATION:Center for Academic Innovation
CONTACT:
END:VEVENT
BEGIN:VEVENT
DTSTAMP:20260219T141559
DTSTART;TZID=America/Detroit:20260604T130000
DTEND;TZID=America/Detroit:20260604T150000
SUMMARY:Workshop / Seminar:Practice Behavior-Based Interviewing Using Virtual Reality
DESCRIPTION:Course details and registration are available on the Organizational Learning website.
UID:143106-21897772@events.umich.edu
URL:https://events.umich.edu/event/143106
CLASS:PUBLIC
STATUS:CONFIRMED
CATEGORIES:Communication,Human Resources,Professional Development
LOCATION:Center for Academic Innovation
CONTACT:
END:VEVENT
BEGIN:VEVENT
DTSTAMP:20250910T144920
DTSTART;TZID=America/Detroit:20260609T130000
DTEND;TZID=America/Detroit:20260609T150000
SUMMARY:Workshop / Seminar:Courageous Conversations
DESCRIPTION:Course details and registration are available on the Organizational Learning website.
UID:139191-21892127@events.umich.edu
URL:https://events.umich.edu/event/139191
CLASS:PUBLIC
STATUS:CONFIRMED
CATEGORIES:Professional Development,Self Development,Communication
LOCATION:Off Campus Location
CONTACT:
END:VEVENT
BEGIN:VEVENT
DTSTAMP:20250926T155648
DTSTART;TZID=America/Detroit:20260616T130000
DTEND;TZID=America/Detroit:20260616T143000
SUMMARY:Workshop / Seminar:Introduction to Digital Accessibility
DESCRIPTION:Course details and registration are available on the Organizational Learning website.
UID:139948-21886395@events.umich.edu
URL:https://events.umich.edu/event/139948
CLASS:PUBLIC
STATUS:CONFIRMED
CATEGORIES:Information and Technology,Digital Accessibility,Accessibility
LOCATION:Off Campus Location
CONTACT:
END:VEVENT
BEGIN:VEVENT
DTSTAMP:20250926T161128
DTSTART;TZID=America/Detroit:20260630T100000
DTEND;TZID=America/Detroit:20260630T120000
SUMMARY:Workshop / Seminar:Courageous Conversations: Learning in Action Lab
DESCRIPTION:Course details and registration are available on the Organizational Learning website.
UID:139952-21892131@events.umich.edu
URL:https://events.umich.edu/event/139952
CLASS:PUBLIC
STATUS:CONFIRMED
CATEGORIES:Self Development,Intergroup Dialogue,Communication
LOCATION:Off Campus Location
CONTACT:
END:VEVENT
BEGIN:VEVENT
DTSTAMP:20250926T111344
DTSTART;TZID=America/Detroit:20260630T130000
DTEND;TZID=America/Detroit:20260630T143000
SUMMARY:Workshop / Seminar:Leadership and Culture: Creating a Positive Work Environment
DESCRIPTION:Course details and registration are available on the Organizational Learning website.
UID:139921-21886337@events.umich.edu
URL:https://events.umich.edu/event/139921
CLASS:PUBLIC
STATUS:CONFIRMED
CATEGORIES:Self Development,Leadership,Culture
LOCATION:Off Campus Location
CONTACT:
END:VEVENT
END:VCALENDAR