BEGIN:VCALENDAR
VERSION:2.0
PRODID:-//UM//UM*Events//EN
CALSCALE:GREGORIAN
BEGIN:VTIMEZONE
TZID:America/Detroit
TZURL:http://tzurl.org/zoneinfo/America/Detroit
X-LIC-LOCATION:America/Detroit
BEGIN:DAYLIGHT
TZOFFSETFROM:-0500
TZOFFSETTO:-0400
TZNAME:EDT
DTSTART:20070311T020000
RRULE:FREQ=YEARLY;BYMONTH=3;BYDAY=2SU
END:DAYLIGHT
BEGIN:STANDARD
TZOFFSETFROM:-0400
TZOFFSETTO:-0500
TZNAME:EST
DTSTART:20071104T020000
RRULE:FREQ=YEARLY;BYMONTH=11;BYDAY=1SU
END:STANDARD
END:VTIMEZONE
BEGIN:VEVENT
DTSTAMP:20260129T140137
DTSTART;TZID=America/Detroit:20260514T124500
DTEND;TZID=America/Detroit:20260514T134500
SUMMARY:Presentation:Updates from the Provost
DESCRIPTION:Updates from the Provost \nLaurie McCauley\nProvost and Executive Vice President for Academic Affairs\nUniversity of Michigan\n\n\nDr. McCauley oversees the university’s academic and budgetary affairs. The deans of the 19 schools and colleges report to her\, as do the nine vice provosts.  She has been an active researcher supported by the National Institutes of Health for more than 25 years\, focusing on parathyroid hormone anabolic actions in bone\, immune cell functions in bone and prostate cancer skeletal metastasis. Her work has contributed to regenerative medicine and the development of treatments for inflammatory bone loss
UID:144789-21895847@events.umich.edu
URL:https://events.umich.edu/event/144789
CLASS:PUBLIC
STATUS:CONFIRMED
CATEGORIES:Discussion
LOCATION:1027 E. Huron Building
CONTACT:
END:VEVENT
BEGIN:VEVENT
DTSTAMP:20260129T140906
DTSTART;TZID=America/Detroit:20260514T140000
DTEND;TZID=America/Detroit:20260514T150000
SUMMARY:Lecture / Discussion:High Times: The Changing World of Cannabis
DESCRIPTION:Legalization and commercialization of cannabis have led to rapid changes in cannabis consumption in the United States. Frank’s research focuses on interventions to expand access to evidence-based treatments for substance use disorders. He will share information on changing cannabis use patterns in Michigan and the risks and benefits of cannabis\, including the drug’s impact on seniors and others on cognitive function\, anxiety\, safe driving\, and chronic pain. Additionally\, he will describe harm reduction strategies to address high-risk use. Frank\, a Michigan alumnus and graduate of the Johns Hopkins University School of Medicine\, is an educator and clinical consultant for U-M’s Overdose Prevention and Engagement Network\, co-director of Training & Education for the U-M Opioid Research Institute\, and chair of the Washtenaw County Board of Health.
UID:144793-21895910@events.umich.edu
URL:https://events.umich.edu/event/144793
CLASS:PUBLIC
STATUS:CONFIRMED
CATEGORIES:Retirees
LOCATION:Off Campus Location
CONTACT:
END:VEVENT
END:VCALENDAR