BEGIN:VCALENDAR
VERSION:2.0
PRODID:-//UM//UM*Events//EN
CALSCALE:GREGORIAN
BEGIN:VTIMEZONE
TZID:America/Detroit
TZURL:http://tzurl.org/zoneinfo/America/Detroit
X-LIC-LOCATION:America/Detroit
BEGIN:DAYLIGHT
TZOFFSETFROM:-0500
TZOFFSETTO:-0400
TZNAME:EDT
DTSTART:20070311T020000
RRULE:FREQ=YEARLY;BYMONTH=3;BYDAY=2SU
END:DAYLIGHT
BEGIN:STANDARD
TZOFFSETFROM:-0400
TZOFFSETTO:-0500
TZNAME:EST
DTSTART:20071104T020000
RRULE:FREQ=YEARLY;BYMONTH=11;BYDAY=1SU
END:STANDARD
END:VTIMEZONE
BEGIN:VEVENT
DTSTAMP:20260218T091701
DTSTART;TZID=America/Detroit:20260422T090000
DTEND;TZID=America/Detroit:20260422T160000
SUMMARY:Social / Informal Gathering:Study Day at CEW+
DESCRIPTION:It's the end of the semester\, so come by CEW+ to focus or to take a break from studying! We'll have study space\, snacks throughout the day\, a light lunch at noon\, and craft supplies for those feeling creative. Drop in or stay for the whole day. Children and families are welcome with an adult.
UID:145655-21897640@events.umich.edu
URL:https://events.umich.edu/event/145655
CLASS:PUBLIC
STATUS:CONFIRMED
CATEGORIES:Food,First-generation,Undergraduate Students,transfer students,Students With Children,Student Parents,Student Parent,Student Caregivers,Student Caregiver,Social,Parents,Nontraditional Students,LGBTQ Graduate Student,LGBT,Inclusion,Graduate Students,Free,Queer Trans Indigenous People of Color-QTIPOC
LOCATION:Center for the Education of Women
CONTACT:
END:VEVENT
BEGIN:VEVENT
DTSTAMP:20260327T162739
DTSTART;TZID=America/Detroit:20260429T153000
DTEND;TZID=America/Detroit:20260429T173000
SUMMARY:Ceremony / Service:CEW+ Graduation Celebration
DESCRIPTION:Join CEW+ for our Graduation Celebration as we mark the end of the term and honor all the graduating students connected to the Center. We’ll recognize students connected to CEW+ through scholarships\, fellowships\, membership in MCaSP or Roots & Wings\, and through their work. Join us on Wednesday\, April 29\, 3:30-5:30 pm\, for a welcoming gathering to share food\, drinks\, and some carefree fun at the Ann Arbor City Club.\n\nThe event will feature a family-friendly graduation ceremony for CEW+ affiliated students who completed their degrees in fall 2025 and winter 2026\, or who are expecting to graduate in spring/summer 2026. Robes and caps are encouraged but not required. Graduating students will also receive a custom CEW+ stole.\n\nIn addition\, continuing students\, scholar alumni\, and friends of the Center are welcome to join the event to show their support and be inspired by the 2026 graduates. Family\, supporters\, and kids of all ages are welcome at the event.\n\nThe CEW+ Graduation Celebration intends to honor each graduate and all of the people who have supported them on their way to this milestone. Come as you are and be celebrated!\n\nPlease register by 11:59 PM on Sunday\, April 26th.
UID:146926-21899798@events.umich.edu
URL:https://events.umich.edu/event/146926
CLASS:PUBLIC
STATUS:CONFIRMED
CATEGORIES:Student Caregiver,Student Caregivers,Student Parent,Student Parents,Students With Children,transfer students,Women In Engineering,Women In Science,women in science and engineering,Women In Stem,women leaders,women of color,Queer Trans Indigenous People of Color-QTIPOC,Parents,Nontraditional Students,Graduation,graduate students,Graduate and Professional Students,first-generation,Family,Cew+,cew,center for the education of women,Caregivers,Caregiver
LOCATION:Off Campus Location
CONTACT:
END:VEVENT
END:VCALENDAR