BEGIN:VCALENDAR
VERSION:2.0
PRODID:-//UM//UM*Events//EN
CALSCALE:GREGORIAN
BEGIN:VTIMEZONE
TZID:America/Detroit
TZURL:http://tzurl.org/zoneinfo/America/Detroit
X-LIC-LOCATION:America/Detroit
BEGIN:DAYLIGHT
TZOFFSETFROM:-0500
TZOFFSETTO:-0400
TZNAME:EDT
DTSTART:20070311T020000
RRULE:FREQ=YEARLY;BYMONTH=3;BYDAY=2SU
END:DAYLIGHT
BEGIN:STANDARD
TZOFFSETFROM:-0400
TZOFFSETTO:-0500
TZNAME:EST
DTSTART:20071104T020000
RRULE:FREQ=YEARLY;BYMONTH=11;BYDAY=1SU
END:STANDARD
END:VTIMEZONE
BEGIN:VEVENT
DTSTAMP:20260421T132100
DTSTART;TZID=America/Detroit:20260427T160000
DTEND;TZID=America/Detroit:20260427T170000
SUMMARY:Livestream / Virtual:Transfer Student Pre-Orientation Information Sessions
DESCRIPTION:f you are looking for guidance and support before attending your Virtual Orientation Academic Advising Appointment\, we encourage you to attend one of our pre-orientation information sessions. This does not replace the advising appointment. Our webinars are designed to help you smoothly transition into UM. You'll gain insights into:\n\n- Your degree requirements\n- How transfer credits apply to your UM degree\n- Navigating the LSA Course Guide\n- Using Wolverine Access to \"backpack\" classes\n- Required placement exams that must be taken before orientation\nGeneral questions about transferring to UM
UID:147890-21902329@events.umich.edu
URL:https://events.umich.edu/event/147890
CLASS:PUBLIC
STATUS:CONFIRMED
CATEGORIES:Advising,Newnan,Newnan Lsa Academic Advising Center,Transfer Student Center,Transfer Students
LOCATION:Off Campus Location
CONTACT:
END:VEVENT
BEGIN:VEVENT
DTSTAMP:20260421T132100
DTSTART;TZID=America/Detroit:20260429T090000
DTEND;TZID=America/Detroit:20260429T100000
SUMMARY:Livestream / Virtual:Transfer Student Pre-Orientation Information Sessions
DESCRIPTION:f you are looking for guidance and support before attending your Virtual Orientation Academic Advising Appointment\, we encourage you to attend one of our pre-orientation information sessions. This does not replace the advising appointment. Our webinars are designed to help you smoothly transition into UM. You'll gain insights into:\n\n- Your degree requirements\n- How transfer credits apply to your UM degree\n- Navigating the LSA Course Guide\n- Using Wolverine Access to \"backpack\" classes\n- Required placement exams that must be taken before orientation\nGeneral questions about transferring to UM
UID:147890-21902330@events.umich.edu
URL:https://events.umich.edu/event/147890
CLASS:PUBLIC
STATUS:CONFIRMED
CATEGORIES:Advising,Newnan,Newnan Lsa Academic Advising Center,Transfer Student Center,Transfer Students
LOCATION:Off Campus Location
CONTACT:
END:VEVENT
BEGIN:VEVENT
DTSTAMP:20260421T132100
DTSTART;TZID=America/Detroit:20260504T160000
DTEND;TZID=America/Detroit:20260504T170000
SUMMARY:Livestream / Virtual:Transfer Student Pre-Orientation Information Sessions
DESCRIPTION:f you are looking for guidance and support before attending your Virtual Orientation Academic Advising Appointment\, we encourage you to attend one of our pre-orientation information sessions. This does not replace the advising appointment. Our webinars are designed to help you smoothly transition into UM. You'll gain insights into:\n\n- Your degree requirements\n- How transfer credits apply to your UM degree\n- Navigating the LSA Course Guide\n- Using Wolverine Access to \"backpack\" classes\n- Required placement exams that must be taken before orientation\nGeneral questions about transferring to UM
UID:147890-21902331@events.umich.edu
URL:https://events.umich.edu/event/147890
CLASS:PUBLIC
STATUS:CONFIRMED
CATEGORIES:Advising,Newnan,Newnan Lsa Academic Advising Center,Transfer Student Center,Transfer Students
LOCATION:Off Campus Location
CONTACT:
END:VEVENT
BEGIN:VEVENT
DTSTAMP:20260421T132100
DTSTART;TZID=America/Detroit:20260506T090000
DTEND;TZID=America/Detroit:20260506T100000
SUMMARY:Livestream / Virtual:Transfer Student Pre-Orientation Information Sessions
DESCRIPTION:f you are looking for guidance and support before attending your Virtual Orientation Academic Advising Appointment\, we encourage you to attend one of our pre-orientation information sessions. This does not replace the advising appointment. Our webinars are designed to help you smoothly transition into UM. You'll gain insights into:\n\n- Your degree requirements\n- How transfer credits apply to your UM degree\n- Navigating the LSA Course Guide\n- Using Wolverine Access to \"backpack\" classes\n- Required placement exams that must be taken before orientation\nGeneral questions about transferring to UM
UID:147890-21902332@events.umich.edu
URL:https://events.umich.edu/event/147890
CLASS:PUBLIC
STATUS:CONFIRMED
CATEGORIES:Advising,Newnan,Newnan Lsa Academic Advising Center,Transfer Student Center,Transfer Students
LOCATION:Off Campus Location
CONTACT:
END:VEVENT
BEGIN:VEVENT
DTSTAMP:20260421T132100
DTSTART;TZID=America/Detroit:20260511T160000
DTEND;TZID=America/Detroit:20260511T170000
SUMMARY:Livestream / Virtual:Transfer Student Pre-Orientation Information Sessions
DESCRIPTION:f you are looking for guidance and support before attending your Virtual Orientation Academic Advising Appointment\, we encourage you to attend one of our pre-orientation information sessions. This does not replace the advising appointment. Our webinars are designed to help you smoothly transition into UM. You'll gain insights into:\n\n- Your degree requirements\n- How transfer credits apply to your UM degree\n- Navigating the LSA Course Guide\n- Using Wolverine Access to \"backpack\" classes\n- Required placement exams that must be taken before orientation\nGeneral questions about transferring to UM
UID:147890-21902333@events.umich.edu
URL:https://events.umich.edu/event/147890
CLASS:PUBLIC
STATUS:CONFIRMED
CATEGORIES:Advising,Newnan,Newnan Lsa Academic Advising Center,Transfer Student Center,Transfer Students
LOCATION:Off Campus Location
CONTACT:
END:VEVENT
BEGIN:VEVENT
DTSTAMP:20260421T132100
DTSTART;TZID=America/Detroit:20260512T110000
DTEND;TZID=America/Detroit:20260512T120000
SUMMARY:Livestream / Virtual:Transfer Student Pre-Orientation Information Sessions
DESCRIPTION:f you are looking for guidance and support before attending your Virtual Orientation Academic Advising Appointment\, we encourage you to attend one of our pre-orientation information sessions. This does not replace the advising appointment. Our webinars are designed to help you smoothly transition into UM. You'll gain insights into:\n\n- Your degree requirements\n- How transfer credits apply to your UM degree\n- Navigating the LSA Course Guide\n- Using Wolverine Access to \"backpack\" classes\n- Required placement exams that must be taken before orientation\nGeneral questions about transferring to UM
UID:147890-21902334@events.umich.edu
URL:https://events.umich.edu/event/147890
CLASS:PUBLIC
STATUS:CONFIRMED
CATEGORIES:Advising,Newnan,Newnan Lsa Academic Advising Center,Transfer Student Center,Transfer Students
LOCATION:Off Campus Location
CONTACT:
END:VEVENT
BEGIN:VEVENT
DTSTAMP:20260421T132100
DTSTART;TZID=America/Detroit:20260518T090000
DTEND;TZID=America/Detroit:20260518T100000
SUMMARY:Livestream / Virtual:Transfer Student Pre-Orientation Information Sessions
DESCRIPTION:f you are looking for guidance and support before attending your Virtual Orientation Academic Advising Appointment\, we encourage you to attend one of our pre-orientation information sessions. This does not replace the advising appointment. Our webinars are designed to help you smoothly transition into UM. You'll gain insights into:\n\n- Your degree requirements\n- How transfer credits apply to your UM degree\n- Navigating the LSA Course Guide\n- Using Wolverine Access to \"backpack\" classes\n- Required placement exams that must be taken before orientation\nGeneral questions about transferring to UM
UID:147890-21902335@events.umich.edu
URL:https://events.umich.edu/event/147890
CLASS:PUBLIC
STATUS:CONFIRMED
CATEGORIES:Advising,Newnan,Newnan Lsa Academic Advising Center,Transfer Student Center,Transfer Students
LOCATION:Off Campus Location
CONTACT:
END:VEVENT
BEGIN:VEVENT
DTSTAMP:20260421T132100
DTSTART;TZID=America/Detroit:20260520T110000
DTEND;TZID=America/Detroit:20260520T120000
SUMMARY:Livestream / Virtual:Transfer Student Pre-Orientation Information Sessions
DESCRIPTION:f you are looking for guidance and support before attending your Virtual Orientation Academic Advising Appointment\, we encourage you to attend one of our pre-orientation information sessions. This does not replace the advising appointment. Our webinars are designed to help you smoothly transition into UM. You'll gain insights into:\n\n- Your degree requirements\n- How transfer credits apply to your UM degree\n- Navigating the LSA Course Guide\n- Using Wolverine Access to \"backpack\" classes\n- Required placement exams that must be taken before orientation\nGeneral questions about transferring to UM
UID:147890-21902336@events.umich.edu
URL:https://events.umich.edu/event/147890
CLASS:PUBLIC
STATUS:CONFIRMED
CATEGORIES:Advising,Newnan,Newnan Lsa Academic Advising Center,Transfer Student Center,Transfer Students
LOCATION:Off Campus Location
CONTACT:
END:VEVENT
BEGIN:VEVENT
DTSTAMP:20260421T101519
DTSTART;TZID=America/Detroit:20260527T170000
DTEND;TZID=America/Detroit:20260527T183000
SUMMARY:Livestream / Virtual:Virtual Pre-Health Information Sessions
DESCRIPTION:As you embark on your journey toward a healthcare career\, this Pre-Health Information Session is designed to provide you with the foundational tools and resources to help you start your time at the University of Michigan.\n\nAt the end of this session\, you will be able to define how pre-health advising is utilized at the LSA Newnan Academic Advising Center\, familiarize yourself with course recommendations\, navigate our pre-health website\, and apply resources to your pre-health journey.
UID:147885-21902302@events.umich.edu
URL:https://events.umich.edu/event/147885
CLASS:PUBLIC
STATUS:CONFIRMED
CATEGORIES:Advising,Newnan,Newnan Academic Advising,Newnan Lsa Academic Advising Center,Pre Med
LOCATION:Off Campus Location
CONTACT:
END:VEVENT
BEGIN:VEVENT
DTSTAMP:20260421T102817
DTSTART;TZID=America/Detroit:20260528T170000
DTEND;TZID=America/Detroit:20260528T183000
SUMMARY:Livestream / Virtual:Virtual Pre-Law Information Sessions
DESCRIPTION:The Pre-Law Primer Sessions are designed for incoming students interested in exploring the pre-law path at U-M. We recommend that students attend their scheduled Virtual Academic Advising Session before attending a Pre-Law Primer Session.
UID:147886-21902314@events.umich.edu
URL:https://events.umich.edu/event/147886
CLASS:PUBLIC
STATUS:CONFIRMED
CATEGORIES:Advising,Newnan,Newnan Academic Advising,Newnan Lsa Academic Advising Center,Newnan Lsa Pre-law,Pre Law
LOCATION:Off Campus Location
CONTACT:
END:VEVENT
BEGIN:VEVENT
DTSTAMP:20260421T102817
DTSTART;TZID=America/Detroit:20260603T120000
DTEND;TZID=America/Detroit:20260603T133000
SUMMARY:Livestream / Virtual:Virtual Pre-Law Information Sessions
DESCRIPTION:The Pre-Law Primer Sessions are designed for incoming students interested in exploring the pre-law path at U-M. We recommend that students attend their scheduled Virtual Academic Advising Session before attending a Pre-Law Primer Session.
UID:147886-21902315@events.umich.edu
URL:https://events.umich.edu/event/147886
CLASS:PUBLIC
STATUS:CONFIRMED
CATEGORIES:Advising,Newnan,Newnan Academic Advising,Newnan Lsa Academic Advising Center,Newnan Lsa Pre-law,Pre Law
LOCATION:Off Campus Location
CONTACT:
END:VEVENT
BEGIN:VEVENT
DTSTAMP:20260421T101519
DTSTART;TZID=America/Detroit:20260604T150000
DTEND;TZID=America/Detroit:20260604T163000
SUMMARY:Livestream / Virtual:Virtual Pre-Health Information Sessions
DESCRIPTION:As you embark on your journey toward a healthcare career\, this Pre-Health Information Session is designed to provide you with the foundational tools and resources to help you start your time at the University of Michigan.\n\nAt the end of this session\, you will be able to define how pre-health advising is utilized at the LSA Newnan Academic Advising Center\, familiarize yourself with course recommendations\, navigate our pre-health website\, and apply resources to your pre-health journey.
UID:147885-21902303@events.umich.edu
URL:https://events.umich.edu/event/147885
CLASS:PUBLIC
STATUS:CONFIRMED
CATEGORIES:Advising,Newnan,Newnan Academic Advising,Newnan Lsa Academic Advising Center,Pre Med
LOCATION:Off Campus Location
CONTACT:
END:VEVENT
BEGIN:VEVENT
DTSTAMP:20260421T101519
DTSTART;TZID=America/Detroit:20260609T120000
DTEND;TZID=America/Detroit:20260609T133000
SUMMARY:Livestream / Virtual:Virtual Pre-Health Information Sessions
DESCRIPTION:As you embark on your journey toward a healthcare career\, this Pre-Health Information Session is designed to provide you with the foundational tools and resources to help you start your time at the University of Michigan.\n\nAt the end of this session\, you will be able to define how pre-health advising is utilized at the LSA Newnan Academic Advising Center\, familiarize yourself with course recommendations\, navigate our pre-health website\, and apply resources to your pre-health journey.
UID:147885-21902304@events.umich.edu
URL:https://events.umich.edu/event/147885
CLASS:PUBLIC
STATUS:CONFIRMED
CATEGORIES:Advising,Newnan,Newnan Academic Advising,Newnan Lsa Academic Advising Center,Pre Med
LOCATION:Off Campus Location
CONTACT:
END:VEVENT
BEGIN:VEVENT
DTSTAMP:20260421T102817
DTSTART;TZID=America/Detroit:20260611T170000
DTEND;TZID=America/Detroit:20260611T183000
SUMMARY:Livestream / Virtual:Virtual Pre-Law Information Sessions
DESCRIPTION:The Pre-Law Primer Sessions are designed for incoming students interested in exploring the pre-law path at U-M. We recommend that students attend their scheduled Virtual Academic Advising Session before attending a Pre-Law Primer Session.
UID:147886-21902316@events.umich.edu
URL:https://events.umich.edu/event/147886
CLASS:PUBLIC
STATUS:CONFIRMED
CATEGORIES:Advising,Newnan,Newnan Academic Advising,Newnan Lsa Academic Advising Center,Newnan Lsa Pre-law,Pre Law
LOCATION:Off Campus Location
CONTACT:
END:VEVENT
BEGIN:VEVENT
DTSTAMP:20260421T102817
DTSTART;TZID=America/Detroit:20260616T150000
DTEND;TZID=America/Detroit:20260616T163000
SUMMARY:Livestream / Virtual:Virtual Pre-Law Information Sessions
DESCRIPTION:The Pre-Law Primer Sessions are designed for incoming students interested in exploring the pre-law path at U-M. We recommend that students attend their scheduled Virtual Academic Advising Session before attending a Pre-Law Primer Session.
UID:147886-21902317@events.umich.edu
URL:https://events.umich.edu/event/147886
CLASS:PUBLIC
STATUS:CONFIRMED
CATEGORIES:Advising,Newnan,Newnan Academic Advising,Newnan Lsa Academic Advising Center,Newnan Lsa Pre-law,Pre Law
LOCATION:Off Campus Location
CONTACT:
END:VEVENT
BEGIN:VEVENT
DTSTAMP:20260421T101519
DTSTART;TZID=America/Detroit:20260617T170000
DTEND;TZID=America/Detroit:20260617T183000
SUMMARY:Livestream / Virtual:Virtual Pre-Health Information Sessions
DESCRIPTION:As you embark on your journey toward a healthcare career\, this Pre-Health Information Session is designed to provide you with the foundational tools and resources to help you start your time at the University of Michigan.\n\nAt the end of this session\, you will be able to define how pre-health advising is utilized at the LSA Newnan Academic Advising Center\, familiarize yourself with course recommendations\, navigate our pre-health website\, and apply resources to your pre-health journey.
UID:147885-21902305@events.umich.edu
URL:https://events.umich.edu/event/147885
CLASS:PUBLIC
STATUS:CONFIRMED
CATEGORIES:Advising,Newnan,Newnan Academic Advising,Newnan Lsa Academic Advising Center,Pre Med
LOCATION:Off Campus Location
CONTACT:
END:VEVENT
BEGIN:VEVENT
DTSTAMP:20260421T132504
DTSTART;TZID=America/Detroit:20260623T200000
DTEND;TZID=America/Detroit:20260623T210000
SUMMARY:Livestream / Virtual:Post-Orientation Sessions for First-Generation Students
DESCRIPTION:Are you a first-generation college student\, meaning none of your parents or guardians has completed a 4-year college or university degree? Have you attended your virtual academic advising date? If you’ve answered “yes” to both of these questions\, we are excited to invite you to our upcoming virtual informational sessions for incoming first-generation students!\n\nDuring this session\, you will learn more about the LSA Newnan Academic Advising Center and how advisors can assist you in completing your LSA degree requirements. Newnan advisors will also provide helpful information and advice regarding your first semester (and beyond) in the College of LSA and answer any questions you may have after completing your virtual academic advising session.
UID:147891-21902337@events.umich.edu
URL:https://events.umich.edu/event/147891
CLASS:PUBLIC
STATUS:CONFIRMED
CATEGORIES:Advising,First Generation,First-gen,First-generation,First-generation Students,Newnan,Newnan Academic Advising,Newnan Lsa Academic Advising Center
LOCATION:Off Campus Location
CONTACT:
END:VEVENT
BEGIN:VEVENT
DTSTAMP:20260421T102817
DTSTART;TZID=America/Detroit:20260630T120000
DTEND;TZID=America/Detroit:20260630T133000
SUMMARY:Livestream / Virtual:Virtual Pre-Law Information Sessions
DESCRIPTION:The Pre-Law Primer Sessions are designed for incoming students interested in exploring the pre-law path at U-M. We recommend that students attend their scheduled Virtual Academic Advising Session before attending a Pre-Law Primer Session.
UID:147886-21902318@events.umich.edu
URL:https://events.umich.edu/event/147886
CLASS:PUBLIC
STATUS:CONFIRMED
CATEGORIES:Advising,Newnan,Newnan Academic Advising,Newnan Lsa Academic Advising Center,Newnan Lsa Pre-law,Pre Law
LOCATION:Off Campus Location
CONTACT:
END:VEVENT
BEGIN:VEVENT
DTSTAMP:20260421T101519
DTSTART;TZID=America/Detroit:20260630T150000
DTEND;TZID=America/Detroit:20260630T163000
SUMMARY:Livestream / Virtual:Virtual Pre-Health Information Sessions
DESCRIPTION:As you embark on your journey toward a healthcare career\, this Pre-Health Information Session is designed to provide you with the foundational tools and resources to help you start your time at the University of Michigan.\n\nAt the end of this session\, you will be able to define how pre-health advising is utilized at the LSA Newnan Academic Advising Center\, familiarize yourself with course recommendations\, navigate our pre-health website\, and apply resources to your pre-health journey.
UID:147885-21902306@events.umich.edu
URL:https://events.umich.edu/event/147885
CLASS:PUBLIC
STATUS:CONFIRMED
CATEGORIES:Advising,Newnan,Newnan Academic Advising,Newnan Lsa Academic Advising Center,Pre Med
LOCATION:Off Campus Location
CONTACT:
END:VEVENT
BEGIN:VEVENT
DTSTAMP:20260421T102817
DTSTART;TZID=America/Detroit:20260708T120000
DTEND;TZID=America/Detroit:20260708T133000
SUMMARY:Livestream / Virtual:Virtual Pre-Law Information Sessions
DESCRIPTION:The Pre-Law Primer Sessions are designed for incoming students interested in exploring the pre-law path at U-M. We recommend that students attend their scheduled Virtual Academic Advising Session before attending a Pre-Law Primer Session.
UID:147886-21902319@events.umich.edu
URL:https://events.umich.edu/event/147886
CLASS:PUBLIC
STATUS:CONFIRMED
CATEGORIES:Advising,Newnan,Newnan Academic Advising,Newnan Lsa Academic Advising Center,Newnan Lsa Pre-law,Pre Law
LOCATION:Off Campus Location
CONTACT:
END:VEVENT
BEGIN:VEVENT
DTSTAMP:20260421T101519
DTSTART;TZID=America/Detroit:20260709T120000
DTEND;TZID=America/Detroit:20260709T133000
SUMMARY:Livestream / Virtual:Virtual Pre-Health Information Sessions
DESCRIPTION:As you embark on your journey toward a healthcare career\, this Pre-Health Information Session is designed to provide you with the foundational tools and resources to help you start your time at the University of Michigan.\n\nAt the end of this session\, you will be able to define how pre-health advising is utilized at the LSA Newnan Academic Advising Center\, familiarize yourself with course recommendations\, navigate our pre-health website\, and apply resources to your pre-health journey.
UID:147885-21902307@events.umich.edu
URL:https://events.umich.edu/event/147885
CLASS:PUBLIC
STATUS:CONFIRMED
CATEGORIES:Advising,Newnan,Newnan Academic Advising,Newnan Lsa Academic Advising Center,Pre Med
LOCATION:Off Campus Location
CONTACT:
END:VEVENT
BEGIN:VEVENT
DTSTAMP:20260421T101519
DTSTART;TZID=America/Detroit:20260714T170000
DTEND;TZID=America/Detroit:20260714T183000
SUMMARY:Livestream / Virtual:Virtual Pre-Health Information Sessions
DESCRIPTION:As you embark on your journey toward a healthcare career\, this Pre-Health Information Session is designed to provide you with the foundational tools and resources to help you start your time at the University of Michigan.\n\nAt the end of this session\, you will be able to define how pre-health advising is utilized at the LSA Newnan Academic Advising Center\, familiarize yourself with course recommendations\, navigate our pre-health website\, and apply resources to your pre-health journey.
UID:147885-21902308@events.umich.edu
URL:https://events.umich.edu/event/147885
CLASS:PUBLIC
STATUS:CONFIRMED
CATEGORIES:Advising,Newnan,Newnan Academic Advising,Newnan Lsa Academic Advising Center,Pre Med
LOCATION:Off Campus Location
CONTACT:
END:VEVENT
BEGIN:VEVENT
DTSTAMP:20260421T102817
DTSTART;TZID=America/Detroit:20260716T150000
DTEND;TZID=America/Detroit:20260716T163000
SUMMARY:Livestream / Virtual:Virtual Pre-Law Information Sessions
DESCRIPTION:The Pre-Law Primer Sessions are designed for incoming students interested in exploring the pre-law path at U-M. We recommend that students attend their scheduled Virtual Academic Advising Session before attending a Pre-Law Primer Session.
UID:147886-21902320@events.umich.edu
URL:https://events.umich.edu/event/147886
CLASS:PUBLIC
STATUS:CONFIRMED
CATEGORIES:Advising,Newnan,Newnan Academic Advising,Newnan Lsa Academic Advising Center,Newnan Lsa Pre-law,Pre Law
LOCATION:Off Campus Location
CONTACT:
END:VEVENT
BEGIN:VEVENT
DTSTAMP:20260421T102817
DTSTART;TZID=America/Detroit:20260721T170000
DTEND;TZID=America/Detroit:20260721T183000
SUMMARY:Livestream / Virtual:Virtual Pre-Law Information Sessions
DESCRIPTION:The Pre-Law Primer Sessions are designed for incoming students interested in exploring the pre-law path at U-M. We recommend that students attend their scheduled Virtual Academic Advising Session before attending a Pre-Law Primer Session.
UID:147886-21902321@events.umich.edu
URL:https://events.umich.edu/event/147886
CLASS:PUBLIC
STATUS:CONFIRMED
CATEGORIES:Advising,Newnan,Newnan Academic Advising,Newnan Lsa Academic Advising Center,Newnan Lsa Pre-law,Pre Law
LOCATION:Off Campus Location
CONTACT:
END:VEVENT
BEGIN:VEVENT
DTSTAMP:20260421T101519
DTSTART;TZID=America/Detroit:20260722T150000
DTEND;TZID=America/Detroit:20260722T163000
SUMMARY:Livestream / Virtual:Virtual Pre-Health Information Sessions
DESCRIPTION:As you embark on your journey toward a healthcare career\, this Pre-Health Information Session is designed to provide you with the foundational tools and resources to help you start your time at the University of Michigan.\n\nAt the end of this session\, you will be able to define how pre-health advising is utilized at the LSA Newnan Academic Advising Center\, familiarize yourself with course recommendations\, navigate our pre-health website\, and apply resources to your pre-health journey.
UID:147885-21902309@events.umich.edu
URL:https://events.umich.edu/event/147885
CLASS:PUBLIC
STATUS:CONFIRMED
CATEGORIES:Advising,Newnan,Newnan Academic Advising,Newnan Lsa Academic Advising Center,Pre Med
LOCATION:Off Campus Location
CONTACT:
END:VEVENT
BEGIN:VEVENT
DTSTAMP:20260421T132504
DTSTART;TZID=America/Detroit:20260728T150000
DTEND;TZID=America/Detroit:20260728T160000
SUMMARY:Livestream / Virtual:Post-Orientation Sessions for First-Generation Students
DESCRIPTION:Are you a first-generation college student\, meaning none of your parents or guardians has completed a 4-year college or university degree? Have you attended your virtual academic advising date? If you’ve answered “yes” to both of these questions\, we are excited to invite you to our upcoming virtual informational sessions for incoming first-generation students!\n\nDuring this session\, you will learn more about the LSA Newnan Academic Advising Center and how advisors can assist you in completing your LSA degree requirements. Newnan advisors will also provide helpful information and advice regarding your first semester (and beyond) in the College of LSA and answer any questions you may have after completing your virtual academic advising session.
UID:147891-21902338@events.umich.edu
URL:https://events.umich.edu/event/147891
CLASS:PUBLIC
STATUS:CONFIRMED
CATEGORIES:Advising,First Generation,First-gen,First-generation,First-generation Students,Newnan,Newnan Academic Advising,Newnan Lsa Academic Advising Center
LOCATION:Off Campus Location
CONTACT:
END:VEVENT
BEGIN:VEVENT
DTSTAMP:20260421T102817
DTSTART;TZID=America/Detroit:20260804T150000
DTEND;TZID=America/Detroit:20260804T163000
SUMMARY:Livestream / Virtual:Virtual Pre-Law Information Sessions
DESCRIPTION:The Pre-Law Primer Sessions are designed for incoming students interested in exploring the pre-law path at U-M. We recommend that students attend their scheduled Virtual Academic Advising Session before attending a Pre-Law Primer Session.
UID:147886-21902322@events.umich.edu
URL:https://events.umich.edu/event/147886
CLASS:PUBLIC
STATUS:CONFIRMED
CATEGORIES:Advising,Newnan,Newnan Academic Advising,Newnan Lsa Academic Advising Center,Newnan Lsa Pre-law,Pre Law
LOCATION:Off Campus Location
CONTACT:
END:VEVENT
BEGIN:VEVENT
DTSTAMP:20260421T101519
DTSTART;TZID=America/Detroit:20260805T170000
DTEND;TZID=America/Detroit:20260805T183000
SUMMARY:Livestream / Virtual:Virtual Pre-Health Information Sessions
DESCRIPTION:As you embark on your journey toward a healthcare career\, this Pre-Health Information Session is designed to provide you with the foundational tools and resources to help you start your time at the University of Michigan.\n\nAt the end of this session\, you will be able to define how pre-health advising is utilized at the LSA Newnan Academic Advising Center\, familiarize yourself with course recommendations\, navigate our pre-health website\, and apply resources to your pre-health journey.
UID:147885-21902310@events.umich.edu
URL:https://events.umich.edu/event/147885
CLASS:PUBLIC
STATUS:CONFIRMED
CATEGORIES:Advising,Newnan,Newnan Academic Advising,Newnan Lsa Academic Advising Center,Pre Med
LOCATION:Off Campus Location
CONTACT:
END:VEVENT
BEGIN:VEVENT
DTSTAMP:20260421T101519
DTSTART;TZID=America/Detroit:20260811T150000
DTEND;TZID=America/Detroit:20260811T163000
SUMMARY:Livestream / Virtual:Virtual Pre-Health Information Sessions
DESCRIPTION:As you embark on your journey toward a healthcare career\, this Pre-Health Information Session is designed to provide you with the foundational tools and resources to help you start your time at the University of Michigan.\n\nAt the end of this session\, you will be able to define how pre-health advising is utilized at the LSA Newnan Academic Advising Center\, familiarize yourself with course recommendations\, navigate our pre-health website\, and apply resources to your pre-health journey.
UID:147885-21902311@events.umich.edu
URL:https://events.umich.edu/event/147885
CLASS:PUBLIC
STATUS:CONFIRMED
CATEGORIES:Advising,Newnan,Newnan Academic Advising,Newnan Lsa Academic Advising Center,Pre Med
LOCATION:Off Campus Location
CONTACT:
END:VEVENT
BEGIN:VEVENT
DTSTAMP:20260421T102817
DTSTART;TZID=America/Detroit:20260812T170000
DTEND;TZID=America/Detroit:20260812T183000
SUMMARY:Livestream / Virtual:Virtual Pre-Law Information Sessions
DESCRIPTION:The Pre-Law Primer Sessions are designed for incoming students interested in exploring the pre-law path at U-M. We recommend that students attend their scheduled Virtual Academic Advising Session before attending a Pre-Law Primer Session.
UID:147886-21902323@events.umich.edu
URL:https://events.umich.edu/event/147886
CLASS:PUBLIC
STATUS:CONFIRMED
CATEGORIES:Advising,Newnan,Newnan Academic Advising,Newnan Lsa Academic Advising Center,Newnan Lsa Pre-law,Pre Law
LOCATION:Off Campus Location
CONTACT:
END:VEVENT
BEGIN:VEVENT
DTSTAMP:20260421T132504
DTSTART;TZID=America/Detroit:20260814T090000
DTEND;TZID=America/Detroit:20260814T100000
SUMMARY:Livestream / Virtual:Post-Orientation Sessions for First-Generation Students
DESCRIPTION:Are you a first-generation college student\, meaning none of your parents or guardians has completed a 4-year college or university degree? Have you attended your virtual academic advising date? If you’ve answered “yes” to both of these questions\, we are excited to invite you to our upcoming virtual informational sessions for incoming first-generation students!\n\nDuring this session\, you will learn more about the LSA Newnan Academic Advising Center and how advisors can assist you in completing your LSA degree requirements. Newnan advisors will also provide helpful information and advice regarding your first semester (and beyond) in the College of LSA and answer any questions you may have after completing your virtual academic advising session.
UID:147891-21902339@events.umich.edu
URL:https://events.umich.edu/event/147891
CLASS:PUBLIC
STATUS:CONFIRMED
CATEGORIES:Advising,First Generation,First-gen,First-generation,First-generation Students,Newnan,Newnan Academic Advising,Newnan Lsa Academic Advising Center
LOCATION:Off Campus Location
CONTACT:
END:VEVENT
END:VCALENDAR