BEGIN:VCALENDAR
VERSION:2.0
PRODID:-//UM//UM*Events//EN
CALSCALE:GREGORIAN
BEGIN:VTIMEZONE
TZID:America/Detroit
TZURL:http://tzurl.org/zoneinfo/America/Detroit
X-LIC-LOCATION:America/Detroit
BEGIN:DAYLIGHT
TZOFFSETFROM:-0500
TZOFFSETTO:-0400
TZNAME:EDT
DTSTART:20070311T020000
RRULE:FREQ=YEARLY;BYMONTH=3;BYDAY=2SU
END:DAYLIGHT
BEGIN:STANDARD
TZOFFSETFROM:-0400
TZOFFSETTO:-0500
TZNAME:EST
DTSTART:20071104T020000
RRULE:FREQ=YEARLY;BYMONTH=11;BYDAY=1SU
END:STANDARD
END:VTIMEZONE
BEGIN:VEVENT
DTSTAMP:20260420T120532
DTSTART;TZID=America/Detroit:20260503T140000
DTEND;TZID=America/Detroit:20260503T150000
SUMMARY:Tours:Sunday Drop-In Tour | Death and Ritual in Ancient Egypt
DESCRIPTION:This tour will explore the Kelsey Museum’s ancient collections\, looking at what these objects can teach us about Egyptian ideas of death\, offerings\, and the afterlife. This event will also explore how Egyptian burial practices evolved over time.\n\nThis event is free and open to all visitors. If you have any questions or concerns regarding accessing this event\, please visit our accessibility page at https://myumi.ch/zwPkd or contact the education office by calling (734) 647-4167. We ask for advance notice as some accommodations may require more time for the university to arrange.
UID:147864-21902088@events.umich.edu
URL:https://events.umich.edu/event/147864
CLASS:PUBLIC
STATUS:CONFIRMED
CATEGORIES:Archaeology,Ancient Egypt,Tour,Religion,Museum,Free,History,egypt
LOCATION:Kelsey Museum of Archaeology
CONTACT:
END:VEVENT
BEGIN:VEVENT
DTSTAMP:20260420T120830
DTSTART;TZID=America/Detroit:20260508T123000
DTEND;TZID=America/Detroit:20260508T130000
SUMMARY:Tours:Mid-Day Morsel | Drop-In Tour
DESCRIPTION:Looking for something to feed your brain on your lunch hour? The Mid-Day Morsel tour at the Kelsey Museum is a 30-minute taste of ancient Mediterranean history and artifact highlights in the Kelsey collection. Mid-Day Morsel tours begin at 12:30 PM. No registration is needed. Tour participants should gather at our Maynard Street entrance a few minutes before the tour is scheduled to start.\n\nThis event is free and open to all visitors. If you have any questions or concerns regarding accessing this event\, please visit our accessibility page at https://myumi.ch/zwPkd or contact the education office by calling (734) 647-4167. We ask for advance notice as some accommodations may require more time for the university to arrange.
UID:147865-21902089@events.umich.edu
URL:https://events.umich.edu/event/147865
CLASS:PUBLIC
STATUS:CONFIRMED
CATEGORIES:Ancient Egypt,Ancient Greece,Ancient Middle East,Ancient Rome,Archaeology,Free,History,Museum,Tour
LOCATION:Kelsey Museum of Archaeology
CONTACT:
END:VEVENT
BEGIN:VEVENT
DTSTAMP:20260420T121110
DTSTART;TZID=America/Detroit:20260509T140000
DTEND;TZID=America/Detroit:20260509T150000
SUMMARY:Tours:Saturday Sampler Tour | Highlights of the Kelsey
DESCRIPTION:Have you always wanted to learn more about Egyptian burial practices? Perhaps you are intrigued by Greek vases—or maybe you would like to know more about Roman frescoes. On this tour\, we will introduce you to some of the highlights of the Kelsey Museum\, providing a glimpse of notable objects in our Greek\, Roman\, Egyptian\, and Middle Eastern collections.\n\nThis event is free and open to all visitors. If you have any questions or concerns regarding accessing this event\, please visit our accessibility page at https://myumi.ch/zwPkd or contact the education office by calling (734) 647-4167. We ask for advance notice as some accommodations may require more time for the university to arrange.
UID:147866-21902090@events.umich.edu
URL:https://events.umich.edu/event/147866
CLASS:PUBLIC
STATUS:CONFIRMED
CATEGORIES:Tour,Museum,History,Free,Archaeology,Ancient Rome,Ancient Middle East,Ancient Greece,Ancient Egypt
LOCATION:Kelsey Museum of Archaeology
CONTACT:
END:VEVENT
BEGIN:VEVENT
DTSTAMP:20260420T121357
DTSTART;TZID=America/Detroit:20260510T140000
DTEND;TZID=America/Detroit:20260510T150000
SUMMARY:Tours:Sunday Drop-In Tour | Women in the Ancient World: A Mother’s Day Tour
DESCRIPTION:Celebrate Mother’s Day with a tour of the Kelsey Museum of Archaeology! At this docent-led event\, explore the status of women in various ancient societies highlighted by representations of women\, goddesses\, and mythological females.\n\nThis event is free and open to all visitors. If you have any questions or concerns regarding accessing this event\, please visit our accessibility page at https://myumi.ch/zwPkd or contact the education office by calling (734) 647-4167. We ask for advance notice as some accommodations may require more time for the university to arrange.
UID:147867-21902091@events.umich.edu
URL:https://events.umich.edu/event/147867
CLASS:PUBLIC
STATUS:CONFIRMED
CATEGORIES:Ancient Greece,Ancient Middle East,Ancient Rome,Archaeology,Free,History,Museum,Tour
LOCATION:Kelsey Museum of Archaeology
CONTACT:
END:VEVENT
BEGIN:VEVENT
DTSTAMP:20260420T121701
DTSTART;TZID=America/Detroit:20260517T140000
DTEND;TZID=America/Detroit:20260517T150000
SUMMARY:Tours:Sunday Drop-In Tour | Hidden in Plain Sight
DESCRIPTION:Did you know that underneath many of the galleries at the Kelsey\, there are drawers filled with interesting artifacts? In this tour\, we will look at some of these drawers that feature such items as Egyptian shabtis and jewelry\, Greek pottery sherds\, and signs of early Christianity in Roman Egypt.\n\nThis event is free and open to all visitors. If you have any questions or concerns regarding accessing this event\, please visit our accessibility page at https://myumi.ch/zwPkd or contact the education office by calling (734) 647-4167. We ask for advance notice as some accommodations may require more time for the university to arrange.
UID:147868-21902092@events.umich.edu
URL:https://events.umich.edu/event/147868
CLASS:PUBLIC
STATUS:CONFIRMED
CATEGORIES:Tour,Museum,History,Free,Ancient Rome,Ancient Middle East,Ancient Greece,Ancient Egypt,Archaeology
LOCATION:Kelsey Museum of Archaeology
CONTACT:
END:VEVENT
BEGIN:VEVENT
DTSTAMP:20260420T122403
DTSTART;TZID=America/Detroit:20260521T180000
DTEND;TZID=America/Detroit:20260521T183000
SUMMARY:Tours:Third Thursday Tour | Highlights of the Kelsey
DESCRIPTION:Join us for a special evening event at the Kelsey Museum! This Third Thursday experience features a 30-minute tour of ancient Mediterranean history and artifact highlights from the Kelsey collection. \n\nThis event is free and open to all visitors. If you have any questions or concerns regarding accessing this event\, please visit our accessibility page at https://myumi.ch/zwPkd or contact the education office by calling (734) 647-4167. We ask for advance notice as some accommodations may require more time for the university to arrange.
UID:147870-21902097@events.umich.edu
URL:https://events.umich.edu/event/147870
CLASS:PUBLIC
STATUS:CONFIRMED
CATEGORIES:Archaeology,Tour,Museum,History,Free,Ancient Rome,Ancient Middle East,Ancient Greece,Ancient Egypt
LOCATION:Kelsey Museum of Archaeology
CONTACT:
END:VEVENT
BEGIN:VEVENT
DTSTAMP:20260420T122633
DTSTART;TZID=America/Detroit:20260523T140000
DTEND;TZID=America/Detroit:20260523T150000
SUMMARY:Tours:Saturday Sampler Tour | Highlights of the Kelsey
DESCRIPTION:Have you always wanted to learn more about Roman frescoes? Or maybe our cat mummy fascinates you. On this docent-led tour\, you will be introduced to some highlights of the Kelsey's Mesopotamian\, Egyptian\, and Roman collections.\n\nThis event is free and open to all visitors. If you have any questions or concerns regarding accessing this event\, please visit our accessibility page at https://myumi.ch/zwPkd or contact the education office by calling (734) 647-4167. We ask for advance notice as some accommodations may require more time for the university to arrange.
UID:147871-21902098@events.umich.edu
URL:https://events.umich.edu/event/147871
CLASS:PUBLIC
STATUS:CONFIRMED
CATEGORIES:Museum,Tour,History,Free,Ancient Rome,Ancient Mesopotamia,Ancient Egypt,Archaeology
LOCATION:Kelsey Museum of Archaeology
CONTACT:
END:VEVENT
BEGIN:VEVENT
DTSTAMP:20260420T122923
DTSTART;TZID=America/Detroit:20260524T140000
DTEND;TZID=America/Detroit:20260524T150000
SUMMARY:Tours:Sunday Drop-In Tour | “I Wonder How They Did That?”
DESCRIPTION:Have you ever wondered how ancient artifacts were made? A question often asked in the galleries is how the artifacts were created—their shapes\, their colors\, their designs. In this tour\, we will learn about a number of Kelsey artifacts through the processes used to create them. As we travel through the museum\, we will see fine Greek pottery\, learn how (and why) a number of the Egyptian artifacts in the galleries are blue\, and consider why maybe the Michigan Department of Transportation should evaluate Roman construction materials for our roads! Join us to uncover the innovative processes of the past.\n\nThis event is free and open to all visitors. If you have any questions or concerns regarding accessing this event\, please visit our accessibility page at https://myumi.ch/zwPkd or contact the education office by calling (734) 647-4167. We ask for advance notice as some accommodations may require more time for the university to arrange.
UID:147872-21902099@events.umich.edu
URL:https://events.umich.edu/event/147872
CLASS:PUBLIC
STATUS:CONFIRMED
CATEGORIES:Museum,Tour,technology,History,Free,Archaeology,Ancient Rome,Ancient Middle East,Ancient Greece,Ancient Egypt
LOCATION:Kelsey Museum of Archaeology
CONTACT:
END:VEVENT
BEGIN:VEVENT
DTSTAMP:20260420T123203
DTSTART;TZID=America/Detroit:20260531T140000
DTEND;TZID=America/Detroit:20260531T150000
SUMMARY:Tours:Sunday Drop-In Tour | Images of Women in the Ancient World
DESCRIPTION:In this tour\, we will look at artifacts from the ancient world that include images of women\, including goddesses and mortal women. We will look at images that were found in such contexts as everyday homes\, grand villas\, tombs\, and temples. Along the way\, we will see examples of how women were depicted in the ancient Middle East\, Cyprus\, Etruria\, Egypt\, and Greece.\n\nThis event is free and open to all visitors. If you have any questions or concerns regarding accessing this event\, please visit our accessibility page at https://myumi.ch/zwPkd or contact the education office by calling (734) 647-4167. We ask for advance notice as some accommodations may require more time for the university to arrange.
UID:147873-21902100@events.umich.edu
URL:https://events.umich.edu/event/147873
CLASS:PUBLIC
STATUS:CONFIRMED
CATEGORIES:Ancient Egypt,Ancient Greece,Ancient Middle East,Ancient Rome,Archaeology,Free,History,Museum,Tour
LOCATION:Kelsey Museum of Archaeology
CONTACT:
END:VEVENT
END:VCALENDAR