BEGIN:VCALENDAR
VERSION:2.0
PRODID:-//UM//UM*Events//EN
CALSCALE:GREGORIAN
BEGIN:VTIMEZONE
TZID:America/Detroit
TZURL:http://tzurl.org/zoneinfo/America/Detroit
X-LIC-LOCATION:America/Detroit
BEGIN:DAYLIGHT
TZOFFSETFROM:-0500
TZOFFSETTO:-0400
TZNAME:EDT
DTSTART:20070311T020000
RRULE:FREQ=YEARLY;BYMONTH=3;BYDAY=2SU
END:DAYLIGHT
BEGIN:STANDARD
TZOFFSETFROM:-0400
TZOFFSETTO:-0500
TZNAME:EST
DTSTART:20071104T020000
RRULE:FREQ=YEARLY;BYMONTH=11;BYDAY=1SU
END:STANDARD
END:VTIMEZONE
BEGIN:VEVENT
DTSTAMP:20260325T200509
DTSTART;TZID=America/Detroit:20260422T201500
DTEND;TZID=America/Detroit:20260422T210000
SUMMARY:Social / Informal Gathering:Conflict in the Middle East
DESCRIPTION:As the Middle East remains at the forefront of current events\, we’re creating space for thoughtful\, respectful conversation‼️\n📍 East Quad B810\n🗓️ March 25\n⏰ 8:15 PM
UID:147074-21900353@events.umich.edu
URL:https://events.umich.edu/event/147074
CLASS:PUBLIC
STATUS:CONFIRMED
CATEGORIES:Open Inquiry,Pre-Law,Public Policy,Social Sciences,Transfer Students
LOCATION:East Quadrangle - B810
CONTACT:
END:VEVENT
END:VCALENDAR