BEGIN:VCALENDAR
VERSION:2.0
PRODID:-//UM//UM*Events//EN
CALSCALE:GREGORIAN
BEGIN:VTIMEZONE
TZID:America/Detroit
TZURL:http://tzurl.org/zoneinfo/America/Detroit
X-LIC-LOCATION:America/Detroit
BEGIN:DAYLIGHT
TZOFFSETFROM:-0500
TZOFFSETTO:-0400
TZNAME:EDT
DTSTART:20070311T020000
RRULE:FREQ=YEARLY;BYMONTH=3;BYDAY=2SU
END:DAYLIGHT
BEGIN:STANDARD
TZOFFSETFROM:-0400
TZOFFSETTO:-0500
TZNAME:EST
DTSTART:20071104T020000
RRULE:FREQ=YEARLY;BYMONTH=11;BYDAY=1SU
END:STANDARD
END:VTIMEZONE
BEGIN:VEVENT
DTSTAMP:20260414T094917
DTSTART;TZID=America/Detroit:20260505T190000
DTEND;TZID=America/Detroit:20260505T200000
SUMMARY:Presentation:Fueling for endurance – from keto to carbs!
DESCRIPTION:Day: Tuesday\, May 5\, 2026\nTime:  7 pm to 8 pm\nLocation: U-M Chemistry Bldg.\, Room 1400\n\nDr. Burke is a sports dietitian with 45 years of experience in the education and counselling of elite athletes.  She worked at the Australian Institute of Sport for thirty years\, first as Head of Sports Nutrition and then as Chief of Nutrition Strategy and now serves as Chair in Sports Nutrition in the Mary MacKillop Institute of Health Research at Australian Catholic University in Melbourne.\n \nTalk Summary: Carbohydrates have powered endurance performance for a century—from early race-day sugar use to modern glycogen-loading and sports nutrition products. Yet the rise of ketogenic/LCHF approaches has sparked debate and confusion for athletes and coaches. This session cuts through the hype to explore what the evidence says\, why context matters\, and how to build a more nuanced\, “unifying” approach to fueling endurance performance.\n\nRegister at:  https://tinyurl.com/Louise-Burke
UID:147690-21901601@events.umich.edu
URL:https://events.umich.edu/event/147690
CLASS:PUBLIC
STATUS:CONFIRMED
CATEGORIES:Faculty,Nutrition,Professional Development,Staff,Talk,Well-being
LOCATION:Chemistry Dow Lab - 1400
CONTACT:
END:VEVENT
END:VCALENDAR