BEGIN:VCALENDAR
VERSION:2.0
PRODID:-//UM//UM*Events//EN
CALSCALE:GREGORIAN
BEGIN:VTIMEZONE
TZID:America/Detroit
TZURL:http://tzurl.org/zoneinfo/America/Detroit
X-LIC-LOCATION:America/Detroit
BEGIN:DAYLIGHT
TZOFFSETFROM:-0500
TZOFFSETTO:-0400
TZNAME:EDT
DTSTART:20070311T020000
RRULE:FREQ=YEARLY;BYMONTH=3;BYDAY=2SU
END:DAYLIGHT
BEGIN:STANDARD
TZOFFSETFROM:-0400
TZOFFSETTO:-0500
TZNAME:EST
DTSTART:20071104T020000
RRULE:FREQ=YEARLY;BYMONTH=11;BYDAY=1SU
END:STANDARD
END:VTIMEZONE
BEGIN:VEVENT
DTSTAMP:20230204T120027
DTSTART;TZID=America/Detroit:20230204T140000
DTEND;TZID=America/Detroit:20230204T160000
SUMMARY:Exercise / Fitness:Judo Training Session
DESCRIPTION:Wednesdays: Beginners 7-8 pm\, intermediate and advanced 8-9 pmSaturdays: Beginners 2-3 pm\, intermediate and advanced 3-4 pm Follow us on Instagramhttps://www.youtube.com/watch?v=IBva1YWaVK8&ab_channel=JudoHighlightsJudo Hype Videohttps://youtu.be/y4kHRtjm5Xk
UID:103815-21807928@events.umich.edu
URL:https://events.umich.edu/event/103815
CLASS:PUBLIC
STATUS:CONFIRMED
CATEGORIES:
LOCATION:Ann Arbor / Ypsilanti
CONTACT:
END:VEVENT
BEGIN:VEVENT
DTSTAMP:20230222T120027
DTSTART;TZID=America/Detroit:20230204T140000
DTEND;TZID=America/Detroit:20230204T235959
SUMMARY:Exercise / Fitness:Judo Training Session
DESCRIPTION:Wednesdays: Beginners 7-8 pm\, intermediate and advanced 8-9 pmSaturdays: Beginners 2-3 pm\, intermediate and advanced 3-4 pm Follow us on Instagramhttps://www.youtube.com/watch?v=IBva1YWaVK8&ab_channel=JudoHighlights
UID:103821-21807934@events.umich.edu
URL:https://events.umich.edu/event/103821
CLASS:PUBLIC
STATUS:CONFIRMED
CATEGORIES:
LOCATION:Ann Arbor/ Ypsilanti
CONTACT:
END:VEVENT
BEGIN:VEVENT
DTSTAMP:20230123T105256
DTSTART;TZID=America/Detroit:20230204T140000
DTEND;TZID=America/Detroit:20230204T150000
SUMMARY:Other:Read and Look | The Museum
DESCRIPTION:In this special program just for our younger visitors we’ll read a kid-friendly book and explore a related part of the exhibit. This is a great way to discover the ancient world and connect our daily lives to the lives of families in the past. The program is a great first trip to the museum! The Book this month will be “The Museum” by Susan Verde\, Illustrations by Peter Reynolds. Best for ages 4-7.\n\nMasks are optional inside the Kelsey. For more information about our COVID procedures and how to prepare for your visit\, please visit our website\, https://myumi.ch/9PG1P.\n\nThis event is free and open to all visitors. If you have any questions or concerns regarding accessing this event\, please visit our accessibility page or contact the education office (734-647-4167). We ask for advance notice as some accommodations may require more time for the university to arrange.
UID:103832-21807979@events.umich.edu
URL:https://events.umich.edu/event/103832
CLASS:PUBLIC
STATUS:CONFIRMED
CATEGORIES:Archaeology,Children,Free,Museum,Storytelling
LOCATION:Kelsey Museum of Archaeology
CONTACT:
END:VEVENT
BEGIN:VEVENT
DTSTAMP:20230116T113138
DTSTART;TZID=America/Detroit:20230204T140000
DTEND;TZID=America/Detroit:20230204T150000
SUMMARY:Performance:The Plastic Bag Store
DESCRIPTION:This custom-built public art installation and immersive film experience uses humor\, craft\, and a critical lens to question our culture of consumption and convenience — specifically\, the enduring effects of our single-use plastics.\n\nShelves are stocked with thousands of original grocery items meticulously sculpted by hand\, all made from discarded single-use plastics organically harvested from streets and garbage dumps. Several times a day\, the store transforms into an immersive\, dynamic stage for a film in which inventive puppetry\, shadow play\, and intricate handmade sets tell the darkly comedic and sometimes tender story of how the overabundance of plastic waste we leave behind might be misinterpreted by future generations — and how what we value least may become our most lasting cultural legacy.
UID:103461-21807298@events.umich.edu
URL:https://events.umich.edu/event/103461
CLASS:PUBLIC
STATUS:CONFIRMED
CATEGORIES:Activism,american culture,art,art and design,artists,artists and curators,Climate Change,Comedy,Community Engagement,Culture,Digital,Digital Culture,Digital Media,Discussion,environment,environmental,environmental justice,environmental policy,Ethics,Family,Multidisciplinary Design,performance,Social Impact,Storytelling,Sustainability,UMMA,UMS,Visual Arts
LOCATION:Off Campus Location - First floor of the 777 building!
CONTACT:
END:VEVENT
BEGIN:VEVENT
DTSTAMP:20230204T120006
DTSTART;TZID=America/Detroit:20230204T140000
DTEND;TZID=America/Detroit:20230204T160000
SUMMARY:Other:University of Michigan Women’s Ice Hockey at GVSU
DESCRIPTION:Away
UID:101015-21800672@events.umich.edu
URL:https://events.umich.edu/event/101015
CLASS:PUBLIC
STATUS:CONFIRMED
CATEGORIES:
LOCATION:Griff&#039;s Georgetown
CONTACT:
END:VEVENT
BEGIN:VEVENT
DTSTAMP:20230301T090303
DTSTART;TZID=America/Detroit:20230204T150000
DTEND;TZID=America/Detroit:20230204T152000
SUMMARY:Presentation:Science Forum Demos
DESCRIPTION:Join us in the Science Forum for a 15-20 minute engaging science demonstration that will help you see the world in a whole new way. Demonstrations are free and appropriate for visitors ages 5 and above. Schedule subject to change.\n\nCow Eye Dissection\nHave you ever wondered how we see? To take a closer look at the organ that helps us see the world\, join UMMNH staff in dissecting a cow’s eye. How is it similar to and different from our eyes\, and those of other animals? Learn the parts of the eye and how they work together. While exploring the lens\, we’ll also talk about why some of us need glasses and how we can keep our eyes and our vision healthy.
UID:102009-21806446@events.umich.edu
URL:https://events.umich.edu/event/102009
CLASS:PUBLIC
STATUS:CONFIRMED
CATEGORIES:Children,Family,Free,Museum,Natural Sciences,Science
LOCATION:Museum of Natural History - Science Forum
CONTACT:
END:VEVENT
BEGIN:VEVENT
DTSTAMP:20230126T122044
DTSTART;TZID=America/Detroit:20230204T153000
DTEND;TZID=America/Detroit:20230204T161500
SUMMARY:Presentation:Lunar New Year Planetarium Shows
DESCRIPTION:Join us on the Saturdays of the Chinese Lunar New Year for a special live show on the topics of the Chinese lunisolar calendar\, Chinese star mythology\, and current astronomical work being done by the Chinese community. This show is a joint production between the U-M Museum of Natural History and the U-M Center for Chinese Studies.\n\nSaturdays\nJanuary 21\, January 28\, February 4\n10:30 a.m. \n\nThe state-of-the-art Planetarium & Dome Theater at the U-M Museum of Natural History transports visitors beyond distant stars and back in time from the comfort of reclining seats. Tickets $8. Tickets are available on the day of the show at the Museum Store.
UID:102014-21808341@events.umich.edu
URL:https://events.umich.edu/event/102014
CLASS:PUBLIC
STATUS:CONFIRMED
CATEGORIES:Astronomy,Children,Family,Museum,Natural Sciences,Science
LOCATION:Museum of Natural History
CONTACT:
END:VEVENT
BEGIN:VEVENT
DTSTAMP:20230116T113138
DTSTART;TZID=America/Detroit:20230204T160000
DTEND;TZID=America/Detroit:20230204T170000
SUMMARY:Performance:The Plastic Bag Store
DESCRIPTION:This custom-built public art installation and immersive film experience uses humor\, craft\, and a critical lens to question our culture of consumption and convenience — specifically\, the enduring effects of our single-use plastics.\n\nShelves are stocked with thousands of original grocery items meticulously sculpted by hand\, all made from discarded single-use plastics organically harvested from streets and garbage dumps. Several times a day\, the store transforms into an immersive\, dynamic stage for a film in which inventive puppetry\, shadow play\, and intricate handmade sets tell the darkly comedic and sometimes tender story of how the overabundance of plastic waste we leave behind might be misinterpreted by future generations — and how what we value least may become our most lasting cultural legacy.
UID:103461-21807299@events.umich.edu
URL:https://events.umich.edu/event/103461
CLASS:PUBLIC
STATUS:CONFIRMED
CATEGORIES:Activism,american culture,art,art and design,artists,artists and curators,Climate Change,Comedy,Community Engagement,Culture,Digital,Digital Culture,Digital Media,Discussion,environment,environmental,environmental justice,environmental policy,Ethics,Family,Multidisciplinary Design,performance,Social Impact,Storytelling,Sustainability,UMMA,UMS,Visual Arts
LOCATION:Off Campus Location - First floor of the 777 building!
CONTACT:
END:VEVENT
BEGIN:VEVENT
DTSTAMP:20230123T181616
DTSTART;TZID=America/Detroit:20230204T163000
DTEND;TZID=America/Detroit:20230204T190000
SUMMARY:Other:Trevor Scott\, voice
DESCRIPTION:Voice student Trevor Scott performs.
UID:102083-21803428@events.umich.edu
URL:https://events.umich.edu/event/102083
CLASS:PUBLIC
STATUS:CONFIRMED
CATEGORIES:
LOCATION:Off Campus Location
CONTACT:
END:VEVENT
BEGIN:VEVENT
DTSTAMP:20230123T181619
DTSTART;TZID=America/Detroit:20230204T170000
DTEND;TZID=America/Detroit:20230204T180000
SUMMARY:Other:Alana O’Donnell\, voice
DESCRIPTION:Voice student Alan O’Donnell performs. 
UID:102572-21804254@events.umich.edu
URL:https://events.umich.edu/event/102572
CLASS:PUBLIC
STATUS:CONFIRMED
CATEGORIES:
LOCATION:Off Campus Location
CONTACT:
END:VEVENT
END:VCALENDAR