BEGIN:VCALENDAR
VERSION:2.0
PRODID:-//UM//UM*Events//EN
CALSCALE:GREGORIAN
BEGIN:VTIMEZONE
TZID:America/Detroit
TZURL:http://tzurl.org/zoneinfo/America/Detroit
X-LIC-LOCATION:America/Detroit
BEGIN:DAYLIGHT
TZOFFSETFROM:-0500
TZOFFSETTO:-0400
TZNAME:EDT
DTSTART:20070311T020000
RRULE:FREQ=YEARLY;BYMONTH=3;BYDAY=2SU
END:DAYLIGHT
BEGIN:STANDARD
TZOFFSETFROM:-0400
TZOFFSETTO:-0500
TZNAME:EST
DTSTART:20071104T020000
RRULE:FREQ=YEARLY;BYMONTH=11;BYDAY=1SU
END:STANDARD
END:VTIMEZONE
BEGIN:VEVENT
DTSTAMP:20240111T092357
DTSTART;TZID=America/Detroit:20230708T123000
DTEND;TZID=America/Detroit:20230708T131500
SUMMARY:Presentation:Sea Monsters
DESCRIPTION:The film follows a curious and adventurous Dolichorhynchops – familiarly known as a ‘dolly’ – as she travels through the most dangerous oceans in history. Along the way\, she encounters long-necked plesiosaurs\, giant turtles\, enormous fish\, fierce sharks\, and the most dangerous sea monster of all\, the mosasaur.\n\nThe state-of-the-art Planetarium & Dome Theater at the U-M Museum of Natural History transports visitors beyond distant stars and back in time from the comfort of reclining seats. Tickets $8. Tickets are available on the day of the show at the Museum Store.\n\nThe planetarium is operating at half capacity to maximize distancing between viewers.
UID:93123-21820054@events.umich.edu
URL:https://events.umich.edu/event/93123
CLASS:PUBLIC
STATUS:CONFIRMED
CATEGORIES:natural history museum,Natural Sciences,Science
LOCATION:Museum of Natural History
CONTACT:
END:VEVENT
BEGIN:VEVENT
DTSTAMP:20231215T072624
DTSTART;TZID=America/Detroit:20230708T130000
DTEND;TZID=America/Detroit:20230708T133000
SUMMARY:Presentation:Public Tours
DESCRIPTION:These free tours are about 30 minutes long and are limited to 15 people per tour group. Sign up for a tour at the Welcome Desk. Visitors of all ages are welcome. Times subject to change.\n\nMuseum Highlights Tour: December 2023\nSaturdays\n1:00 p.m.\nNo tours on December 2\, 23 and 30\n\nLearn about some of our most exciting exhibits and galleries like the Exploring Michigan gallery\, Evolution: Life Through Time\, and the Unseen Worlds installation by artist Jim Cogswell. Along with learning about the past\, this tour will take a step into the future and explore cutting-edge research being done in the Biological Sciences Building every day.\n\nWalking with Whales Tour - December\nSundays\n1:00 p.m.\nNo tours on December 24 or 31 \n\nDiscover a world where prehistoric whales had four limbs and walked on land! Learn about how whales and dolphins made the transition from land back into the water as you examine specimens that were distant or direct ancestors to modern cetaceans (whales\, dolphins\, and porpoises).
UID:93141-21819983@events.umich.edu
URL:https://events.umich.edu/event/93141
CLASS:PUBLIC
STATUS:CONFIRMED
CATEGORIES:museums,natural history museum,Natural Sciences,Science,Tour
LOCATION:Museum of Natural History
CONTACT:
END:VEVENT
END:VCALENDAR