BEGIN:VCALENDAR
VERSION:2.0
PRODID:-//UM//UM*Events//EN
CALSCALE:GREGORIAN
BEGIN:VTIMEZONE
TZID:America/Detroit
TZURL:http://tzurl.org/zoneinfo/America/Detroit
X-LIC-LOCATION:America/Detroit
BEGIN:DAYLIGHT
TZOFFSETFROM:-0500
TZOFFSETTO:-0400
TZNAME:EDT
DTSTART:20070311T020000
RRULE:FREQ=YEARLY;BYMONTH=3;BYDAY=2SU
END:DAYLIGHT
BEGIN:STANDARD
TZOFFSETFROM:-0400
TZOFFSETTO:-0500
TZNAME:EST
DTSTART:20071104T020000
RRULE:FREQ=YEARLY;BYMONTH=11;BYDAY=1SU
END:STANDARD
END:VTIMEZONE
BEGIN:VEVENT
DTSTAMP:20230626T121756
DTSTART;TZID=America/Detroit:20230717T190000
DTEND;TZID=America/Detroit:20230717T200000
SUMMARY:Other:Simone Browne plays Ukrainian music & more on the Baird Carillon
DESCRIPTION:Rising star Simone Browne makes her U-M debut at Burton Memorial Tower in our “2023: A Century of Women and the Carillon” concert series with a program that opens with 3 works by Ukrainian composers. All concerts are free and family-friendly.\nThis year’s summer series features artists from across the country and world playing the great 53-bell Charles Baird Carillon in Burton Tower. The carillon is an outdoor instrument\, and attendees are encouraged to bring picnic blankets\, chairs\, and anything else they’d like to feel comfortable. Concert programs and a carillon coloring book for kids are available from concert staff at or near the tower door. Accessible restrooms are available in the Michigan League.\nThe nearest municipal parking structures are at 324 Maynard and at 510 E Washington. Street parking is limited due to nearby construction.\nABOUT THE ARTIST:\nSimone Browne is a carillonist originally from Tucson\, AZ. She was introduced to the carillon at the University of Chicago\, where she joined its Guild of Carillonneurs and studied with Joey Brink. After graduating in 2019\, Simone spent a year living in Chernivtsi\, Ukraine through the Fulbright program\, teaching English and visiting Ukrainian carillons.\nWith the support of the Belgian American Educational Foundation (BAEF)\, she studied under Eddy Mariën\, Koen Van Assche\, Tom Van Peer\, and Dina Verheyden at the Royal Carillon School in Mechelen\, Belgium from 2020–2022. She graduated “with great distinction” in June 2021\, then remained at the Carillon School for an additional post-graduation specialization year. In 2023\, she spent several months studying with Geert D’hollander as a Carillon Fellow at Bok Tower Gardens.\n\nSimone researches carillon culture and enjoys learning languages in her spare time. She has performed recitals on carillons in Belgium\, the Netherlands\, Germany\, Norway\, Lithuania\, Denmark\, the US\, and Ukraine.
UID:108794-21820405@events.umich.edu
URL:https://events.umich.edu/event/108794
CLASS:PUBLIC
STATUS:CONFIRMED
CATEGORIES:
LOCATION:Burton Memorial Tower
CONTACT:
END:VEVENT
BEGIN:VEVENT
DTSTAMP:20230717T180004
DTSTART;TZID=America/Detroit:20230717T190000
DTEND;TZID=America/Detroit:20230717T213000
SUMMARY:Exercise / Fitness:Tranky Doo Workshop
DESCRIPTION:WHAT: \nGot your Shim Sham down pat? Level up your line dance skills and learn the Tranky Doo! Emily and Laura will lead you through this Swing Era classic\, expanding your vocabulary and increasing your confidence in Solo Jazz. The next time Tuxedo Junction or The Dipsy Doodle comes on at a dance\, you'll know exactly what to (tranky) do! Previous solo jazz experience is helpful but not required. You just need to be comfortable with basic rhythms.Wanna get a taste of what the Tranky Doo looks like? Check it out here: https://youtu.be/Rxl8x7KW2dc WHERE: \nAnderson Room ABCD (1st floor)\, Michigan Union INSTRUCTORS: \nLaura Kurek & Emily Topham COST: \n$5 per person (Acceptable forms of payment: cash\, check\, or PayPal) COVID POLICY: \nProof of vaccination required. If proof of vaccination cannot be shown\, attendees must wear a mask the entire length of the event instead.
UID:108839-21820458@events.umich.edu
URL:https://events.umich.edu/event/108839
CLASS:PUBLIC
STATUS:CONFIRMED
CATEGORIES:
LOCATION:Anderson Room ABCD (1st floor)
CONTACT:
END:VEVENT
END:VCALENDAR