BEGIN:VCALENDAR
VERSION:2.0
PRODID:-//UM//UM*Events//EN
CALSCALE:GREGORIAN
BEGIN:VTIMEZONE
TZID:America/Detroit
TZURL:http://tzurl.org/zoneinfo/America/Detroit
X-LIC-LOCATION:America/Detroit
BEGIN:DAYLIGHT
TZOFFSETFROM:-0500
TZOFFSETTO:-0400
TZNAME:EDT
DTSTART:20070311T020000
RRULE:FREQ=YEARLY;BYMONTH=3;BYDAY=2SU
END:DAYLIGHT
BEGIN:STANDARD
TZOFFSETFROM:-0400
TZOFFSETTO:-0500
TZNAME:EST
DTSTART:20071104T020000
RRULE:FREQ=YEARLY;BYMONTH=11;BYDAY=1SU
END:STANDARD
END:VTIMEZONE
BEGIN:VEVENT
DTSTAMP:20240405T194239
DTSTART;TZID=America/Detroit:20230718T143000
DTEND;TZID=America/Detroit:20230718T151500
SUMMARY:Presentation:We Are Stars
DESCRIPTION:What are we made of? Where did it all come from? Explore the secrets of our cosmic chemistry and our explosive origins. Connect life on Earth to the evolution of the Universe by following the formation of hydrogen atoms to the synthesis of carbon\, and the molecules for life.\n\nThe state-of-the-art Planetarium & Dome Theater at the U-M Museum of Natural History transports visitors beyond distant stars and back in time from the comfort of reclining seats. Tickets $8. Tickets are available on the day of the show at the Museum Store.
UID:108577-21820157@events.umich.edu
URL:https://events.umich.edu/event/108577
CLASS:PUBLIC
STATUS:CONFIRMED
CATEGORIES:Astronomy,Museum,Natural Sciences,Science
LOCATION:Museum of Natural History
CONTACT:
END:VEVENT
BEGIN:VEVENT
DTSTAMP:20230802T123040
DTSTART;TZID=America/Detroit:20230718T160000
DTEND;TZID=America/Detroit:20230718T164500
SUMMARY:Careers / Jobs:Learn About Capital One's Analyst Program + Recruiter and Associate Q&A
DESCRIPTION:Curious about what working at Capital One is like? Maybe you're wondering what is an Analyst and what do they do? Join us for our Analyst info session to learn more!\n\nDuring this interactive info session and associate panel\, you'll learn more about working in unique\, but interconnected roles. This is also a great chance to hear more about #LifeatCapitalOne\, to ask questions about our exciting opportunities\, and to meet a few of our associates. \n\nPlease note: This event will be held on Brazen! We recommend logging in 5 minutes prior to the event to make sure your profile is set up. \n\n
UID:108361-21819391@events.umich.edu
URL:https://events.umich.edu/event/108361
CLASS:PUBLIC
STATUS:CONFIRMED
CATEGORIES:
LOCATION:
CONTACT:
END:VEVENT
END:VCALENDAR