BEGIN:VCALENDAR
VERSION:2.0
PRODID:-//UM//UM*Events//EN
CALSCALE:GREGORIAN
BEGIN:VTIMEZONE
TZID:America/Detroit
TZURL:http://tzurl.org/zoneinfo/America/Detroit
X-LIC-LOCATION:America/Detroit
BEGIN:DAYLIGHT
TZOFFSETFROM:-0500
TZOFFSETTO:-0400
TZNAME:EDT
DTSTART:20070311T020000
RRULE:FREQ=YEARLY;BYMONTH=3;BYDAY=2SU
END:DAYLIGHT
BEGIN:STANDARD
TZOFFSETFROM:-0400
TZOFFSETTO:-0500
TZNAME:EST
DTSTART:20071104T020000
RRULE:FREQ=YEARLY;BYMONTH=11;BYDAY=1SU
END:STANDARD
END:VTIMEZONE
BEGIN:VEVENT
DTSTAMP:20230802T183053
DTSTART;TZID=America/Detroit:20230718T170000
DTEND;TZID=America/Detroit:20230718T180000
SUMMARY:Careers / Jobs:Alaska Teaching: Come to the Northwest Arctic
DESCRIPTION:Come and learn about Northwest Arctic Borough School District.We have great salaries and benefits as well as $1500 for moving expenses.You will love the adventure and family teaching environment.
UID:109029-21820742@events.umich.edu
URL:https://events.umich.edu/event/109029
CLASS:PUBLIC
STATUS:CONFIRMED
CATEGORIES:
LOCATION:
CONTACT:
END:VEVENT
BEGIN:VEVENT
DTSTAMP:20230718T180005
DTSTART;TZID=America/Detroit:20230718T183000
DTEND;TZID=America/Detroit:20230718T213000
SUMMARY:Other:Casino Class
DESCRIPTION:LOCATION: the Phoenix Center at 220 S. Main St.PRICES: $10 for students\, included in monthly pass.Come join us for Casino! No partner necessary! Please bring dance shoes or socks.6:30pm - 7:30pm : Lv 1 & 2 (aka beginners)7:30pm - 8:30pm : Social dancing (No partner necessary! All levels welcome!)8:30pm - 9:30pm : Lv 3 & 4 (Please ask one of the instructors to be placed in this level!)We hope to see you then! 
UID:108889-21820515@events.umich.edu
URL:https://events.umich.edu/event/108889
CLASS:PUBLIC
STATUS:CONFIRMED
CATEGORIES:
LOCATION:Phoenix Center
CONTACT:
END:VEVENT
END:VCALENDAR