BEGIN:VCALENDAR
VERSION:2.0
PRODID:-//UM//UM*Events//EN
CALSCALE:GREGORIAN
BEGIN:VTIMEZONE
TZID:America/Detroit
TZURL:http://tzurl.org/zoneinfo/America/Detroit
X-LIC-LOCATION:America/Detroit
BEGIN:DAYLIGHT
TZOFFSETFROM:-0500
TZOFFSETTO:-0400
TZNAME:EDT
DTSTART:20070311T020000
RRULE:FREQ=YEARLY;BYMONTH=3;BYDAY=2SU
END:DAYLIGHT
BEGIN:STANDARD
TZOFFSETFROM:-0400
TZOFFSETTO:-0500
TZNAME:EST
DTSTART:20071104T020000
RRULE:FREQ=YEARLY;BYMONTH=11;BYDAY=1SU
END:STANDARD
END:VTIMEZONE
BEGIN:VEVENT
DTSTAMP:20230802T183058
DTSTART;TZID=America/Detroit:20230718T210000
DTEND;TZID=America/Detroit:20230718T220000
SUMMARY:Careers / Jobs:Johnson & Johnson WiSTEM2D Presents - Pathway for Patient Health Quality
DESCRIPTION:PROVIDING ADDITIONAL TIMES FOR ALTERNATE TIME ZONES.\n\nIn 2015\, JNJ launched WISTEM2D-Women in Science\, Technology\, Engineering\, Math\, Manufacturing\, and Design (STEM2D)-initiative to promote learning and career opportunities in STEM2D disciplines. Led by a network of volunteers from across JNJ and its local operating companies\, this ambitious initiative seeks to promote learning across Youth\, University and Professional audiences. We are pleased to announce WISTEM2D’s new partnership with Pathway – a free online learning platform for students interested in theLife Science industries. Our Pathway student courses are designed to equip you with the knowledge to succeed in the workforce. We offer courses on topics such as Global Regulatory and Legal Requirements of Quality\, Product Development and Validation\, and Risk and Failure Analysis. Join our information session to learn more!
UID:109293-21821357@events.umich.edu
URL:https://events.umich.edu/event/109293
CLASS:PUBLIC
STATUS:CONFIRMED
CATEGORIES:
LOCATION:
CONTACT:
END:VEVENT
BEGIN:VEVENT
DTSTAMP:20230803T063055
DTSTART;TZID=America/Detroit:20230719T080000
DTEND;TZID=America/Detroit:20230719T090000
SUMMARY:Careers / Jobs:Johnson & Johnson WiSTEM2D Presents - Pathway for Patient Health Quality
DESCRIPTION:PROVIDING ADDITIONAL TIMES FOR ALTERNATE TIME ZONES.\n\nIn 2015\, JNJ launched WISTEM2D-Women in Science\, Technology\, Engineering\, Math\, Manufacturing\, and Design (STEM2D)-initiative to promote learning and career opportunities in STEM2D disciplines. Led by a network of volunteers from across JNJ and its local operating companies\, this ambitious initiative seeks to promote learning across Youth\, University and Professional audiences. We are pleased to announce WISTEM2D’s new partnership with Pathway – a free online learning platform for students interested in theLife Science industries. Our Pathway student courses are designed to equip you with the knowledge to succeed in the workforce. We offer courses on topics such as Global Regulatory and Legal Requirements of Quality\, Product Development and Validation\, and Risk and Failure Analysis. Join our information session to learn more! Zoom link provided after registration.\n
UID:109294-21821358@events.umich.edu
URL:https://events.umich.edu/event/109294
CLASS:PUBLIC
STATUS:CONFIRMED
CATEGORIES:
LOCATION:
CONTACT:
END:VEVENT
END:VCALENDAR