BEGIN:VCALENDAR
VERSION:2.0
PRODID:-//UM//UM*Events//EN
CALSCALE:GREGORIAN
BEGIN:VTIMEZONE
TZID:America/Detroit
TZURL:http://tzurl.org/zoneinfo/America/Detroit
X-LIC-LOCATION:America/Detroit
BEGIN:DAYLIGHT
TZOFFSETFROM:-0500
TZOFFSETTO:-0400
TZNAME:EDT
DTSTART:20070311T020000
RRULE:FREQ=YEARLY;BYMONTH=3;BYDAY=2SU
END:DAYLIGHT
BEGIN:STANDARD
TZOFFSETFROM:-0400
TZOFFSETTO:-0500
TZNAME:EST
DTSTART:20071104T020000
RRULE:FREQ=YEARLY;BYMONTH=11;BYDAY=1SU
END:STANDARD
END:VTIMEZONE
BEGIN:VEVENT
DTSTAMP:20230803T063054
DTSTART;TZID=America/Detroit:20230719T090000
DTEND;TZID=America/Detroit:20230719T170000
SUMMARY:Careers / Jobs:RBI (Burger King\, Popeyes\, Tim Hortons\, FH Subs)  Virtual Coffee Chats
DESCRIPTION:Grab a coffee (we’ll be having a Tim’s Cold Brew) and virtually sit down with an RBI employee and a few other students to learn moreabout the organization\, our culture\, and company priorities. It’s notjust about us\, we also want to learn more about you and how you are making an impact in school\, work and in extracurriculars. We’re brewing up more than a great conversation\, a coffee chat is an opportunity for you to learn about career opportunities and create meaningful connections. \n\nWhat You Need & How to Apply: \n-Currently enrolled at an accredited US college or university\n-Undergraduate degree – ideally in business administration\, engineering\, computer science\, economics\, statistics\, mathematics or hospitality management with an expected graduation by 2024 or 2025 (Junior or Senior student).\n-Updated resume\n\nApply here now: https://careers.rbi.com/global/en/job/6835220002/Coffee-Chat-MIA
UID:109221-21821236@events.umich.edu
URL:https://events.umich.edu/event/109221
CLASS:PUBLIC
STATUS:CONFIRMED
CATEGORIES:
LOCATION:
CONTACT:
END:VEVENT
BEGIN:VEVENT
DTSTAMP:20230524T141141
DTSTART;TZID=America/Detroit:20230719T090000
DTEND;TZID=America/Detroit:20230719T200000
SUMMARY:Exhibition:Selections from the Special Collections Research Center
DESCRIPTION:Enjoy a selection of materials from the Special Collections Research Center\, from 16th century woodcuts of military weapons and devices\, to lithographs of 19th century Parisian prison\, to a 20th century manuscript poem by poet Robert Hayden.\n\nAvailable during Hatcher Gallery Exhibit Room hours (https://myumi.ch/2m7d4).
UID:108321-21819336@events.umich.edu
URL:https://events.umich.edu/event/108321
CLASS:PUBLIC
STATUS:CONFIRMED
CATEGORIES:Books,Exhibition,Free,Library
LOCATION:Hatcher Graduate Library - Hatcher Gallery Exhibit Room
CONTACT:
END:VEVENT
END:VCALENDAR