BEGIN:VCALENDAR
VERSION:2.0
PRODID:-//UM//UM*Events//EN
CALSCALE:GREGORIAN
BEGIN:VTIMEZONE
TZID:America/Detroit
TZURL:http://tzurl.org/zoneinfo/America/Detroit
X-LIC-LOCATION:America/Detroit
BEGIN:DAYLIGHT
TZOFFSETFROM:-0500
TZOFFSETTO:-0400
TZNAME:EDT
DTSTART:20070311T020000
RRULE:FREQ=YEARLY;BYMONTH=3;BYDAY=2SU
END:DAYLIGHT
BEGIN:STANDARD
TZOFFSETFROM:-0400
TZOFFSETTO:-0500
TZNAME:EST
DTSTART:20071104T020000
RRULE:FREQ=YEARLY;BYMONTH=11;BYDAY=1SU
END:STANDARD
END:VTIMEZONE
BEGIN:VEVENT
DTSTAMP:20230704T183045
DTSTART;TZID=America/Detroit:20230719T120000
DTEND;TZID=America/Detroit:20230719T160000
SUMMARY:Careers / Jobs:GE Aerospace Diversity Summit
DESCRIPTION:Apply today to attend this high-energy\, 3-day event is filledwith interactive sessions where you can learn more about building your brand and professional development skills. \n\nEngage with GE Aerospace leadership panels\, African American Forum\, Hispanic Forum\, and Women's Network as well as interview for 2024 internships and programs.\n\nThose selected to attend the summit receive: \nMeals\, transportation\, and lodging paid for by GE Aerospace\nProfessional Development Seminars\nNetworking with GE Leadership\nAn understanding of our available Internships & Co-Ops and Development Programs in the areas of finance\, engineering\, and supply chain/manufacturing\nThe opportunity to interview for 2024 Internships andPrograms\n\nThe Diversity Summit is by invite only. Please video apply below no later than May 5th to be considered!\n\nhttps://jobs.gecareers.com/aviation/global/en/ge-aerospace-diversity-summit
UID:107645-21816314@events.umich.edu
URL:https://events.umich.edu/event/107645
CLASS:PUBLIC
STATUS:CONFIRMED
CATEGORIES:
LOCATION:Cincinnati, Ohio, United States
CONTACT:
END:VEVENT
BEGIN:VEVENT
DTSTAMP:20240116T141648
DTSTART;TZID=America/Detroit:20230719T120000
DTEND;TZID=America/Detroit:20230719T123000
SUMMARY:Well-being:North Campus Mindfulness Meditation Drop-In (Online)
DESCRIPTION:Take a moment to create some space to breathe and invite a sense of calm into your day. This is a guided mindfulness meditation drop-in session. No experience necessary. Free and open to all. \n\nEmail dmitryb@umich.edu to sign up for the mailing list. You will receive a weekly reminder with the zoom link. Also\, you can add the sessions to your Google Calendar: https://tinyurl.com/y3kbkwd6
UID:40967-21818409@events.umich.edu
URL:https://events.umich.edu/event/40967
CLASS:PUBLIC
STATUS:CONFIRMED
CATEGORIES:Health & Wellness,Meditation,Mindfulness,Mindfulness\, Meditation,North campus,Stress Reduction,Virtual,Well-being
LOCATION:Off Campus Location
CONTACT:
END:VEVENT
END:VCALENDAR