BEGIN:VCALENDAR
VERSION:2.0
PRODID:-//UM//UM*Events//EN
CALSCALE:GREGORIAN
BEGIN:VTIMEZONE
TZID:America/Detroit
TZURL:http://tzurl.org/zoneinfo/America/Detroit
X-LIC-LOCATION:America/Detroit
BEGIN:DAYLIGHT
TZOFFSETFROM:-0500
TZOFFSETTO:-0400
TZNAME:EDT
DTSTART:20070311T020000
RRULE:FREQ=YEARLY;BYMONTH=3;BYDAY=2SU
END:DAYLIGHT
BEGIN:STANDARD
TZOFFSETFROM:-0400
TZOFFSETTO:-0500
TZNAME:EST
DTSTART:20071104T020000
RRULE:FREQ=YEARLY;BYMONTH=11;BYDAY=1SU
END:STANDARD
END:VTIMEZONE
BEGIN:VEVENT
DTSTAMP:20230803T063048
DTSTART;TZID=America/Detroit:20230719T120000
DTEND;TZID=America/Detroit:20230719T130000
SUMMARY:Careers / Jobs:Tech Talent & Coffee - Accelerating Your Career Search with AI
DESCRIPTION:Join us for our next online event \"Tech Talent & Coffee - Accelerating Your Career Search with AI\,\" where we will explore how leveraging artificial intelligence can speed up your job hunt. Our TTS experts willgo over insights on integrating AI into your resume\, LinkedIn optimization\, and networking strategies to propel your job search process forward.\n\nWe'd love to have you join us! Oh—and don't forget to grab a coffee and bring a few questions\; we're here to help ☕
UID:109002-21820706@events.umich.edu
URL:https://events.umich.edu/event/109002
CLASS:PUBLIC
STATUS:CONFIRMED
CATEGORIES:
LOCATION:
CONTACT:
END:VEVENT
BEGIN:VEVENT
DTSTAMP:20230524T142909
DTSTART;TZID=America/Detroit:20230719T121500
DTEND;TZID=America/Detroit:20230719T130000
SUMMARY:Conference / Symposium:PHILIP S. BRACHMAN MEMORIAL LECTURE
DESCRIPTION:The Summer Session in Epidemiology \nUniversity of Michigan\nSchool of Public Health\nSPH I Room 3755\nWednesday\, July 19 at 12:15 PM
UID:108322-21819349@events.umich.edu
URL:https://events.umich.edu/event/108322
CLASS:PUBLIC
STATUS:CONFIRMED
CATEGORIES:Education,Well-being,Social Sciences,Social Impact,seminar,Rackham,Public Health,Media,Lifelong Learning,Lecture,Graduate School
LOCATION:Public Health I (Vaughan Building) - 3755
CONTACT:
END:VEVENT
END:VCALENDAR