BEGIN:VCALENDAR
VERSION:2.0
PRODID:-//UM//UM*Events//EN
CALSCALE:GREGORIAN
BEGIN:VTIMEZONE
TZID:America/Detroit
TZURL:http://tzurl.org/zoneinfo/America/Detroit
X-LIC-LOCATION:America/Detroit
BEGIN:DAYLIGHT
TZOFFSETFROM:-0500
TZOFFSETTO:-0400
TZNAME:EDT
DTSTART:20070311T020000
RRULE:FREQ=YEARLY;BYMONTH=3;BYDAY=2SU
END:DAYLIGHT
BEGIN:STANDARD
TZOFFSETFROM:-0400
TZOFFSETTO:-0500
TZNAME:EST
DTSTART:20071104T020000
RRULE:FREQ=YEARLY;BYMONTH=11;BYDAY=1SU
END:STANDARD
END:VTIMEZONE
BEGIN:VEVENT
DTSTAMP:20230711T181529
DTSTART;TZID=America/Detroit:20230719T130000
DTEND;TZID=America/Detroit:20230719T134500
SUMMARY:Livestream / Virtual:Coffee Chats for Graduate Students: Informational Interviewing
DESCRIPTION:We are offering a number of virtual coffee chats for the graduate student community this summer\, hosted by Rackham’s embedded University Career Center career counselors. The topic for this session is informational interviewing\, which can be a powerful tool to aid in your career exploration as well as networking and job search efforts. We’ll talk about the purpose of an informational interview\, how to identify people to interview\, how to request an informational interview\, and how to prepare for a productive conversation.\n\nThis event is intended to be interactive and therefore a recording will not be available.\nRegistration is required at https://myumi.ch/35Pw2.\nWe want to ensure full and equitable participation in our events. If an accommodation would promote your full participation in this event\, please follow the registration link to indicate your accommodation requirements. Please let us know as soon as possible in order to have adequate time\, preferably one week\, to arrange for your requested accommodations or an effective alternative.
UID:109079-21821048@events.umich.edu
URL:https://events.umich.edu/event/109079
CLASS:PUBLIC
STATUS:CONFIRMED
CATEGORIES:Graduate Students
LOCATION:Off Campus Location
CONTACT:
END:VEVENT
BEGIN:VEVENT
DTSTAMP:20230803T123058
DTSTART;TZID=America/Detroit:20230719T130000
DTEND;TZID=America/Detroit:20230719T140000
SUMMARY:Careers / Jobs:Food Processing Suppliers Association Roundtable for All Degrees
DESCRIPTION:The Food Processing Suppliers Association (FPSA)'s Young Professional Group (YPG) is hosting a Summer Series of Career Roundtables. Career Roundtables are a \"Speed\" networking opportunity for students to discuss with YPG members various topics/concerns regarding entering the food andbeverage sector.\n\nRegister TODAY for July 19th Round Table at 2 PM ET (all degrees with operations-focused careers\, e.g.\, psychology\, sociology\, marketing\, communications\, business\, etc.)
UID:109142-21821121@events.umich.edu
URL:https://events.umich.edu/event/109142
CLASS:PUBLIC
STATUS:CONFIRMED
CATEGORIES:
LOCATION:
CONTACT:
END:VEVENT
END:VCALENDAR