BEGIN:VCALENDAR
VERSION:2.0
PRODID:-//UM//UM*Events//EN
CALSCALE:GREGORIAN
BEGIN:VTIMEZONE
TZID:America/Detroit
TZURL:http://tzurl.org/zoneinfo/America/Detroit
X-LIC-LOCATION:America/Detroit
BEGIN:DAYLIGHT
TZOFFSETFROM:-0500
TZOFFSETTO:-0400
TZNAME:EDT
DTSTART:20070311T020000
RRULE:FREQ=YEARLY;BYMONTH=3;BYDAY=2SU
END:DAYLIGHT
BEGIN:STANDARD
TZOFFSETFROM:-0400
TZOFFSETTO:-0500
TZNAME:EST
DTSTART:20071104T020000
RRULE:FREQ=YEARLY;BYMONTH=11;BYDAY=1SU
END:STANDARD
END:VTIMEZONE
BEGIN:VEVENT
DTSTAMP:20230705T143548
DTSTART;TZID=America/Detroit:20230719T130000
DTEND;TZID=America/Detroit:20230719T143000
SUMMARY:Workshop / Seminar:LGBTQIA+: An Introduction to Inclusive Language
DESCRIPTION:The course details are available on the Organizational Learning Website.
UID:108991-21820690@events.umich.edu
URL:https://events.umich.edu/event/108991
CLASS:PUBLIC
STATUS:CONFIRMED
CATEGORIES:Communication,Culture,Diversity Equity and Inclusion,Inclusion
LOCATION:Off Campus Location
CONTACT:
END:VEVENT
BEGIN:VEVENT
DTSTAMP:20230803T123045
DTSTART;TZID=America/Detroit:20230719T130000
DTEND;TZID=America/Detroit:20230719T133000
SUMMARY:Careers / Jobs:Students & Grads Virtual Event: Networking Breakouts with Capital One Associates
DESCRIPTION:\"Join us for interactive breakout sessions where you’ll learn about Capital One's Students & Grads Programs and network with associates in areas like Tech\, Analytics\, and more. \n\nTo view a list of other upcoming events\, check out our landing page. If you’d like to learn moreabout us\, feel free to browse our blog homepage and get a snapshot of #LifeAtCapitalOne.\"
UID:108335-21819363@events.umich.edu
URL:https://events.umich.edu/event/108335
CLASS:PUBLIC
STATUS:CONFIRMED
CATEGORIES:
LOCATION:
CONTACT:
END:VEVENT
END:VCALENDAR