BEGIN:VCALENDAR
VERSION:2.0
PRODID:-//UM//UM*Events//EN
CALSCALE:GREGORIAN
BEGIN:VTIMEZONE
TZID:America/Detroit
TZURL:http://tzurl.org/zoneinfo/America/Detroit
X-LIC-LOCATION:America/Detroit
BEGIN:DAYLIGHT
TZOFFSETFROM:-0500
TZOFFSETTO:-0400
TZNAME:EDT
DTSTART:20070311T020000
RRULE:FREQ=YEARLY;BYMONTH=3;BYDAY=2SU
END:DAYLIGHT
BEGIN:STANDARD
TZOFFSETFROM:-0400
TZOFFSETTO:-0500
TZNAME:EST
DTSTART:20071104T020000
RRULE:FREQ=YEARLY;BYMONTH=11;BYDAY=1SU
END:STANDARD
END:VTIMEZONE
BEGIN:VEVENT
DTSTAMP:20230803T123041
DTSTART;TZID=America/Detroit:20230719T130000
DTEND;TZID=America/Detroit:20230719T160000
SUMMARY:Careers / Jobs:Virtual Investment Management 2023 EXPLORE Day
DESCRIPTION:Are you a first- or second-year student looking to take your first step in landing a career in investment management? Join us as Vanguard hosts our Virtual Investment Management EXPLORE Day on Wednesday\, July 19th from 1:00-4:00pm ET to find your direction!\n\nAt this virtual event\, you will have the opportunity to:\n-  Meet fellow students and program leaders from various departments within investment management\n-  Learn from current crew members about our impactful internships and full-time rotational positions\n-  Participate in professional development activities that will set you up for a successful career\n\nDon't miss out on this chanceto learn about an organization that is changing the way the world invests. First- and second-year students of all majors are encouraged to apply. \n\nPlease be sure to submit your application no later than Wednesday\, June 28th.
UID:108122-21818966@events.umich.edu
URL:https://events.umich.edu/event/108122
CLASS:PUBLIC
STATUS:CONFIRMED
CATEGORIES:
LOCATION:
CONTACT:
END:VEVENT
BEGIN:VEVENT
DTSTAMP:20230815T124701
DTSTART;TZID=America/Detroit:20230719T133000
DTEND;TZID=America/Detroit:20230719T150000
SUMMARY:Workshop / Seminar:CoderSpaces: Wednesdays Spring/Summer 2023
DESCRIPTION:Are you grappling with a piece of code\, trying to compute on a cluster\, or just getting started with a new method such as machine learning? Then we might have just the right space for you.\n\nAll members of the U-M community are invited to join our weekly virtual CoderSpaces to get research support and connect with others. \n\nWednesdays\, 1:30-3 p.m. ET\, via Zoom
UID:107935-21818448@events.umich.edu
URL:https://events.umich.edu/event/107935
CLASS:PUBLIC
STATUS:CONFIRMED
CATEGORIES:Data Science
LOCATION:Off Campus Location
CONTACT:
END:VEVENT
END:VCALENDAR