BEGIN:VCALENDAR
VERSION:2.0
PRODID:-//UM//UM*Events//EN
CALSCALE:GREGORIAN
BEGIN:VTIMEZONE
TZID:America/Detroit
TZURL:http://tzurl.org/zoneinfo/America/Detroit
X-LIC-LOCATION:America/Detroit
BEGIN:DAYLIGHT
TZOFFSETFROM:-0500
TZOFFSETTO:-0400
TZNAME:EDT
DTSTART:20070311T020000
RRULE:FREQ=YEARLY;BYMONTH=3;BYDAY=2SU
END:DAYLIGHT
BEGIN:STANDARD
TZOFFSETFROM:-0400
TZOFFSETTO:-0500
TZNAME:EST
DTSTART:20071104T020000
RRULE:FREQ=YEARLY;BYMONTH=11;BYDAY=1SU
END:STANDARD
END:VTIMEZONE
BEGIN:VEVENT
DTSTAMP:20230803T123048
DTSTART;TZID=America/Detroit:20230719T160000
DTEND;TZID=America/Detroit:20230719T170000
SUMMARY:Careers / Jobs:Girls Who Invest Information Session
DESCRIPTION:Please join us for an information session covering Girls Who Invest programs and our application process. Come with your questions - we're happy to answer them!\n\nNote: Applications for Summer 2023 opportunities are closed. Current and incoming college students with anticipated graduation dates between Fall 2025 and Spring 2027 will be eligible for our Summer 2024 programs (application to open this fall).
UID:108766-21820366@events.umich.edu
URL:https://events.umich.edu/event/108766
CLASS:PUBLIC
STATUS:CONFIRMED
CATEGORIES:
LOCATION:
CONTACT:
END:VEVENT
BEGIN:VEVENT
DTSTAMP:20230803T123053
DTSTART;TZID=America/Detroit:20230719T170000
DTEND;TZID=America/Detroit:20230719T180000
SUMMARY:Careers / Jobs:Partners in Performance: Introduction & Case Study Info Session
DESCRIPTION:Dial in and learn who Partners in Performance is\, our industry of Management Consulting\, our work with Mining\, Oil & Gas and other industries\, and meet some of people and get a sense of our culture! We willalso review our case study structure and how we walk through them during our interviews.\n\nJoin us for some great insights and see if we're a goodmatch for your career aspirations!!\n\nThis event is open to all who are interested in learning about a career in Management Consulting with an interest in Mining\, Oil & Gas\, Energy Transition and more!
UID:109026-21820739@events.umich.edu
URL:https://events.umich.edu/event/109026
CLASS:PUBLIC
STATUS:CONFIRMED
CATEGORIES:
LOCATION:
CONTACT:
END:VEVENT
END:VCALENDAR