BEGIN:VCALENDAR
VERSION:2.0
PRODID:-//UM//UM*Events//EN
CALSCALE:GREGORIAN
BEGIN:VTIMEZONE
TZID:America/Detroit
TZURL:http://tzurl.org/zoneinfo/America/Detroit
X-LIC-LOCATION:America/Detroit
BEGIN:DAYLIGHT
TZOFFSETFROM:-0500
TZOFFSETTO:-0400
TZNAME:EDT
DTSTART:20070311T020000
RRULE:FREQ=YEARLY;BYMONTH=3;BYDAY=2SU
END:DAYLIGHT
BEGIN:STANDARD
TZOFFSETFROM:-0400
TZOFFSETTO:-0500
TZNAME:EST
DTSTART:20071104T020000
RRULE:FREQ=YEARLY;BYMONTH=11;BYDAY=1SU
END:STANDARD
END:VTIMEZONE
BEGIN:VEVENT
DTSTAMP:20230707T121644
DTSTART;TZID=America/Detroit:20230708T200000
DTEND;TZID=America/Detroit:20230708T210000
SUMMARY:Performance:Spotlight Solo Recital: Brandon Leonard\, cello
DESCRIPTION:Center Stage Strings (CSS)—one of SMTD’s MPulse performing arts summer programs for youth—welcomes the public to a series of live concerts\, free to attend in-person on campus or to watch from anywhere via Livestream.\n\nCSS was founded by renowned violinist and SMTD Professor Danielle Belen to develop the talents of serious young classical music students in the areas of solo and chamber music performance. Learn more at centerstagestrings.net.
UID:108461-21819616@events.umich.edu
URL:https://events.umich.edu/event/108461
CLASS:PUBLIC
STATUS:CONFIRMED
CATEGORIES:
LOCATION:Off Campus Location
CONTACT:
END:VEVENT
BEGIN:VEVENT
DTSTAMP:20230530T133246
DTSTART;TZID=America/Detroit:20230709T000100
DTEND;TZID=America/Detroit:20230709T235900
SUMMARY:Class / Instruction:Summer Session in Epidemiology
DESCRIPTION:Summer Session in Epidemiology Courses Offered July 10 - July 28\, 2023\nhttps://sph.umich.edu/umsse/\n$50 late registration fee applies after May 31\, 2023\n\n2023 Courses can be taken Online or In-Person depending on the course. \nIn-Person courses will have a remote option as well (i.e. live attendance via Zoom). \nRegistration for 3 or more courses within a cluster receive 25% discount
UID:105658-21819514@events.umich.edu
URL:https://events.umich.edu/event/105658
CLASS:PUBLIC
STATUS:CONFIRMED
CATEGORIES:Education,Epidemiology,Professional Development,Virtual
LOCATION:Off Campus Location
CONTACT:
END:VEVENT
END:VCALENDAR