BEGIN:VCALENDAR
VERSION:2.0
PRODID:-//UM//UM*Events//EN
CALSCALE:GREGORIAN
BEGIN:VTIMEZONE
TZID:America/Detroit
TZURL:http://tzurl.org/zoneinfo/America/Detroit
X-LIC-LOCATION:America/Detroit
BEGIN:DAYLIGHT
TZOFFSETFROM:-0500
TZOFFSETTO:-0400
TZNAME:EDT
DTSTART:20070311T020000
RRULE:FREQ=YEARLY;BYMONTH=3;BYDAY=2SU
END:DAYLIGHT
BEGIN:STANDARD
TZOFFSETFROM:-0400
TZOFFSETTO:-0500
TZNAME:EST
DTSTART:20071104T020000
RRULE:FREQ=YEARLY;BYMONTH=11;BYDAY=1SU
END:STANDARD
END:VTIMEZONE
BEGIN:VEVENT
DTSTAMP:20230524T141141
DTSTART;TZID=America/Detroit:20230709T090000
DTEND;TZID=America/Detroit:20230709T200000
SUMMARY:Exhibition:Selections from the Special Collections Research Center
DESCRIPTION:Enjoy a selection of materials from the Special Collections Research Center\, from 16th century woodcuts of military weapons and devices\, to lithographs of 19th century Parisian prison\, to a 20th century manuscript poem by poet Robert Hayden.\n\nAvailable during Hatcher Gallery Exhibit Room hours (https://myumi.ch/2m7d4).
UID:108321-21819326@events.umich.edu
URL:https://events.umich.edu/event/108321
CLASS:PUBLIC
STATUS:CONFIRMED
CATEGORIES:Library,Free,Exhibition,Books
LOCATION:Hatcher Graduate Library - Hatcher Gallery Exhibit Room
CONTACT:
END:VEVENT
BEGIN:VEVENT
DTSTAMP:20220818T100608
DTSTART;TZID=America/Detroit:20230709T100000
DTEND;TZID=America/Detroit:20230709T120000
SUMMARY:Ceremony / Service:Sunday Celebration
DESCRIPTION:The school year is about to begin! No matter your background\, join us in kicking off this season with new expectations and hope.\n\nJoin us at 10AM every Sunday to experience church in a fresh way as we worship and seek God together. We meet at the Transformation Center (1001 E. Huron St.) which is located across the street from the Rackham Auditorium and the Power Center.\n\nCurious? Check out our website at https://annarbor.hmcc.net/ to learn more about who we are and what we value.
UID:96832-21793855@events.umich.edu
URL:https://events.umich.edu/event/96832
CLASS:PUBLIC
STATUS:CONFIRMED
CATEGORIES:religious,welcome week,spiritual,christian,faith,church,christianity
LOCATION:Off Campus Location
CONTACT:
END:VEVENT
END:VCALENDAR