BEGIN:VCALENDAR
VERSION:2.0
PRODID:-//UM//UM*Events//EN
CALSCALE:GREGORIAN
BEGIN:VTIMEZONE
TZID:America/Detroit
TZURL:http://tzurl.org/zoneinfo/America/Detroit
X-LIC-LOCATION:America/Detroit
BEGIN:DAYLIGHT
TZOFFSETFROM:-0500
TZOFFSETTO:-0400
TZNAME:EDT
DTSTART:20070311T020000
RRULE:FREQ=YEARLY;BYMONTH=3;BYDAY=2SU
END:DAYLIGHT
BEGIN:STANDARD
TZOFFSETFROM:-0400
TZOFFSETTO:-0500
TZNAME:EST
DTSTART:20071104T020000
RRULE:FREQ=YEARLY;BYMONTH=11;BYDAY=1SU
END:STANDARD
END:VTIMEZONE
BEGIN:VEVENT
DTSTAMP:20230725T063048
DTSTART;TZID=America/Detroit:20230710T080000
DTEND;TZID=America/Detroit:20230710T090000
SUMMARY:Careers / Jobs:Meet McKinsey Middle East
DESCRIPTION:McKinsey is a global management consultancy firm. We began serving clients in the Middle East region in the mid-90s across the GCC region (Bahrain\, Kuwait\, Oman\, Qatar\, Saudi Arabia & UAE)\, Egypt and Pakistan. \n\nIf you would like to hear more about the office and opportunitieswe have available\, we invite you to attend our session on Monday 10th ofJuly. Our session will take place virtually between 18:00 - 19:00 UAE time.\n\n​We are looking for talents who:\n- Are interested in a career with McKinsey in the Middle East and in shaping the future of the region\n- Have demonstrable ties to or interest in the Middle East region\n- Have a track record of high achievement (e.g. academic)\n- Speak Arabic (preferredbut not essential)\n- Enjoy problem solving and working in teams\n- Are driven by impact and an entrepreneurial spirit \n- The session is open to candidates currently based in the United States and graduating in 2024 witha Bachelor\, Masters or PhD.
UID:108864-21820493@events.umich.edu
URL:https://events.umich.edu/event/108864
CLASS:PUBLIC
STATUS:CONFIRMED
CATEGORIES:
LOCATION:
CONTACT:
END:VEVENT
BEGIN:VEVENT
DTSTAMP:20230622T145547
DTSTART;TZID=America/Detroit:20230710T090000
DTEND;TZID=America/Detroit:20230710T170000
SUMMARY:Workshop / Seminar:Biomedical Data Science Summer Academy 2023
DESCRIPTION:Registration is now closed.\n\nJuly 10-14\, 2023\nFor faculty\, postdocs\, and staff. In-person at U-M Ann Arbor campus\n\n**Registration for this Summer Academy is now closed. Accepted registrants will be notified starting May 18**\n\nFor more information\, please visit our event page here: \nhttps://midas.umich.edu/workshops/biomedical-academy-2023/\n\nOur summer academies equip researchers with the essential skills required to apply advanced data science techniques to their respective fields of study and integrate these methodologies into their grant proposals. The overarching objective of these academies is to foster a research community that can drive the advancement of data science applications in a wide range of research fields.\n\nOutcomes:\n    Certificate of completion\n    Ability to communicate a breadth of data science topics with experts\n    Skills to abstractly consider data science solutions and apply them to biomedical problems\n\nTuition cost:\nWe will send payment instructions along with acceptance decisions.\n\n    $3\,000 for external participants (30% discount for U-M Alums)\n    Thanks to support from the University\, we are able to offer a reduced price of $100 for U-M personnel and students\n\nCancellation Policy:\n>14 days before the first day: full refund minus $50 processing fee\nCancellation between 7 and 14 days of the first day: 50% refund\nLess than 7 days: no refund\n\nWho should attend:\nThis academy workshop is open to all U-M and external biomedical scientists\, but the content is geared towards junior faculty members and those from the public and private sector who are interested in learning about incorporating data science into their research.\n\nPrerequisites:\nCollege-level math or statistics. No previous coding experience is required.\nStudents are expected to bring a laptop for programming components of the workshop.
UID:107867-21817683@events.umich.edu
URL:https://events.umich.edu/event/107867
CLASS:PUBLIC
STATUS:CONFIRMED
CATEGORIES:Education,Workshop,Networking,Biomedical Engineering,Data Science,Biosciences
LOCATION:LSA Building - 1040
CONTACT:
END:VEVENT
END:VCALENDAR