BEGIN:VCALENDAR
VERSION:2.0
PRODID:-//UM//UM*Events//EN
CALSCALE:GREGORIAN
BEGIN:VTIMEZONE
TZID:America/Detroit
TZURL:http://tzurl.org/zoneinfo/America/Detroit
X-LIC-LOCATION:America/Detroit
BEGIN:DAYLIGHT
TZOFFSETFROM:-0500
TZOFFSETTO:-0400
TZNAME:EDT
DTSTART:20070311T020000
RRULE:FREQ=YEARLY;BYMONTH=3;BYDAY=2SU
END:DAYLIGHT
BEGIN:STANDARD
TZOFFSETFROM:-0400
TZOFFSETTO:-0500
TZNAME:EST
DTSTART:20071104T020000
RRULE:FREQ=YEARLY;BYMONTH=11;BYDAY=1SU
END:STANDARD
END:VTIMEZONE
BEGIN:VEVENT
DTSTAMP:20230524T141141
DTSTART;TZID=America/Detroit:20230710T090000
DTEND;TZID=America/Detroit:20230710T200000
SUMMARY:Exhibition:Selections from the Special Collections Research Center
DESCRIPTION:Enjoy a selection of materials from the Special Collections Research Center\, from 16th century woodcuts of military weapons and devices\, to lithographs of 19th century Parisian prison\, to a 20th century manuscript poem by poet Robert Hayden.\n\nAvailable during Hatcher Gallery Exhibit Room hours (https://myumi.ch/2m7d4).
UID:108321-21819327@events.umich.edu
URL:https://events.umich.edu/event/108321
CLASS:PUBLIC
STATUS:CONFIRMED
CATEGORIES:Books,Exhibition,Free,Library
LOCATION:Hatcher Graduate Library - Hatcher Gallery Exhibit Room
CONTACT:
END:VEVENT
BEGIN:VEVENT
DTSTAMP:20230725T063054
DTSTART;TZID=America/Detroit:20230710T100000
DTEND;TZID=America/Detroit:20230710T170000
SUMMARY:Careers / Jobs:Interview/Hiring Event
DESCRIPTION:Are you interested in an onsite interview/hiring event on Monday 7/10 for Lead Service Associate? (Full benefits). \n\nLocation: 715 S. Clinton St\, Grand Ledge\, MI\nTime/Date: Monday 7/10 anytime between 10a-1p or 3:30p-5p\nWalk in. Please bring your ID\n\nIf that date does not work for you\, you can apply to our career site below and once you complete the app\, prescreen q’s\, and assessment you will be able to schedule an in person interview on the date/time that you choose. Using a laptop/desktop works best. \n\nhttps://riteaid.loop.jobs/job/Rite-Aid-Grand-Ledge-Michigan/198030645
UID:109017-21820726@events.umich.edu
URL:https://events.umich.edu/event/109017
CLASS:PUBLIC
STATUS:CONFIRMED
CATEGORIES:
LOCATION:715 South Clinton Street, Grand Ledge, Michigan 48837, United States
CONTACT:
END:VEVENT
END:VCALENDAR