BEGIN:VCALENDAR
VERSION:2.0
PRODID:-//UM//UM*Events//EN
CALSCALE:GREGORIAN
BEGIN:VTIMEZONE
TZID:America/Detroit
TZURL:http://tzurl.org/zoneinfo/America/Detroit
X-LIC-LOCATION:America/Detroit
BEGIN:DAYLIGHT
TZOFFSETFROM:-0500
TZOFFSETTO:-0400
TZNAME:EDT
DTSTART:20070311T020000
RRULE:FREQ=YEARLY;BYMONTH=3;BYDAY=2SU
END:DAYLIGHT
BEGIN:STANDARD
TZOFFSETFROM:-0400
TZOFFSETTO:-0500
TZNAME:EST
DTSTART:20071104T020000
RRULE:FREQ=YEARLY;BYMONTH=11;BYDAY=1SU
END:STANDARD
END:VTIMEZONE
BEGIN:VEVENT
DTSTAMP:20230427T121417
DTSTART;TZID=America/Detroit:20230710T120000
DTEND;TZID=America/Detroit:20230710T160000
SUMMARY:Tours:Building on a Century of Collecting at the Clements Library
DESCRIPTION:As we celebrate the library’s centennial\, this exhibit is an attempt to answer a question asked often by visitors\, how do you decide what to acquire to add to your collections.\n\nIt builds on the landmark publication of the library’s 75th anniversary\, One Hundred and One Treasures From the Collections of the William L. Clements Library\, edited by former library director John Dann. This exhibit—and its expanded online version—pairs items from 101 Treasures with related items that have for the most part been acquired since 1998. Those that were acquired earlier are items about which we’ve learned new things in the intervening 25 years.
UID:107840-21817533@events.umich.edu
URL:https://events.umich.edu/event/107840
CLASS:PUBLIC
STATUS:CONFIRMED
CATEGORIES:american culture,american history,Centennial,Exhibition,Free,history,In Person,libraries,Library,Tour
LOCATION:William Clements Library
CONTACT:
END:VEVENT
BEGIN:VEVENT
DTSTAMP:20240111T092357
DTSTART;TZID=America/Detroit:20230710T123000
DTEND;TZID=America/Detroit:20230710T131500
SUMMARY:Presentation:Sea Monsters
DESCRIPTION:The film follows a curious and adventurous Dolichorhynchops – familiarly known as a ‘dolly’ – as she travels through the most dangerous oceans in history. Along the way\, she encounters long-necked plesiosaurs\, giant turtles\, enormous fish\, fierce sharks\, and the most dangerous sea monster of all\, the mosasaur.\n\nThe state-of-the-art Planetarium & Dome Theater at the U-M Museum of Natural History transports visitors beyond distant stars and back in time from the comfort of reclining seats. Tickets $8. Tickets are available on the day of the show at the Museum Store.\n\nThe planetarium is operating at half capacity to maximize distancing between viewers.
UID:93123-21820056@events.umich.edu
URL:https://events.umich.edu/event/93123
CLASS:PUBLIC
STATUS:CONFIRMED
CATEGORIES:natural history museum,Natural Sciences,Science
LOCATION:Museum of Natural History
CONTACT:
END:VEVENT
END:VCALENDAR