BEGIN:VCALENDAR
VERSION:2.0
PRODID:-//UM//UM*Events//EN
CALSCALE:GREGORIAN
BEGIN:VTIMEZONE
TZID:America/Detroit
TZURL:http://tzurl.org/zoneinfo/America/Detroit
X-LIC-LOCATION:America/Detroit
BEGIN:DAYLIGHT
TZOFFSETFROM:-0500
TZOFFSETTO:-0400
TZNAME:EDT
DTSTART:20070311T020000
RRULE:FREQ=YEARLY;BYMONTH=3;BYDAY=2SU
END:DAYLIGHT
BEGIN:STANDARD
TZOFFSETFROM:-0400
TZOFFSETTO:-0500
TZNAME:EST
DTSTART:20071104T020000
RRULE:FREQ=YEARLY;BYMONTH=11;BYDAY=1SU
END:STANDARD
END:VTIMEZONE
BEGIN:VEVENT
DTSTAMP:20240405T194239
DTSTART;TZID=America/Detroit:20230710T143000
DTEND;TZID=America/Detroit:20230710T151500
SUMMARY:Presentation:We Are Stars
DESCRIPTION:What are we made of? Where did it all come from? Explore the secrets of our cosmic chemistry and our explosive origins. Connect life on Earth to the evolution of the Universe by following the formation of hydrogen atoms to the synthesis of carbon\, and the molecules for life.\n\nThe state-of-the-art Planetarium & Dome Theater at the U-M Museum of Natural History transports visitors beyond distant stars and back in time from the comfort of reclining seats. Tickets $8. Tickets are available on the day of the show at the Museum Store.
UID:108577-21820149@events.umich.edu
URL:https://events.umich.edu/event/108577
CLASS:PUBLIC
STATUS:CONFIRMED
CATEGORIES:Astronomy,Museum,Natural Sciences,Science
LOCATION:Museum of Natural History
CONTACT:
END:VEVENT
BEGIN:VEVENT
DTSTAMP:20231003T121730
DTSTART;TZID=America/Detroit:20230710T150000
DTEND;TZID=America/Detroit:20230710T163000
SUMMARY:Performance:Nkeiru Okoye’s “When the Caged Bird Sings” Libretto Reading
DESCRIPTION:This Libretto Reading takes place in advance of the February 10\, 2024 performance of a new commission and world première by American composer NKEIRU OKOYE. \n\nOkoye’s evocative new piece celebrates the spirit of rising above expectations and transforming adversity into triumph. Partly in tribute to the activist and poet laureate Maya Angelou\, *When the Caged Bird Sings* celebrates explores the transformative ability of the human spirit\, and especially African American women\, commemorating those who have paved a path for future generations in many fields of human endeavor.\n\n*Commissioned by the University of Michigan School of Music\, Theatre & Dance as part of the Michigan Orchestra Repertoire for Equity initiative.*
UID:113053-21829969@events.umich.edu
URL:https://events.umich.edu/event/113053
CLASS:PUBLIC
STATUS:CONFIRMED
CATEGORIES:
LOCATION:Earl V. Moore Building - Hankinson Rehearsal Hall
CONTACT:
END:VEVENT
END:VCALENDAR