BEGIN:VCALENDAR
VERSION:2.0
PRODID:-//UM//UM*Events//EN
CALSCALE:GREGORIAN
BEGIN:VTIMEZONE
TZID:America/Detroit
TZURL:http://tzurl.org/zoneinfo/America/Detroit
X-LIC-LOCATION:America/Detroit
BEGIN:DAYLIGHT
TZOFFSETFROM:-0500
TZOFFSETTO:-0400
TZNAME:EDT
DTSTART:20070311T020000
RRULE:FREQ=YEARLY;BYMONTH=3;BYDAY=2SU
END:DAYLIGHT
BEGIN:STANDARD
TZOFFSETFROM:-0400
TZOFFSETTO:-0500
TZNAME:EST
DTSTART:20071104T020000
RRULE:FREQ=YEARLY;BYMONTH=11;BYDAY=1SU
END:STANDARD
END:VTIMEZONE
BEGIN:VEVENT
DTSTAMP:20230725T123035
DTSTART;TZID=America/Detroit:20230710T150000
DTEND;TZID=America/Detroit:20230710T160000
SUMMARY:Careers / Jobs:Resume Lab
DESCRIPTION:Just getting started building a resume? Have a draft but not sure how to make it better? Want to learn about resources available to revise your resume? Wherever you’re at Resume Lab is a great next step for you.\n\nGet real-time\, personalized support in a small group setting by checking out the Resume Lab. \n\nWe will discuss and educate you on…\n- Design and format\n- Writing a great bullet point\n- Targeting your resume for specific internships/jobs\n\nIf you're a Graduate Student or Recent Grad\, please make a 1:1 appointment instead of attending the Lab because this event is designed for undergraduates.
UID:107572-21816223@events.umich.edu
URL:https://events.umich.edu/event/107572
CLASS:PUBLIC
STATUS:CONFIRMED
CATEGORIES:
LOCATION:
CONTACT:
END:VEVENT
BEGIN:VEVENT
DTSTAMP:20230608T105331
DTSTART;TZID=America/Detroit:20230710T153000
DTEND;TZID=America/Detroit:20230710T163000
SUMMARY:Reception / Open House:MCSP Virtual Open House
DESCRIPTION:Drop in during this time to chat with MCSP staff and get your questions answered about courses\, MCSP programming\, living in West Quad\, and more! We'd love to meet you!
UID:108557-21819959@events.umich.edu
URL:https://events.umich.edu/event/108557
CLASS:PUBLIC
STATUS:CONFIRMED
CATEGORIES:Community Service,Inclusion,Social Justice,Undergraduate
LOCATION:Off Campus Location
CONTACT:
END:VEVENT
END:VCALENDAR