BEGIN:VCALENDAR
VERSION:2.0
PRODID:-//UM//UM*Events//EN
CALSCALE:GREGORIAN
BEGIN:VTIMEZONE
TZID:America/Detroit
TZURL:http://tzurl.org/zoneinfo/America/Detroit
X-LIC-LOCATION:America/Detroit
BEGIN:DAYLIGHT
TZOFFSETFROM:-0500
TZOFFSETTO:-0400
TZNAME:EDT
DTSTART:20070311T020000
RRULE:FREQ=YEARLY;BYMONTH=3;BYDAY=2SU
END:DAYLIGHT
BEGIN:STANDARD
TZOFFSETFROM:-0400
TZOFFSETTO:-0500
TZNAME:EST
DTSTART:20071104T020000
RRULE:FREQ=YEARLY;BYMONTH=11;BYDAY=1SU
END:STANDARD
END:VTIMEZONE
BEGIN:VEVENT
DTSTAMP:20230725T003046
DTSTART;TZID=America/Detroit:20230710T153000
DTEND;TZID=America/Detroit:20230710T163000
SUMMARY:Careers / Jobs:Talk with GS Part 2: Spotlight on Businesses - Register by July 6
DESCRIPTION:Talk with GS Part 2: Spotlight on Businesses\n\nEvent Information:\nDate: Monday\, July 10\, 2023\nTime: 3:30 p.m. - 4:30 p.m. in China Standard Time\nFormat: Virtual via Zoom\nLanguage: Mandarin\n\nHow to apply:\nTo all students in any years of study who are interested in the topic\, please visit our My GS Event and search \"Talk with GS Part 2: Spotlight on Businesses\".\n\nThis series is by invitation only. Please register by July 6\, 2023 (Thursday) at 11:59 p.m China Standard Time. Email confirmations will be sent to shortlisted applicants.\n\nAt Goldman Sachs\, we believe who you are makes you better at what you do. We seek out people with all types of skills\, interests and experiences. So whether you’ve been trading penny stocks since the eighth grade or have never imagined a career in finance\, there’s a place for you here.\n\nFor us\, it’s all about bringing together people who are curious\, collaborative and have the drive to make things possible for our clients and communities. If you are interested in learning how our women leaders pave their way in the financial industry and the strong focus of diversity at Goldman Sachs\, we’d love to meet you!\n\nWe’ll be launching part 2 of our \"Talk about China with GS\" Series in July. This event will be conducted virtually. We’ve invitedour business professionals to share their opinions on “Goldman Sachs inChina”\,\nfollowing with the panel discussion about \"Journey in GS\".\n\nFor any questions\, please email to aejcampusrecruiting@gs.com
UID:108837-21820456@events.umich.edu
URL:https://events.umich.edu/event/108837
CLASS:PUBLIC
STATUS:CONFIRMED
CATEGORIES:
LOCATION:
CONTACT:
END:VEVENT
BEGIN:VEVENT
DTSTAMP:20230725T123041
DTSTART;TZID=America/Detroit:20230710T170000
DTEND;TZID=America/Detroit:20230710T173000
SUMMARY:Careers / Jobs:Students & Grads Virtual Event: Lessons Learned in Recruiting Panel
DESCRIPTION:Whether you are recruiting for your first role or if you have applied to a few roles before\, recruiting as a college student is challenging. As you navigate this process\, you undoubtedly learn tips and tricksbut wouldn't it be nice to hear from some recent alumni who have can share their experiences? Join recent Capital One hires as they share how to best approach the recruiting process! Following the presentation\, you will then have the opportunity to connect 1:1 with our volunteers to ask questions!\n\nWe will have representatives from the Capital One Developer Academy and the Technology Development Program present to share their expertise and their story/ recruiting journey. \n\nAt this time\, Capital One will not sponsor a new applicant for employment authorization for the Students &Grads Programs aligned to this event. For a full list of positions at Capital One\, please visit the Capital One Careers website.
UID:108487-21819643@events.umich.edu
URL:https://events.umich.edu/event/108487
CLASS:PUBLIC
STATUS:CONFIRMED
CATEGORIES:
LOCATION:
CONTACT:
END:VEVENT
END:VCALENDAR