BEGIN:VCALENDAR
VERSION:2.0
PRODID:-//UM//UM*Events//EN
CALSCALE:GREGORIAN
BEGIN:VTIMEZONE
TZID:America/Detroit
TZURL:http://tzurl.org/zoneinfo/America/Detroit
X-LIC-LOCATION:America/Detroit
BEGIN:DAYLIGHT
TZOFFSETFROM:-0500
TZOFFSETTO:-0400
TZNAME:EDT
DTSTART:20070311T020000
RRULE:FREQ=YEARLY;BYMONTH=3;BYDAY=2SU
END:DAYLIGHT
BEGIN:STANDARD
TZOFFSETFROM:-0400
TZOFFSETTO:-0500
TZNAME:EST
DTSTART:20071104T020000
RRULE:FREQ=YEARLY;BYMONTH=11;BYDAY=1SU
END:STANDARD
END:VTIMEZONE
BEGIN:VEVENT
DTSTAMP:20230817T063123
DTSTART;TZID=America/Detroit:20230802T120000
DTEND;TZID=America/Detroit:20230802T130000
SUMMARY:Careers / Jobs:Learn About Capital One’s Tech Programs + Recruiter and Associate Q&A
DESCRIPTION:Curious about what working at Capital One is like? Join us fora glimpse into a day in the life of our Tech Programs! During this interactive info session and associate panel\, you'll learn more about our Technology Development Program (TDP) & Internship\, Capital One Developer Academy (CODA)\, and Cyber Security Development Program (CSDP) & Internship\, and Machine Learning Development Program (MLDP). This a great opportunity to ask Capital One recruiters & associates questions during the live Q&A. \n\nThe information portion of this event is a replay. There will be live Q&A.\n\nAt this time\, Capital One will not sponsor a new applicant for employment authorization for the Students & Grads Programs aligned to this event. For a full list of positions at Capital One\, please visit the Capital One Careers website.
UID:108584-21820175@events.umich.edu
URL:https://events.umich.edu/event/108584
CLASS:PUBLIC
STATUS:CONFIRMED
CATEGORIES:
LOCATION:
CONTACT:
END:VEVENT
BEGIN:VEVENT
DTSTAMP:20240116T141648
DTSTART;TZID=America/Detroit:20230802T120000
DTEND;TZID=America/Detroit:20230802T123000
SUMMARY:Well-being:North Campus Mindfulness Meditation Drop-In (Online)
DESCRIPTION:Take a moment to create some space to breathe and invite a sense of calm into your day. This is a guided mindfulness meditation drop-in session. No experience necessary. Free and open to all. \n\nEmail dmitryb@umich.edu to sign up for the mailing list. You will receive a weekly reminder with the zoom link. Also\, you can add the sessions to your Google Calendar: https://tinyurl.com/y3kbkwd6
UID:40967-21818411@events.umich.edu
URL:https://events.umich.edu/event/40967
CLASS:PUBLIC
STATUS:CONFIRMED
CATEGORIES:Health & Wellness,Meditation,Mindfulness,Mindfulness\, Meditation,North campus,Stress Reduction,Virtual,Well-being
LOCATION:Off Campus Location
CONTACT:
END:VEVENT
END:VCALENDAR