BEGIN:VCALENDAR
VERSION:2.0
PRODID:-//UM//UM*Events//EN
CALSCALE:GREGORIAN
BEGIN:VTIMEZONE
TZID:America/Detroit
TZURL:http://tzurl.org/zoneinfo/America/Detroit
X-LIC-LOCATION:America/Detroit
BEGIN:DAYLIGHT
TZOFFSETFROM:-0500
TZOFFSETTO:-0400
TZNAME:EDT
DTSTART:20070311T020000
RRULE:FREQ=YEARLY;BYMONTH=3;BYDAY=2SU
END:DAYLIGHT
BEGIN:STANDARD
TZOFFSETFROM:-0400
TZOFFSETTO:-0500
TZNAME:EST
DTSTART:20071104T020000
RRULE:FREQ=YEARLY;BYMONTH=11;BYDAY=1SU
END:STANDARD
END:VTIMEZONE
BEGIN:VEVENT
DTSTAMP:20230815T124701
DTSTART;TZID=America/Detroit:20230802T133000
DTEND;TZID=America/Detroit:20230802T150000
SUMMARY:Workshop / Seminar:CoderSpaces: Wednesdays Spring/Summer 2023
DESCRIPTION:Are you grappling with a piece of code\, trying to compute on a cluster\, or just getting started with a new method such as machine learning? Then we might have just the right space for you.\n\nAll members of the U-M community are invited to join our weekly virtual CoderSpaces to get research support and connect with others. \n\nWednesdays\, 1:30-3 p.m. ET\, via Zoom
UID:107935-21818450@events.umich.edu
URL:https://events.umich.edu/event/107935
CLASS:PUBLIC
STATUS:CONFIRMED
CATEGORIES:Data Science
LOCATION:Off Campus Location
CONTACT:
END:VEVENT
BEGIN:VEVENT
DTSTAMP:20230802T132014
DTSTART;TZID=America/Detroit:20230802T140000
DTEND;TZID=America/Detroit:20230802T150000
SUMMARY:Workshop / Seminar:Ask a Grad Student!—Advice Panel for Incoming LGBTQ+ Students
DESCRIPTION:Grad School 101 invites you to attend our inaugural “Ask a Grad Student!”—Affinity Advice Week+! \n\nWe know that starting graduate school can be filled with many unknowns. We’re here to support you as you begin your new journey! \nOur “Ask a Grad Student!”—Affinity Advice Week+ offers over a week’s worth of advice panels for different affinity groups in Rackham. These panels are devoted to providing you with guidance on how to navigate your transition to graduate life here at Michigan. Each day\, we will focus on the experiences of a different affinity group within the Rackham community. The featured panelists will be graduate students of the particular affinity who have all been in your shoes.\nDuring the first half of our event\, the panelists will provide advice to general questions about the first year journey\, asked by our moderator. The second half of the event will be dedicated to a Q&A where you will have the opportunity to ask the panelists specific questions you may have. \nYou aren’t going to want to miss this opportunity! Make sure to sign up today!
UID:108127-21818972@events.umich.edu
URL:https://events.umich.edu/event/108127
CLASS:PUBLIC
STATUS:CONFIRMED
CATEGORIES:Sessions
LOCATION:Virtual via Zoom
CONTACT:
END:VEVENT
END:VCALENDAR