BEGIN:VCALENDAR
VERSION:2.0
PRODID:-//UM//UM*Events//EN
CALSCALE:GREGORIAN
BEGIN:VTIMEZONE
TZID:America/Detroit
TZURL:http://tzurl.org/zoneinfo/America/Detroit
X-LIC-LOCATION:America/Detroit
BEGIN:DAYLIGHT
TZOFFSETFROM:-0500
TZOFFSETTO:-0400
TZNAME:EDT
DTSTART:20070311T020000
RRULE:FREQ=YEARLY;BYMONTH=3;BYDAY=2SU
END:DAYLIGHT
BEGIN:STANDARD
TZOFFSETFROM:-0400
TZOFFSETTO:-0500
TZNAME:EST
DTSTART:20071104T020000
RRULE:FREQ=YEARLY;BYMONTH=11;BYDAY=1SU
END:STANDARD
END:VTIMEZONE
BEGIN:VEVENT
DTSTAMP:20230817T123139
DTSTART;TZID=America/Detroit:20230802T170000
DTEND;TZID=America/Detroit:20230802T180000
SUMMARY:Careers / Jobs:Food for Thought: Exploring Marketing at Burger King (Virtual InfoSession)
DESCRIPTION:Interested in learning the process for product design to deployment? At Restaurant Brands International\, multiple teams work cross functionally to design a business case for a new concept and push it through to market testing to final national campaigns. Hear from our senior Category and Social Media Managers to take a deep dive into the 4 D’s: Discovery\, Design\, Develop\, and Deploy. Discover the different avenues you can explore in the world of Marketing at RBI. Be sure to register today through Handshake. \n\nRestaurant Brands International (RBI) is the proud parentcompany to BURGER KING®\, TIM HORTONS®\, POPEYES®\, and FIREHOUSE SUBS® and an industry leader with approximately $33 billion in annual system-wide sales and over 29\,000 restaurants in more than 100 countries.
UID:108928-21820603@events.umich.edu
URL:https://events.umich.edu/event/108928
CLASS:PUBLIC
STATUS:CONFIRMED
CATEGORIES:
LOCATION:
CONTACT:
END:VEVENT
BEGIN:VEVENT
DTSTAMP:20230817T123143
DTSTART;TZID=America/Detroit:20230802T170000
DTEND;TZID=America/Detroit:20230802T190000
SUMMARY:Careers / Jobs:Link in the D - Network and Connect event for Detroit
DESCRIPTION:On Wednesday\, August 2\, 2023 from 5 - 7 pm at Newlab x Michigan Central\, 2050 15th St.\, Detroit\, 48216\, we are planning a unique networking event for college students to \"connect\" with the \"key\" employersin the greater Metro Detroit area.\n\nStudents from multiple engineering schools have been targeted (with students from other disciplines invited as well) to attend  including Michigan Technological University\, Michigan State University and the University of Michigan\, PLUS The Engineering Society of Detroit Student Chapters from each of our Michigan schools! \nThiswill be a fun\, laid-back\, networking event with light refreshments.  Leave your resume at home - business cards are cooler!  We will provide you a \"fun\" way to LINKIN at the event! \n\nWe expect representatives\, Executives\, Engineers and HR reps\, from 35 - 40  \"key\" companies to meet-up with students from many different institutions - expecting 350+ students. \n\nThe event will be hosted by The Engineering Society of Detroit\, DetroitIntern Experience (After 5 Detroit)\, and MEDC and sponsored in part by Delta Dental\, Downtown Detroit Partnership\, MSUFCU\, OneMagnify and Michigan State University.\n\nThe Event is FREE!\n\nPlease Register via EventBrite at: https://LinkIntheD2023.eventbrite.com\n\nPlease contact Heather Lilley at hlilley@esd.org with any questions you may have.
UID:109038-21820767@events.umich.edu
URL:https://events.umich.edu/event/109038
CLASS:PUBLIC
STATUS:CONFIRMED
CATEGORIES:
LOCATION:2050 15th Street, Detroit, Michigan 48208, United States
CONTACT:
END:VEVENT
END:VCALENDAR