BEGIN:VCALENDAR
VERSION:2.0
PRODID:-//UM//UM*Events//EN
CALSCALE:GREGORIAN
BEGIN:VTIMEZONE
TZID:America/Detroit
TZURL:http://tzurl.org/zoneinfo/America/Detroit
X-LIC-LOCATION:America/Detroit
BEGIN:DAYLIGHT
TZOFFSETFROM:-0500
TZOFFSETTO:-0400
TZNAME:EDT
DTSTART:20070311T020000
RRULE:FREQ=YEARLY;BYMONTH=3;BYDAY=2SU
END:DAYLIGHT
BEGIN:STANDARD
TZOFFSETFROM:-0400
TZOFFSETTO:-0500
TZNAME:EST
DTSTART:20071104T020000
RRULE:FREQ=YEARLY;BYMONTH=11;BYDAY=1SU
END:STANDARD
END:VTIMEZONE
BEGIN:VEVENT
DTSTAMP:20230725T123056
DTSTART;TZID=America/Detroit:20230710T180000
DTEND;TZID=America/Detroit:20230710T190000
SUMMARY:Careers / Jobs:Special Education and Related Services
DESCRIPTION:Montgomery County Public Schools\, Maryland's largest schools districts and one of the best school district in the country. Is hosting an Information session for Special Education Jobs on July 10\, 2023 from 6 to 7 p.m.  EST\n\nMCPS\, with a salary range of over $59\,000- $124\,000\,yearly guaranteed tuition reimbursement of 9 credits\, amazing benefits to include all medical and a state pension. MCPS offers one of the best teacher compensations packages in the country. \n\nJoin us and learn more.\n\n
UID:109058-21821013@events.umich.edu
URL:https://events.umich.edu/event/109058
CLASS:PUBLIC
STATUS:CONFIRMED
CATEGORIES:
LOCATION:
CONTACT:
END:VEVENT
BEGIN:VEVENT
DTSTAMP:20230725T183049
DTSTART;TZID=America/Detroit:20230710T180000
DTEND;TZID=America/Detroit:20230710T190000
SUMMARY:Careers / Jobs:Teaching in Alaska-Say What!
DESCRIPTION:This is a unique teaching opportunity unlike any other! We offer a great salary\, amazing benefits and a moving allowance. Learn more! Join us with your questions and curiosity :)
UID:108919-21820582@events.umich.edu
URL:https://events.umich.edu/event/108919
CLASS:PUBLIC
STATUS:CONFIRMED
CATEGORIES:
LOCATION:
CONTACT:
END:VEVENT
END:VCALENDAR