BEGIN:VCALENDAR
VERSION:2.0
PRODID:-//UM//UM*Events//EN
CALSCALE:GREGORIAN
BEGIN:VTIMEZONE
TZID:America/Detroit
TZURL:http://tzurl.org/zoneinfo/America/Detroit
X-LIC-LOCATION:America/Detroit
BEGIN:DAYLIGHT
TZOFFSETFROM:-0500
TZOFFSETTO:-0400
TZNAME:EDT
DTSTART:20070311T020000
RRULE:FREQ=YEARLY;BYMONTH=3;BYDAY=2SU
END:DAYLIGHT
BEGIN:STANDARD
TZOFFSETFROM:-0400
TZOFFSETTO:-0500
TZNAME:EST
DTSTART:20071104T020000
RRULE:FREQ=YEARLY;BYMONTH=11;BYDAY=1SU
END:STANDARD
END:VTIMEZONE
BEGIN:VEVENT
DTSTAMP:20230502T101400
DTSTART;TZID=America/Detroit:20230802T200000
SUMMARY:Performance:Gaelic Storm
DESCRIPTION:“A whirlwind ruckus”—Village Voice\n \nGaelic Storm's sound mixes traditional Irish music with modern influences\, creating songs as wide-ranging as the band's own audience. From bluegrass fans and country cowboys to Deadheads\, rock & rollers\, and Celtic fanatics\, Gaelic Storm has built one of the most diverse fan bases in modern music. This band has spark and spirit that's only grown over their 20 years on the road and through an appearance in the blockbuster film \"Titanic.\" Gaelic Storm's music weaves influences from rock\, bluegrass\, Jamaican\, African\, and Middle Eastern music that may surprise those expecting purely traditional Celtic music. They make new Celtic music for today's world! Gaelic Storm comes to MIchigan with a new release\, “Go Climb a Tree.”\n\nPlease visit https://mutotix.umich.edu/4159/4160 for more detail.
UID:107895-21818366@events.umich.edu
URL:https://events.umich.edu/event/107895
CLASS:PUBLIC
STATUS:CONFIRMED
CATEGORIES:Ark,Mutotix
LOCATION:ARK Reserved
CONTACT:
END:VEVENT
BEGIN:VEVENT
DTSTAMP:20230731T124741
DTSTART;TZID=America/Detroit:20230802T200000
DTEND;TZID=America/Detroit:20230802T213000
SUMMARY:Social / Informal Gathering:Summer Virtual Game/Trivia Night
DESCRIPTION:Come join GUStO for a virtual trivia and game night! This is a great chance for incoming students in CLaSP to get to know people - and maybe even ask last minute questions before making the move to Ann Arbor. \n\nThere will be a prize for the winning team!\n\nFor the zoom link\, please email clasp-gusto@umich.edu.\nRSVP is not required but highly encouraged: https://forms.gle/bzkFzhMyjCX4DMuRA
UID:109572-21822314@events.umich.edu
URL:https://events.umich.edu/event/109572
CLASS:PUBLIC
STATUS:CONFIRMED
CATEGORIES:Student Org,Well-being,Undergraduate Students,Virtual,Social,Graduate and Professional Students,Games,Climate and Space Sciences and Engineering
LOCATION:Off Campus Location
CONTACT:
END:VEVENT
END:VCALENDAR