BEGIN:VCALENDAR
VERSION:2.0
PRODID:-//UM//UM*Events//EN
CALSCALE:GREGORIAN
BEGIN:VTIMEZONE
TZID:America/Detroit
TZURL:http://tzurl.org/zoneinfo/America/Detroit
X-LIC-LOCATION:America/Detroit
BEGIN:DAYLIGHT
TZOFFSETFROM:-0500
TZOFFSETTO:-0400
TZNAME:EDT
DTSTART:20070311T020000
RRULE:FREQ=YEARLY;BYMONTH=3;BYDAY=2SU
END:DAYLIGHT
BEGIN:STANDARD
TZOFFSETFROM:-0400
TZOFFSETTO:-0500
TZNAME:EST
DTSTART:20071104T020000
RRULE:FREQ=YEARLY;BYMONTH=11;BYDAY=1SU
END:STANDARD
END:VTIMEZONE
BEGIN:VEVENT
DTSTAMP:20230802T063106
DTSTART;TZID=America/Detroit:20230803T120000
DTEND;TZID=America/Detroit:20230803T124500
SUMMARY:Careers / Jobs:Join our tech talk with Dr. Tim Newman & you could win a $50 Amazon Gift Card!!
DESCRIPTION:We want to welcome Dr. Tim Newman to the guest speaker series!\n\nDr. Newman has his Ph’D in Electrical Engineering form the University of Kansas. He was an engineer with the Department of Defense for 8 yearsbefore moving onto his current position. He is currently the Vice President of Federal Partnerships at DeepSig. \n\nFounded in 2016\, DeepSig is a product-centric technology company using cutting edge machine learning techniques to develop revolutionary wireless processing software solutions totransform baseband processing\, wireless sensing\, and other key wirelessapplications. Replacing traditional algorithms with “deep learning\,”a proven technology in vision and speech processing now accelerates 5G network performance\, capacity\, operational efficiency\, and the customer experience.\n\nPlease join us Friday\, August 3rd at 12:00pm EST Dr. Newmanwill speaking on the future of AI. Please register at: https://manteltechnologies.activehosted.com/f/15\n\n
UID:109596-21822354@events.umich.edu
URL:https://events.umich.edu/event/109596
CLASS:PUBLIC
STATUS:CONFIRMED
CATEGORIES:
LOCATION:
CONTACT:
END:VEVENT
BEGIN:VEVENT
DTSTAMP:20230818T063106
DTSTART;TZID=America/Detroit:20230803T120000
DTEND;TZID=America/Detroit:20230803T130000
SUMMARY:Careers / Jobs:Resume Lab
DESCRIPTION:Just getting started building a resume? Have a draft but not sure how to make it better? Want to learn about resources available to revise your resume? Wherever you’re at Resume Lab is a great next step for you.\n\nGet real-time\, personalized support in a small group setting by checking out the Resume Lab. \n\nWe will discuss and educate you on…\n- Design and format\n- Writing a great bullet point\n- Targeting your resume for specific internships/jobs\n\nIf you're a Graduate Student or Recent Grad\, please make a 1:1 appointment instead of attending the Lab because this event is designed for undergraduates.
UID:107580-21816231@events.umich.edu
URL:https://events.umich.edu/event/107580
CLASS:PUBLIC
STATUS:CONFIRMED
CATEGORIES:
LOCATION:
CONTACT:
END:VEVENT
END:VCALENDAR