BEGIN:VCALENDAR
VERSION:2.0
PRODID:-//UM//UM*Events//EN
CALSCALE:GREGORIAN
BEGIN:VTIMEZONE
TZID:America/Detroit
TZURL:http://tzurl.org/zoneinfo/America/Detroit
X-LIC-LOCATION:America/Detroit
BEGIN:DAYLIGHT
TZOFFSETFROM:-0500
TZOFFSETTO:-0400
TZNAME:EDT
DTSTART:20070311T020000
RRULE:FREQ=YEARLY;BYMONTH=3;BYDAY=2SU
END:DAYLIGHT
BEGIN:STANDARD
TZOFFSETFROM:-0400
TZOFFSETTO:-0500
TZNAME:EST
DTSTART:20071104T020000
RRULE:FREQ=YEARLY;BYMONTH=11;BYDAY=1SU
END:STANDARD
END:VTIMEZONE
BEGIN:VEVENT
DTSTAMP:20240111T092357
DTSTART;TZID=America/Detroit:20230803T123000
DTEND;TZID=America/Detroit:20230803T131500
SUMMARY:Presentation:Sea Monsters
DESCRIPTION:The film follows a curious and adventurous Dolichorhynchops – familiarly known as a ‘dolly’ – as she travels through the most dangerous oceans in history. Along the way\, she encounters long-necked plesiosaurs\, giant turtles\, enormous fish\, fierce sharks\, and the most dangerous sea monster of all\, the mosasaur.\n\nThe state-of-the-art Planetarium & Dome Theater at the U-M Museum of Natural History transports visitors beyond distant stars and back in time from the comfort of reclining seats. Tickets $8. Tickets are available on the day of the show at the Museum Store.\n\nThe planetarium is operating at half capacity to maximize distancing between viewers.
UID:93123-21820836@events.umich.edu
URL:https://events.umich.edu/event/93123
CLASS:PUBLIC
STATUS:CONFIRMED
CATEGORIES:natural history museum,Natural Sciences,Science
LOCATION:Museum of Natural History
CONTACT:
END:VEVENT
BEGIN:VEVENT
DTSTAMP:20230818T123126
DTSTART;TZID=America/Detroit:20230803T130000
DTEND;TZID=America/Detroit:20230803T140000
SUMMARY:Careers / Jobs:A Day in the Life: Internships & EDGE
DESCRIPTION:Step into the exciting world of FINTECH with our informationalsession: “A Day in the Life of DTCC Intern/EDGE Analyst”. Join us as we deep dive into our early career programs (internship & full time) and learn what it’s like to work at DTCC. Gain unprecedented access to the day-to-day experiences of our current interns and EDGE Program participants.Get ready\, and don’t miss out\, to hear engaging stories and practicaladvice that will inspire and educate you about our Early Career Programs!
UID:109364-21821931@events.umich.edu
URL:https://events.umich.edu/event/109364
CLASS:PUBLIC
STATUS:CONFIRMED
CATEGORIES:
LOCATION:
CONTACT:
END:VEVENT
END:VCALENDAR