BEGIN:VCALENDAR
VERSION:2.0
PRODID:-//UM//UM*Events//EN
CALSCALE:GREGORIAN
BEGIN:VTIMEZONE
TZID:America/Detroit
TZURL:http://tzurl.org/zoneinfo/America/Detroit
X-LIC-LOCATION:America/Detroit
BEGIN:DAYLIGHT
TZOFFSETFROM:-0500
TZOFFSETTO:-0400
TZNAME:EDT
DTSTART:20070311T020000
RRULE:FREQ=YEARLY;BYMONTH=3;BYDAY=2SU
END:DAYLIGHT
BEGIN:STANDARD
TZOFFSETFROM:-0400
TZOFFSETTO:-0500
TZNAME:EST
DTSTART:20071104T020000
RRULE:FREQ=YEARLY;BYMONTH=11;BYDAY=1SU
END:STANDARD
END:VTIMEZONE
BEGIN:VEVENT
DTSTAMP:20230626T121755
DTSTART;TZID=America/Detroit:20230710T190000
DTEND;TZID=America/Detroit:20230710T200000
SUMMARY:Other:Zoe Lei plays the Baird Carillon: U-M Student Showcase
DESCRIPTION:Hong Kong carillonist and organist Zoe Lei performs at Burton Memorial Tower in our “2023: A Century of Women and the Carillon” summer concert series. All concerts are free and family-friendly!\nThis year’s series features performers from across the country and world playing the great 53-bell Charles Baird Carillon in Burton Tower. The carillon is an outdoor instrument\, and attendees are encouraged to bring picnic blankets\, chairs\, and anything else they’d like to feel comfortable. Concert programs and a carillon coloring book for kids are available from concert staff at or near the tower door. Restrooms are available in the Michigan League.\nThe nearest municipal parking structures are at 324 Maynard and at 510 E Washington. Street parking is limited.\nABOUT THE ARTIST:\nZoe Lei is finishing her doctoral studies in Sacred Music at the University of Michigan. She studies the organ with Nicole Keller\, previously studied with James Kibbie and Todd Wilson\, and received coaching from Aaron Tan. She also studies the carillon with Tiffany Ng and is an Associate Carillonneur member of the Guild of Carillonneurs in North America.\nZoe won second prize at the 2021 Hong Kong Young Organist Competition (American Guild of Organists)\, third prize at the 2022 Sursa Organ Competition\, and was the only recipient in the U-M School of Music\, Theatre & Dance of the Rackham International Student Fellowship in 2022. She was a semi-finalist for the 2022 National Young Artists Competition in Organ Performance (American Guild of Organists)\, and co-winner of the American Guild of Organists Commissioning Project (2021–2022). In 2021\, she was selected by “The Diapason” magazine for its annual “20 under 30” feature. Zoe serves as the assistant organist at Kirk in the Hills Presbyterian Church in Bloomfield Hills\, Michigan.
UID:108793-21820404@events.umich.edu
URL:https://events.umich.edu/event/108793
CLASS:PUBLIC
STATUS:CONFIRMED
CATEGORIES:
LOCATION:Burton Memorial Tower
CONTACT:
END:VEVENT
BEGIN:VEVENT
DTSTAMP:20230406T135949
DTSTART;TZID=America/Detroit:20230710T200000
SUMMARY:Performance:Marshall Crenshaw
DESCRIPTION:Cynical girls\, take note!\n \nCan anyone who was listening to new music in the 1980s forget the songs of Michigan’s own Marshall Crenshaw? To New Wave pop they brought country and R&B elements\, they brought romantic yearning\, they brought the craft of a true songwriter. Says Trouser Press: “Although he was seen as a latter-day Buddy Holly at the outset\, he soon proved too talented and original to be anyone but himself.” Unlike most of the acts of that era of youthful musical attitude\, Marshall Crenshaw is still going strong. These days the bespectacled romantic fool of the early 1980s is all grown up\, but with his fabulous songwriting chops undiminished--and even augmented a bit by jazz harmonies on occasion. \"Mixing old hits like \"Someday Someway\" and \"Whenever You're On My Mind\" with new songs\, Crenshaw showed that …he still has 'it\,'” wrote Roger Friedman of Fox News after attending a recent Crenshaw show. Come by and pick up a copy of Marshall’s new expanded reissue of the album “Miracle of Science”!  \n\n\n\nPlease visit https://mutotix.umich.edu/4088/4089 for more detail.
UID:107159-21815456@events.umich.edu
URL:https://events.umich.edu/event/107159
CLASS:PUBLIC
STATUS:CONFIRMED
CATEGORIES:Ark,Mutotix
LOCATION:ARK Reserved
CONTACT:
END:VEVENT
END:VCALENDAR