BEGIN:VCALENDAR
VERSION:2.0
PRODID:-//UM//UM*Events//EN
CALSCALE:GREGORIAN
BEGIN:VTIMEZONE
TZID:America/Detroit
TZURL:http://tzurl.org/zoneinfo/America/Detroit
X-LIC-LOCATION:America/Detroit
BEGIN:DAYLIGHT
TZOFFSETFROM:-0500
TZOFFSETTO:-0400
TZNAME:EDT
DTSTART:20070311T020000
RRULE:FREQ=YEARLY;BYMONTH=3;BYDAY=2SU
END:DAYLIGHT
BEGIN:STANDARD
TZOFFSETFROM:-0400
TZOFFSETTO:-0500
TZNAME:EST
DTSTART:20071104T020000
RRULE:FREQ=YEARLY;BYMONTH=11;BYDAY=1SU
END:STANDARD
END:VTIMEZONE
BEGIN:VEVENT
DTSTAMP:20230711T075827
DTSTART;TZID=America/Detroit:20230711T080000
DTEND;TZID=America/Detroit:20230711T090000
SUMMARY:Workshop / Seminar:AIM Seminar: Andre Souza
DESCRIPTION:TBA
UID:109063-21821019@events.umich.edu
URL:https://events.umich.edu/event/109063
CLASS:PUBLIC
STATUS:CONFIRMED
CATEGORIES:Mathematics
LOCATION:East Hall - 1084
CONTACT:
END:VEVENT
BEGIN:VEVENT
DTSTAMP:20230626T101606
DTSTART;TZID=America/Detroit:20230711T090000
DTEND;TZID=America/Detroit:20230711T170000
SUMMARY:Exhibition:Black Voices of Dignity
DESCRIPTION:This exhibit represents events in the \"Black Experience\" through 3-D recreations\, historical photographs\, art\, and sculptures. The exhibit acknowledges the struggle\, resilience\, and spirit of a maligned group of people\, then celebrates their many contributions and numerous achievements. \n\nJuly 11-12\, 2023 | 9 a.m.-5 p.m. \nInstitute for Social Research\n426 Thompson Street\, Room 1430
UID:108876-21820504@events.umich.edu
URL:https://events.umich.edu/event/108876
CLASS:PUBLIC
STATUS:CONFIRMED
CATEGORIES:African American,Diversity,Diversity Equity and Inclusion,Exhibition,Social Justice
LOCATION:Institute For Social Research - 1430
CONTACT:
END:VEVENT
END:VCALENDAR