BEGIN:VCALENDAR
VERSION:2.0
PRODID:-//UM//UM*Events//EN
CALSCALE:GREGORIAN
BEGIN:VTIMEZONE
TZID:America/Detroit
TZURL:http://tzurl.org/zoneinfo/America/Detroit
X-LIC-LOCATION:America/Detroit
BEGIN:DAYLIGHT
TZOFFSETFROM:-0500
TZOFFSETTO:-0400
TZNAME:EDT
DTSTART:20070311T020000
RRULE:FREQ=YEARLY;BYMONTH=3;BYDAY=2SU
END:DAYLIGHT
BEGIN:STANDARD
TZOFFSETFROM:-0400
TZOFFSETTO:-0500
TZNAME:EST
DTSTART:20071104T020000
RRULE:FREQ=YEARLY;BYMONTH=11;BYDAY=1SU
END:STANDARD
END:VTIMEZONE
BEGIN:VEVENT
DTSTAMP:20230516T181528
DTSTART;TZID=America/Detroit:20230804T140000
DTEND;TZID=America/Detroit:20230804T150000
SUMMARY:Livestream / Virtual:“Ask a Grad Student!”—Advice Panel for Incoming Students with Disabilities
DESCRIPTION:Grad School 101 invites you to attend our inaugural “Ask a Grad Student!”—Affinity Advice Week+!\nWe know that starting graduate school can be filled with many unknowns. We’re here to support you as you begin your new journey!\nOur “Ask a Grad Student!”—Affinity Advice Week+ offers over a week’s worth of advice panels for different affinity groups in Rackham. These panels are devoted to providing you with guidance on how to navigate your transition to graduate life here at Michigan. Each day\, we will focus on the experiences of a different affinity group within the Rackham community. The featured panelists will be graduate students of the particular affinity who have all been in your shoes.\nDuring the first half of our event\, the panelists will provide advice to general questions about the first year journey\, asked by our moderator. The second half of the event will be dedicated to a Q&A where you will have the opportunity to ask the panelists specific questions you may have.\nYou aren’t going to want to miss this opportunity! Make sure to sign up today!\nRegistration is required at https://myumi.ch/m71pE.\nWe want to ensure full and equitable participation in our events. If an accommodation would promote your full participation in this event\, please follow the registration link to indicate your accommodation requirements. Please let us know as soon as possible in order to have adequate time\, preferably one week\, to arrange for your requested accommodations or an effective alternative.
UID:108140-21818985@events.umich.edu
URL:https://events.umich.edu/event/108140
CLASS:PUBLIC
STATUS:CONFIRMED
CATEGORIES:Diversity,Graduate Students
LOCATION:Off Campus Location
CONTACT:
END:VEVENT
BEGIN:VEVENT
DTSTAMP:20240405T194239
DTSTART;TZID=America/Detroit:20230804T143000
DTEND;TZID=America/Detroit:20230804T151500
SUMMARY:Presentation:We Are Stars
DESCRIPTION:What are we made of? Where did it all come from? Explore the secrets of our cosmic chemistry and our explosive origins. Connect life on Earth to the evolution of the Universe by following the formation of hydrogen atoms to the synthesis of carbon\, and the molecules for life.\n\nThe state-of-the-art Planetarium & Dome Theater at the U-M Museum of Natural History transports visitors beyond distant stars and back in time from the comfort of reclining seats. Tickets $8. Tickets are available on the day of the show at the Museum Store.
UID:108577-21820974@events.umich.edu
URL:https://events.umich.edu/event/108577
CLASS:PUBLIC
STATUS:CONFIRMED
CATEGORIES:Astronomy,Museum,Natural Sciences,Science
LOCATION:Museum of Natural History
CONTACT:
END:VEVENT
END:VCALENDAR