BEGIN:VCALENDAR
VERSION:2.0
PRODID:-//UM//UM*Events//EN
CALSCALE:GREGORIAN
BEGIN:VTIMEZONE
TZID:America/Detroit
TZURL:http://tzurl.org/zoneinfo/America/Detroit
X-LIC-LOCATION:America/Detroit
BEGIN:DAYLIGHT
TZOFFSETFROM:-0500
TZOFFSETTO:-0400
TZNAME:EDT
DTSTART:20070311T020000
RRULE:FREQ=YEARLY;BYMONTH=3;BYDAY=2SU
END:DAYLIGHT
BEGIN:STANDARD
TZOFFSETFROM:-0400
TZOFFSETTO:-0500
TZNAME:EST
DTSTART:20071104T020000
RRULE:FREQ=YEARLY;BYMONTH=11;BYDAY=1SU
END:STANDARD
END:VTIMEZONE
BEGIN:VEVENT
DTSTAMP:20230601T141842
DTSTART;TZID=America/Detroit:20230805T100000
DTEND;TZID=America/Detroit:20230805T170000
SUMMARY:Exhibition:UN/EARTH
DESCRIPTION:Featuring work by Gina Gibson\, UN/EARTH explores science and art from a mile underground. Located in the former Homestake gold mine in Lead\, South Dakota\, the Sanford Underground Research Facility (SURF) houses experiments that give us a better understanding of the universe. The location—deep underground—provides a near-perfect environment for experiments that need to escape the constant bombardment of cosmic radiation\, which can interfere with the detection of rare physics events. Built in collaboration with the University of Michigan\, the LUX-Zeplin is the world’s most sensitive dark matter experiment. SURF also hosts experiments in biology\, geology and engineering.\n\nGina Gibson is an internationally exhibiting artist and professor of Graphic Design at Black Hills State University. In 2019\, Gibson became the first artist in residence at the Sanford Underground Research Facility. Gibson's work celebrates the search deep below the surface for beauty in the old and new\, the light and dark\, and the known and unknown.\n\nUN/EARTH was developed in collaboration with the U-M Department of Physics\, the Sanford Underground Research Facility and Black Hills State University.
UID:105121-21810962@events.umich.edu
URL:https://events.umich.edu/event/105121
CLASS:PUBLIC
STATUS:CONFIRMED
CATEGORIES:Museum,Art,Culture,Exhibition,Free,Natural Sciences,Science,Visual Arts
LOCATION:Museum of Natural History
CONTACT:
END:VEVENT
BEGIN:VEVENT
DTSTAMP:20230908T085204
DTSTART;TZID=America/Detroit:20230805T110000
DTEND;TZID=America/Detroit:20230805T112000
SUMMARY:Presentation:Science Forum Discovery Demos
DESCRIPTION:Join us in the Science Forum for 15-20 minute engaging science demonstrations that will help you see the world in a whole new way. Demonstrations are free and appropriate for visitors ages 5 and above. Schedule subject to change.\n\nNo demos on October 14th or 15th.\n\nHow to Become a Fossil\nExplore how fossils form and what parts of animals can become fossilized! How old are the earliest fossils? How old does something have to be before it is considered a fossil? You’ll touch some real fossils\, learn the different types of fossil evidence\, and discover what is necessary to become a fossil.  Finally\, we’ll discuss what kinds of things fossils can tell us\, and how fossil casts are made in the museum!
UID:95035-21820821@events.umich.edu
URL:https://events.umich.edu/event/95035
CLASS:PUBLIC
STATUS:CONFIRMED
CATEGORIES:Children,Family,Free,Museum,natural history museum,Natural Sciences,Science
LOCATION:Museum of Natural History
CONTACT:
END:VEVENT
END:VCALENDAR