BEGIN:VCALENDAR
VERSION:2.0
PRODID:-//UM//UM*Events//EN
CALSCALE:GREGORIAN
BEGIN:VTIMEZONE
TZID:America/Detroit
TZURL:http://tzurl.org/zoneinfo/America/Detroit
X-LIC-LOCATION:America/Detroit
BEGIN:DAYLIGHT
TZOFFSETFROM:-0500
TZOFFSETTO:-0400
TZNAME:EDT
DTSTART:20070311T020000
RRULE:FREQ=YEARLY;BYMONTH=3;BYDAY=2SU
END:DAYLIGHT
BEGIN:STANDARD
TZOFFSETFROM:-0400
TZOFFSETTO:-0500
TZNAME:EST
DTSTART:20071104T020000
RRULE:FREQ=YEARLY;BYMONTH=11;BYDAY=1SU
END:STANDARD
END:VTIMEZONE
BEGIN:VEVENT
DTSTAMP:20230503T125746
DTSTART;TZID=America/Detroit:20230805T150000
DTEND;TZID=America/Detroit:20230805T152000
SUMMARY:Presentation:Science Forum Discovery Demos
DESCRIPTION:Join us in the Science Forum for a 15-20 minute engaging science demonstration that will help you see the world in a whole new way. Demonstrations are free and appropriate for visitors ages 5 and above. Schedule subject to change.\n\nOut of the Water and Back Again: A Whale’s Tale\n\nTake a journey through deep time as we explore a story that has taken millions of years to unfold\, and then examine a brand new discovery! Where did life begin? How did the first four-footed land animals emerge? And why do fossil whales have feet? Participants examine the museum’s fossil whales and related species as they learn about the evolutionary processes responsible for the diversity of life on Earth.
UID:102010-21820827@events.umich.edu
URL:https://events.umich.edu/event/102010
CLASS:PUBLIC
STATUS:CONFIRMED
CATEGORIES:Children,Family,Free,Museum,Natural Sciences,Science
LOCATION:Museum of Natural History
CONTACT:
END:VEVENT
BEGIN:VEVENT
DTSTAMP:20230420T101054
DTSTART;TZID=America/Detroit:20230805T200000
SUMMARY:Performance:Al Bettis
DESCRIPTION:Acoustic soul and indie folk from Detroit\n \nSome label him as acoustic soul\, others as indie folk\, but what all can agree on is the undeniable gifting that's displayed once Al Bettis hits the stage. His style is soothing yet polished \,which makes it hard to believe he began singing and writing music at age 30.  \"I felt a call to begin to write music but I was confused because I'd never done that before. When I said\, 'I can't play an instrument\, Lord\,' He said\, 'Get a guitar...' and here we are today!\" Al says. Originating from Detroit\, Al Bettis has opened for such artists as Valerie June (at The Ark)\, Dwele\, and Leon Timbo. He has also been featured at the acclaimed Ford Arts\, Beats and Eats\, Detroit River Days\, Radio One\, the Michigan State Fair\, and the Meridian Winter Blast\, to name a few\, and he cites He cites artists like Ed Sheeran\, Leon Timbo\, Passenger\, City and Colour\, and Jason Mraz among his list of musical influences.\n\nPlease visit https://mutotix.umich.edu/4123/4124 for more detail.
UID:107649-21816318@events.umich.edu
URL:https://events.umich.edu/event/107649
CLASS:PUBLIC
STATUS:CONFIRMED
CATEGORIES:Ark,Mutotix
LOCATION:ARK Reserved
CONTACT:
END:VEVENT
END:VCALENDAR