BEGIN:VCALENDAR
VERSION:2.0
PRODID:-//UM//UM*Events//EN
CALSCALE:GREGORIAN
BEGIN:VTIMEZONE
TZID:America/Detroit
TZURL:http://tzurl.org/zoneinfo/America/Detroit
X-LIC-LOCATION:America/Detroit
BEGIN:DAYLIGHT
TZOFFSETFROM:-0500
TZOFFSETTO:-0400
TZNAME:EDT
DTSTART:20070311T020000
RRULE:FREQ=YEARLY;BYMONTH=3;BYDAY=2SU
END:DAYLIGHT
BEGIN:STANDARD
TZOFFSETFROM:-0400
TZOFFSETTO:-0500
TZNAME:EST
DTSTART:20071104T020000
RRULE:FREQ=YEARLY;BYMONTH=11;BYDAY=1SU
END:STANDARD
END:VTIMEZONE
BEGIN:VEVENT
DTSTAMP:20230822T123138
DTSTART;TZID=America/Detroit:20230807T170000
DTEND;TZID=America/Detroit:20230807T174500
SUMMARY:Careers / Jobs:Learn About Capital One's Analyst Program + Recruiter and Associate Q&A
DESCRIPTION:Curious about what working at Capital One is like? Maybe you're wondering what is an Analyst and what do they do? Join us for our Analyst info session to learn more!\n\nDuring this interactive info session and associate panel\, you'll learn more about working in unique\, but interconnected roles. This is also a great chance to hear more about #LifeatCapitalOne\, to ask questions about our exciting opportunities\, and to meet a few of our associates during the live Q&A\n\nPlease note: This event will be held on Brazen! We recommend logging in 5 minutes prior to the event to make sure your profile is set up.
UID:108594-21820185@events.umich.edu
URL:https://events.umich.edu/event/108594
CLASS:PUBLIC
STATUS:CONFIRMED
CATEGORIES:
LOCATION:
CONTACT:
END:VEVENT
BEGIN:VEVENT
DTSTAMP:20230822T123201
DTSTART;TZID=America/Detroit:20230807T180000
DTEND;TZID=America/Detroit:20230807T190000
SUMMARY:Careers / Jobs:Associate Q&A Panel
DESCRIPTION:We invite you to join us for an Associate Q&A Panel. This is intended to be a networking opportunity for rising seniors to connect with representatives from our firm and learn more about L.E.K.\, the Associate role\, and the recruiting process ahead of our application deadline.  To learn more about L.E.K. Consulting please also visit our website (www.lek.com) and advisor blog (ask.lek.com).\n\nThe application deadline for the undergraduate Associate role is August 11th.\n\nPlease note that L.E.K. Consulting is not able to consider candidates at the Associate level who wouldnow or in the future require sponsorship to work legally in the U.S.\n\nPlease register here: https://lek.zoom.us/meeting/register/tJ0qdOyqpj0pHddlD9EEfUSiB0urhDWZCd33
UID:109499-21822091@events.umich.edu
URL:https://events.umich.edu/event/109499
CLASS:PUBLIC
STATUS:CONFIRMED
CATEGORIES:
LOCATION:
CONTACT:
END:VEVENT
END:VCALENDAR