BEGIN:VCALENDAR
VERSION:2.0
PRODID:-//UM//UM*Events//EN
CALSCALE:GREGORIAN
BEGIN:VTIMEZONE
TZID:America/Detroit
TZURL:http://tzurl.org/zoneinfo/America/Detroit
X-LIC-LOCATION:America/Detroit
BEGIN:DAYLIGHT
TZOFFSETFROM:-0500
TZOFFSETTO:-0400
TZNAME:EDT
DTSTART:20070311T020000
RRULE:FREQ=YEARLY;BYMONTH=3;BYDAY=2SU
END:DAYLIGHT
BEGIN:STANDARD
TZOFFSETFROM:-0400
TZOFFSETTO:-0500
TZNAME:EST
DTSTART:20071104T020000
RRULE:FREQ=YEARLY;BYMONTH=11;BYDAY=1SU
END:STANDARD
END:VTIMEZONE
BEGIN:VEVENT
DTSTAMP:20230601T141842
DTSTART;TZID=America/Detroit:20230808T100000
DTEND;TZID=America/Detroit:20230808T170000
SUMMARY:Exhibition:UN/EARTH
DESCRIPTION:Featuring work by Gina Gibson\, UN/EARTH explores science and art from a mile underground. Located in the former Homestake gold mine in Lead\, South Dakota\, the Sanford Underground Research Facility (SURF) houses experiments that give us a better understanding of the universe. The location—deep underground—provides a near-perfect environment for experiments that need to escape the constant bombardment of cosmic radiation\, which can interfere with the detection of rare physics events. Built in collaboration with the University of Michigan\, the LUX-Zeplin is the world’s most sensitive dark matter experiment. SURF also hosts experiments in biology\, geology and engineering.\n\nGina Gibson is an internationally exhibiting artist and professor of Graphic Design at Black Hills State University. In 2019\, Gibson became the first artist in residence at the Sanford Underground Research Facility. Gibson's work celebrates the search deep below the surface for beauty in the old and new\, the light and dark\, and the known and unknown.\n\nUN/EARTH was developed in collaboration with the U-M Department of Physics\, the Sanford Underground Research Facility and Black Hills State University.
UID:105121-21810965@events.umich.edu
URL:https://events.umich.edu/event/105121
CLASS:PUBLIC
STATUS:CONFIRMED
CATEGORIES:Museum,Art,Culture,Exhibition,Free,Natural Sciences,Science,Visual Arts
LOCATION:Museum of Natural History
CONTACT:
END:VEVENT
BEGIN:VEVENT
DTSTAMP:20230501T123627
DTSTART;TZID=America/Detroit:20230808T110000
DTEND;TZID=America/Detroit:20230808T120000
SUMMARY:Workshop / Seminar:Parenting Through Separation and Divorce Virtual Workshop – Spring 2023
DESCRIPTION:Separation or divorce is difficult to handle in general — when children are in the mix\, it becomes that much more complex. Many parents are concerned about the well-being of their children during this time of change. This University Center for the Child and Family workshop delivers practical parenting advice in a collaborative\, caring environment for those going through change. We help parents understand their children’s needs during the transition and offer specific suggestions for creating the most beneficial post-divorce parenting relationships.\n\nThe program is an approved alternative to the SMILE Program by the Friend of the Court.\n\nWhat to Expect\n+ Practical\, actionable advice for couples going through a temporary or permanent split.\n+ A caring and collaborative environment for attendees facilitated by UCCF staff members.\n+ Guidance to help parents understand their children’s needs during what can be a tumultuous time of change and uncertainty.\n+A certificate of participation once the workshop is over.\n\nWhile it is free\, workshop participants must register via Eventbrite. You will be provided the link once your registration is confirmed.
UID:106606-21818355@events.umich.edu
URL:https://events.umich.edu/event/106606
CLASS:PUBLIC
STATUS:CONFIRMED
CATEGORIES:Children,Divorce,Free,parenting
LOCATION:Off Campus Location
CONTACT:
END:VEVENT
END:VCALENDAR