BEGIN:VCALENDAR
VERSION:2.0
PRODID:-//UM//UM*Events//EN
CALSCALE:GREGORIAN
BEGIN:VTIMEZONE
TZID:America/Detroit
TZURL:http://tzurl.org/zoneinfo/America/Detroit
X-LIC-LOCATION:America/Detroit
BEGIN:DAYLIGHT
TZOFFSETFROM:-0500
TZOFFSETTO:-0400
TZNAME:EDT
DTSTART:20070311T020000
RRULE:FREQ=YEARLY;BYMONTH=3;BYDAY=2SU
END:DAYLIGHT
BEGIN:STANDARD
TZOFFSETFROM:-0400
TZOFFSETTO:-0500
TZNAME:EST
DTSTART:20071104T020000
RRULE:FREQ=YEARLY;BYMONTH=11;BYDAY=1SU
END:STANDARD
END:VTIMEZONE
BEGIN:VEVENT
DTSTAMP:20230626T135307
DTSTART;TZID=America/Detroit:20230808T123000
DTEND;TZID=America/Detroit:20230808T143000
SUMMARY:Social / Informal Gathering:Stepping Off State Street: A Visit to the Kelsey Museum of Archaeology
DESCRIPTION:Ann Arbor is brimming with knowledge\, inside and outside of our classrooms. Come join fellow transfer students as we visit the Kelsey Museum of Archaeology for a guided tour for an hour\, then feel free to explore the museum as you please!  \n\nWe plan to meet at the Transfer Student Center (first floor of the LSA building\, 1180) by 12:30pm for refreshments and to walk next door to the museum. Can't wait to see you there!\n\nPlease register using link to the right as capacity for the tour is limited.
UID:108697-21820296@events.umich.edu
URL:https://events.umich.edu/event/108697
CLASS:PUBLIC
STATUS:CONFIRMED
CATEGORIES:Transfer Students
LOCATION:LSA Building - 1180 (Transfer Student Center)
CONTACT:
END:VEVENT
BEGIN:VEVENT
DTSTAMP:20230711T142614
DTSTART;TZID=America/Detroit:20230808T130000
DTEND;TZID=America/Detroit:20230808T160000
SUMMARY:Workshop / Seminar:AMIIBL WORKSHOP
DESCRIPTION:This workshop series will provide opportunities for participants to develop plans for developing and/or refining active learning instructional approaches. Generative discussion and collaboration around the development of classroom activities and instructional plans will be a central aspect of the workshop. We will engage with strategies and potential challenges for cultivating a strong and inclusive mathematics learning community.\n\nRegistration: https://docs.google.com/forms/d/e/1FAIpQLSehTjQXMs4982WOL6XHwJhs4MlWFhswqyD22cUy7TS1JlmKZg/viewform
UID:109073-21821039@events.umich.edu
URL:https://events.umich.edu/event/109073
CLASS:PUBLIC
STATUS:CONFIRMED
CATEGORIES:Diversity Equity And Inclusion,Mathematics
LOCATION:Off Campus Location
CONTACT:
END:VEVENT
END:VCALENDAR