BEGIN:VCALENDAR
VERSION:2.0
PRODID:-//UM//UM*Events//EN
CALSCALE:GREGORIAN
BEGIN:VTIMEZONE
TZID:America/Detroit
TZURL:http://tzurl.org/zoneinfo/America/Detroit
X-LIC-LOCATION:America/Detroit
BEGIN:DAYLIGHT
TZOFFSETFROM:-0500
TZOFFSETTO:-0400
TZNAME:EDT
DTSTART:20070311T020000
RRULE:FREQ=YEARLY;BYMONTH=3;BYDAY=2SU
END:DAYLIGHT
BEGIN:STANDARD
TZOFFSETFROM:-0400
TZOFFSETTO:-0500
TZNAME:EST
DTSTART:20071104T020000
RRULE:FREQ=YEARLY;BYMONTH=11;BYDAY=1SU
END:STANDARD
END:VTIMEZONE
BEGIN:VEVENT
DTSTAMP:20230714T121445
DTSTART;TZID=America/Detroit:20230808T130000
DTEND;TZID=America/Detroit:20230808T140000
SUMMARY:Presentation:More Money\, More Travel: Help Your Students Go Abroad with International Fellowships
DESCRIPTION:Please sign up for this Zoom event at: https://myumi.ch/W2nmb\n\nThe International Institute Fellowships and Grants Team is looking forward to providing our great funding opportunities again in AY 2023-2024. We know many of your students are excited to embark on international internships\, study abroad programs\, and other experiential opportunities but sometimes come up short on funding. That's where the Fellowships and Grants Team can support you! \n\nIf you are an advisor who seeks more information on the funding opportunities that exist for your jet-setting students\, we are holding an informational session on August 8th specifically for advisors to give you more information prior to the start of the school year.\n\nCan't make it? Don't sweat it! Please contact Melissa Vert at mjfvert@umich.edu\, and we will be happy to set up individual conversations to address your specific needs.\nIf there is anything we can do to make this event accessible to you\, please contact us at iifellowships@umich.edu. Please be aware that advance notice is necessary as some accommodations may require more time for the university to arrange.
UID:109119-21821091@events.umich.edu
URL:https://events.umich.edu/event/109119
CLASS:PUBLIC
STATUS:CONFIRMED
CATEGORIES:Faculty,Funding,Funding Opportunities,international,International Education,Students,Study Abroad
LOCATION:Off Campus Location
CONTACT:
END:VEVENT
BEGIN:VEVENT
DTSTAMP:20230817T150039
DTSTART;TZID=America/Detroit:20230808T140000
DTEND;TZID=America/Detroit:20230808T153000
SUMMARY:Workshop / Seminar:Generative AI Coast-to-Coast Webinar Series
DESCRIPTION:Are you wondering how Generative AI can boost your research productivity and help you with literature search\, code writing\, hypothesis generation\, data query\, and other things in your projects?\n\nJoin us to hear from prominent researchers who are using Generative AI to accelerate their research\, and their thoughts on ethical and technical issues with Generative AI when used in research.\n\nEach webinar will include extensive audience discussion time.\n\nParticipating institutions include Johns Hopkins University\; the Ohio State University\; Rice University\; the International Computer Science Institute at the University of California\, Berkeley\; University of Michigan\; and the University of Washington.\n\nMore information on our event page: https://midas.umich.edu/generative-ai-c2c/\n\nGenerative AI in Healthcare and Public Health\nAugust 8\, 2023\n2:00 - 3:30PM Eastern\n\nSpeakers: \nMark Dredze\, John C Malone Professor of Computer Science\, John Hopkins University\; Director of Research (Foundations of AI)\, JHU AI-X Foundry.\nTopic: Large Language Models in Medicine: Opportunities and Challenges\n\nAbraham D. Flaxman\, Associate Professor of Global Health\, Institute for Health Metrics and Evaluation (IHME)\, University of Washington\nTopic: Generative AI in Global Health Metrics: opportunities and risks in natural language processing\, AI-assisted data analysis\, and simulation modeling\n\n---\n\nGenerative AI in the Lab\nAugust 23\, 2023\, \n1:00 - 2:30PM Eastern\n\nSpeakers:\nXia Ning\, Professor\, Biomedical Informatics\, Computer Science and Engineering\, the Ohio State University\nTopic: Generative AI for Drug Discovery\n\nArlei Silva\, Assistance Professor\, Computer Science\, Rice University\nTopic: Generative Models for Graph Data: Challenges and Opportunities\n\nRegistration: https://umich.zoom.us/webinar/register/WN_xoxgdbQmRlWA5_KToOc4bg#/registration\n---\n\nPolicy\, Ethics\, and Generative AI\nAugust 28\, 2023\n1:00 - 2:30PM Eastern\n\nSpeakers: \nMarjory Blumenthal\, External Fellow\, International Computer Science Institute – University of California\, Berkeley\n\nMerve Hickok\, School of Information – University of Michigan\; President\, Center for AI & Digital Policy\; Founder\, AIethicist.org\n\nRegistration: https://umich.zoom.us/webinar/register/WN_7sjViomvRQajFdyn0XNczQ#/registration\n\n---\n\nAn Under the Hood Look at Generative AI: Potentials and Pitfalls\nAugust 31\, 2023\n3:00 - 4:30 PM Eastern\n\nSpeakers: \nDavid Evan Harris\, Senior Research Fellow\, International Computer Science Institute – University of California\, Berkeley\nTopic: Generative AI – What Could go wrong?\n\nRada Mihalcea\, Janice M Jenkins Collegiate Professor of Electrical Engineering and Computer Science\; Director\, Michigan Artificial Intelligence Laboratory\; University of Michigan\nTopic: Moving beyond one-size-fits-all in generative AI\n\nRegistration: https://umich.zoom.us/webinar/register/WN_VeUcghN0T8GOsgo8vau0kA#/registration
UID:109575-21822316@events.umich.edu
URL:https://events.umich.edu/event/109575
CLASS:PUBLIC
STATUS:CONFIRMED
CATEGORIES:Ai In Science And Engineering,Artificial Intelligence,Biomedical Engineering,Biosciences,Biostatistics,Computational Science,Computational Social Science,Culture,Data Science,Deep Learning,Discussion,Drug Discovery,Engineering,Ethics,Interdisciplinary,Law,Machine Learning,Medicine,Public Health,Public Policy,Science,Scientific Computing,Social Sciences,Technology,Virtual
LOCATION:Off Campus Location
CONTACT:
END:VEVENT
END:VCALENDAR