BEGIN:VCALENDAR
VERSION:2.0
PRODID:-//UM//UM*Events//EN
CALSCALE:GREGORIAN
BEGIN:VTIMEZONE
TZID:America/Detroit
TZURL:http://tzurl.org/zoneinfo/America/Detroit
X-LIC-LOCATION:America/Detroit
BEGIN:DAYLIGHT
TZOFFSETFROM:-0500
TZOFFSETTO:-0400
TZNAME:EDT
DTSTART:20070311T020000
RRULE:FREQ=YEARLY;BYMONTH=3;BYDAY=2SU
END:DAYLIGHT
BEGIN:STANDARD
TZOFFSETFROM:-0400
TZOFFSETTO:-0500
TZNAME:EST
DTSTART:20071104T020000
RRULE:FREQ=YEARLY;BYMONTH=11;BYDAY=1SU
END:STANDARD
END:VTIMEZONE
BEGIN:VEVENT
DTSTAMP:20230726T063045
DTSTART;TZID=America/Detroit:20230711T090000
DTEND;TZID=America/Detroit:20230711T100000
SUMMARY:Careers / Jobs:Webinar: Genentech's Postdoc Hiring Initiative (PHI)\, an Open Call for Postdocs
DESCRIPTION:This informational session is open to senior graduate students(PhD) who are looking for postdoctoral training opportunities. Come join us to learn more about the Genentech postdoc program\, the application process for the Postdoc Hiring Initiative (PHI) and meet current postdocs.
UID:108818-21820434@events.umich.edu
URL:https://events.umich.edu/event/108818
CLASS:PUBLIC
STATUS:CONFIRMED
CATEGORIES:
LOCATION:
CONTACT:
END:VEVENT
BEGIN:VEVENT
DTSTAMP:20230815T124634
DTSTART;TZID=America/Detroit:20230711T093000
DTEND;TZID=America/Detroit:20230711T110000
SUMMARY:Workshop / Seminar:CoderSpaces: Tuesdays Spring/Summer 2023
DESCRIPTION:Are you grappling with a piece of code\, trying to compute on a cluster\, or just getting started with a new method such as machine learning? Then we might have just the right space for you.\n\nAll members of the U-M community are invited to join our weekly virtual CoderSpaces to get research support and connect with others.\n\nTuesdays\, 9:30-11 a.m. ET\, via Zoom
UID:107936-21818464@events.umich.edu
URL:https://events.umich.edu/event/107936
CLASS:PUBLIC
STATUS:CONFIRMED
CATEGORIES:Data Science
LOCATION:Off Campus Location
CONTACT:
END:VEVENT
END:VCALENDAR