BEGIN:VCALENDAR
VERSION:2.0
PRODID:-//UM//UM*Events//EN
CALSCALE:GREGORIAN
BEGIN:VTIMEZONE
TZID:America/Detroit
TZURL:http://tzurl.org/zoneinfo/America/Detroit
X-LIC-LOCATION:America/Detroit
BEGIN:DAYLIGHT
TZOFFSETFROM:-0500
TZOFFSETTO:-0400
TZNAME:EDT
DTSTART:20070311T020000
RRULE:FREQ=YEARLY;BYMONTH=3;BYDAY=2SU
END:DAYLIGHT
BEGIN:STANDARD
TZOFFSETFROM:-0400
TZOFFSETTO:-0500
TZNAME:EST
DTSTART:20071104T020000
RRULE:FREQ=YEARLY;BYMONTH=11;BYDAY=1SU
END:STANDARD
END:VTIMEZONE
BEGIN:VEVENT
DTSTAMP:20230316T121536
DTSTART;TZID=America/Detroit:20230809T100000
DTEND;TZID=America/Detroit:20230809T113000
SUMMARY:Livestream / Virtual:Postdoctoral Orientation
DESCRIPTION:\nEach month\, an orientation session is offered for all new postdoctoral research fellows\, and those with a new postdoctoral research fellow appointment in the U-M HR system within the past two months at the University of Michigan. The orientation session includes information about the role of postdocs\, working with your P.I./supervisor\, campus resources\, benefits and vacation\, and membership in the U-M Postdoc Association.\nPlease note: if you have attended an orientation in the past\, there is no need to attend an additional one.\nRegistration is required at https://myumi.ch/XnQJy.\n\nWe want to ensure full and equitable participation in our events. If an accommodation would promote your full participation in this event\, please follow the registration link to indicate your accommodation requirements. Please let us know as soon as possible in order to have adequate time\, preferably one week\, to arrange for your requested accommodations or an effective alternative.
UID:106291-21814029@events.umich.edu
URL:https://events.umich.edu/event/106291
CLASS:PUBLIC
STATUS:CONFIRMED
CATEGORIES:Graduate Students
LOCATION:Off Campus Location
CONTACT:
END:VEVENT
BEGIN:VEVENT
DTSTAMP:20230601T141842
DTSTART;TZID=America/Detroit:20230809T100000
DTEND;TZID=America/Detroit:20230809T170000
SUMMARY:Exhibition:UN/EARTH
DESCRIPTION:Featuring work by Gina Gibson\, UN/EARTH explores science and art from a mile underground. Located in the former Homestake gold mine in Lead\, South Dakota\, the Sanford Underground Research Facility (SURF) houses experiments that give us a better understanding of the universe. The location—deep underground—provides a near-perfect environment for experiments that need to escape the constant bombardment of cosmic radiation\, which can interfere with the detection of rare physics events. Built in collaboration with the University of Michigan\, the LUX-Zeplin is the world’s most sensitive dark matter experiment. SURF also hosts experiments in biology\, geology and engineering.\n\nGina Gibson is an internationally exhibiting artist and professor of Graphic Design at Black Hills State University. In 2019\, Gibson became the first artist in residence at the Sanford Underground Research Facility. Gibson's work celebrates the search deep below the surface for beauty in the old and new\, the light and dark\, and the known and unknown.\n\nUN/EARTH was developed in collaboration with the U-M Department of Physics\, the Sanford Underground Research Facility and Black Hills State University.
UID:105121-21810966@events.umich.edu
URL:https://events.umich.edu/event/105121
CLASS:PUBLIC
STATUS:CONFIRMED
CATEGORIES:Free,Art,Exhibition,Culture,Museum,Natural Sciences,Science,Visual Arts
LOCATION:Museum of Natural History
CONTACT:
END:VEVENT
END:VCALENDAR